BEGIN:VCALENDAR
VERSION:2.0
PRODID:-//BiBisBo - Veranstaltungen von Biberach bis Bodensee - ECPv6.15.20//NONSGML v1.0//EN
CALSCALE:GREGORIAN
METHOD:PUBLISH
X-WR-CALNAME:BiBisBo - Veranstaltungen von Biberach bis Bodensee
X-ORIGINAL-URL:https://bibisbo.de
X-WR-CALDESC:Veranstaltungen für BiBisBo - Veranstaltungen von Biberach bis Bodensee
REFRESH-INTERVAL;VALUE=DURATION:PT1H
X-Robots-Tag:noindex
X-PUBLISHED-TTL:PT1H
BEGIN:VTIMEZONE
TZID:Europe/Berlin
BEGIN:DAYLIGHT
TZOFFSETFROM:+0100
TZOFFSETTO:+0200
TZNAME:CEST
DTSTART:20240331T010000
END:DAYLIGHT
BEGIN:STANDARD
TZOFFSETFROM:+0200
TZOFFSETTO:+0100
TZNAME:CET
DTSTART:20241027T010000
END:STANDARD
BEGIN:DAYLIGHT
TZOFFSETFROM:+0100
TZOFFSETTO:+0200
TZNAME:CEST
DTSTART:20250330T010000
END:DAYLIGHT
BEGIN:STANDARD
TZOFFSETFROM:+0200
TZOFFSETTO:+0100
TZNAME:CET
DTSTART:20251026T010000
END:STANDARD
BEGIN:DAYLIGHT
TZOFFSETFROM:+0100
TZOFFSETTO:+0200
TZNAME:CEST
DTSTART:20260329T010000
END:DAYLIGHT
BEGIN:STANDARD
TZOFFSETFROM:+0200
TZOFFSETTO:+0100
TZNAME:CET
DTSTART:20261025T010000
END:STANDARD
END:VTIMEZONE
BEGIN:VEVENT
DTSTART;TZID=Europe/Berlin:20250809T000000
DTEND;TZID=Europe/Berlin:20250811T235959
DTSTAMP:20260421T181438
CREATED:20250330T205506Z
LAST-MODIFIED:20251007T070547Z
UID:133-1754697600-1754956799@bibisbo.de
SUMMARY:Marktplatz Kino Ehingen 2025: Open-Air Filmvergnügen für die ganze Familie
DESCRIPTION:Die Stadt Ehingen lädt gemeinsam mit dem Central Center Kino zum beliebten Marktplatz Kino ein – ein sommerliches Highlight für Filmfans jeden Alters! An drei aufeinanderfolgenden Abenden verwandelt sich der Marktplatz Ehingen in ein stimmungsvolles Open-Air-Kino. Vom 9. August bis zum 11. August 2025 können Sie unter freiem Himmel packende Blockbuster\, herzerwärmende Komödien und einen zauberhaften Kinderfilm genießen – und das alles bei freiem Eintritt! \nSommerliche Atmosphäre und kulinarische Genüsse\nSchon bevor die Dunkelheit hereinbricht und die Filme über die Leinwand flimmern\, erwartet die Besucher eine gesellige Atmosphäre auf dem Marktplatz. Lokale Gastronomen sorgen mit leckeren Speisen und Getränken für das leibliche Wohl. Nutzen Sie die Gelegenheit\, Freunde und Bekannte zu treffen und den Sommerabend entspannt einzuläuten. Das Marktplatz Kino ist mehr als nur eine Filmvorführung – es ist ein kleines Festival der guten Laune mitten in Ehingen. \nFilmprogramm für Jung und Alt\nDas sorgfältig ausgewählte Filmprogramm bietet für jeden Geschmack etwas. Freuen Sie sich auf aktuelle Blockbuster\, die Sie in ihren Bann ziehen\, lachen Sie Tränen bei den neuesten Komödien und erleben Sie mit Ihren Kleinsten unvergessliche Momente beim Kinderfilm. Das Marktplatz Kino verspricht unterhaltsame Stunden für die ganze Familie. \nSchlechtwetter-Alternative im Central Center Kino\nAuch wenn das Wetter einmal nicht mitspielen sollte\, ist das Filmvergnügen in Ehingen gesichert. Für diesen Fall gibt es einen Plan B: Die Filme werden dann im gemütlichen Ambiente des Central Center Kino gezeigt. Die endgültige Entscheidung über den Veranstaltungsort wird jeweils am Nachmittag des Veranstaltungstages getroffen und rechtzeitig auf der Webseite der Stadt Ehingen unter www.ehingen.de/marktplatzkino bekannt gegeben. Bleiben Sie außerdem über den Instagram-Kanal stadt_ehingen_donau auf dem Laufenden. \nVerpassen Sie nicht das Marktplatz Kino 2025 in Ehingen – ein kostenloses Open-Air-Kinoerlebnis\, das für unvergessliche Sommerabende sorgt!
URL:https://bibisbo.de/event/marktplatz-kino-ehingen-2025-open-air-filmvergnuegen-fuer-die-ganze-familie/
LOCATION:Ehingen Innenstadt\, Marktplatz\, Ehingen (Donau)\, 89584\, Germany
CATEGORIES:Alb-Donau-Kreis,Ehingen (Donau)
END:VEVENT
BEGIN:VEVENT
DTSTART;TZID=Europe/Berlin:20250810T170000
DTEND;TZID=Europe/Berlin:20250810T230000
DTSTAMP:20260421T181438
CREATED:20250411T094546Z
LAST-MODIFIED:20251007T070545Z
UID:1557-1754845200-1754866800@bibisbo.de
SUMMARY:Schlossgarten Open Air Tettnang: GOTTHARD + KROKUS rocken den Sommer
DESCRIPTION:Erlebe am Sonntag\, den 10. August 2025\, ein unvergessliches Open-Air-Konzert im malerischen Schlossgarten Tettnang. Von 17 bis 23 Uhr präsentieren die Schweizer Rocklegenden GOTTHARD und KROKUS ihre größten Hits vor der beeindruckenden Kulisse des Neuen Schlosses. Ein Muss für alle Rockfans in der Region Bodensee! \nRocklegenden im Schlossgarten\nFreue dich auf energiegeladene Performances und eine mitreißende Stimmung. Das Regionalwerk Bodensee Schlossgarten Open Air verspricht einen unvergesslichen Sommerabend.
URL:https://bibisbo.de/event/schlossgarten-open-air-tettnang-gotthard-krokus/
LOCATION:Tettnang Neues Schloss\, Montfortplatz 1\, Tettnang\, 88069\, Germany
CATEGORIES:Bodenseekreis,Tettnang
END:VEVENT
END:VCALENDAR