BEGIN:VCALENDAR
VERSION:2.0
PRODID:-//BiBisBo - Veranstaltungen von Biberach bis Bodensee - ECPv6.15.20//NONSGML v1.0//EN
CALSCALE:GREGORIAN
METHOD:PUBLISH
X-ORIGINAL-URL:https://bibisbo.de
X-WR-CALDESC:Veranstaltungen für BiBisBo - Veranstaltungen von Biberach bis Bodensee
REFRESH-INTERVAL;VALUE=DURATION:PT1H
X-Robots-Tag:noindex
X-PUBLISHED-TTL:PT1H
BEGIN:VTIMEZONE
TZID:Europe/Berlin
BEGIN:DAYLIGHT
TZOFFSETFROM:+0100
TZOFFSETTO:+0200
TZNAME:CEST
DTSTART:20240331T010000
END:DAYLIGHT
BEGIN:STANDARD
TZOFFSETFROM:+0200
TZOFFSETTO:+0100
TZNAME:CET
DTSTART:20241027T010000
END:STANDARD
BEGIN:DAYLIGHT
TZOFFSETFROM:+0100
TZOFFSETTO:+0200
TZNAME:CEST
DTSTART:20250330T010000
END:DAYLIGHT
BEGIN:STANDARD
TZOFFSETFROM:+0200
TZOFFSETTO:+0100
TZNAME:CET
DTSTART:20251026T010000
END:STANDARD
BEGIN:DAYLIGHT
TZOFFSETFROM:+0100
TZOFFSETTO:+0200
TZNAME:CEST
DTSTART:20260329T010000
END:DAYLIGHT
BEGIN:STANDARD
TZOFFSETFROM:+0200
TZOFFSETTO:+0100
TZNAME:CET
DTSTART:20261025T010000
END:STANDARD
END:VTIMEZONE
BEGIN:VEVENT
DTSTART;TZID=Europe/Berlin:20251018T100000
DTEND;TZID=Europe/Berlin:20251018T140000
DTSTAMP:20260421T003907
CREATED:20250408T201318Z
LAST-MODIFIED:20251007T070457Z
UID:1354-1760781600-1760796000@bibisbo.de
SUMMARY:Ehrenamtsmesse Tettnang 2025: Engagier dich!
DESCRIPTION:Save the Date: Am 18. Oktober 2025 findet von 10:00 bis 14:00 Uhr im Neuen Schloss Tettnang eine Ehrenamtsmesse statt. \nEntdecke deine Möglichkeiten: Die Stadt Tettnang lädt herzlich ein\, sich über vielfältige Engagementbereiche zu informieren. Merken Sie sich diesen Termin vor – weitere Informationen folgen!
URL:https://bibisbo.de/event/ehrenamtsmesse-tettnang-2025/
LOCATION:Tettnang Neues Schloss\, Montfortplatz 1\, Tettnang\, 88069\, Germany
CATEGORIES:Bodenseekreis,Tettnang
END:VEVENT
END:VCALENDAR