BEGIN:VCALENDAR
VERSION:2.0
PRODID:-//BiBisBo - Veranstaltungen von Biberach bis Bodensee - ECPv6.15.20//NONSGML v1.0//EN
CALSCALE:GREGORIAN
METHOD:PUBLISH
X-WR-CALNAME:BiBisBo - Veranstaltungen von Biberach bis Bodensee
X-ORIGINAL-URL:https://bibisbo.de
X-WR-CALDESC:Veranstaltungen für BiBisBo - Veranstaltungen von Biberach bis Bodensee
REFRESH-INTERVAL;VALUE=DURATION:PT1H
X-Robots-Tag:noindex
X-PUBLISHED-TTL:PT1H
BEGIN:VTIMEZONE
TZID:Europe/Berlin
BEGIN:DAYLIGHT
TZOFFSETFROM:+0100
TZOFFSETTO:+0200
TZNAME:CEST
DTSTART:20240331T010000
END:DAYLIGHT
BEGIN:STANDARD
TZOFFSETFROM:+0200
TZOFFSETTO:+0100
TZNAME:CET
DTSTART:20241027T010000
END:STANDARD
BEGIN:DAYLIGHT
TZOFFSETFROM:+0100
TZOFFSETTO:+0200
TZNAME:CEST
DTSTART:20250330T010000
END:DAYLIGHT
BEGIN:STANDARD
TZOFFSETFROM:+0200
TZOFFSETTO:+0100
TZNAME:CET
DTSTART:20251026T010000
END:STANDARD
BEGIN:DAYLIGHT
TZOFFSETFROM:+0100
TZOFFSETTO:+0200
TZNAME:CEST
DTSTART:20260329T010000
END:DAYLIGHT
BEGIN:STANDARD
TZOFFSETFROM:+0200
TZOFFSETTO:+0100
TZNAME:CET
DTSTART:20261025T010000
END:STANDARD
END:VTIMEZONE
BEGIN:VEVENT
DTSTART;TZID=Europe/Berlin:20251122T000000
DTEND;TZID=Europe/Berlin:20251123T000000
DTSTAMP:20260422T074317
CREATED:20251103T094422Z
LAST-MODIFIED:20251103T094422Z
UID:3096-1763769600-1763856000@bibisbo.de
SUMMARY:Adventsmarkt in Schemmerhofen 2025
DESCRIPTION:Der traditionelle Adventsmarkt Schemmerhofen lädt am Wochenende vom Samstag\, den 22. November\, bis Sonntag\, den 23. November 2025\, zum vorweihnachtlichen Bummel ein. Die stimmungsvolle Veranstaltung findet in und vor der Mühlbachhalle Schemmerhofen statt. \nHandwerk und Kulinarisches\nBesucherinnen und Besucher dürfen sich auf einen Markt mit einer Vielzahl von Ständen freuen. Hier werden überwiegend selbst hergestellte Geschenkwaren und regionale Produkte präsentiert\, die zum Stöbern und Kaufen einladen. Auch für das leibliche Wohl ist mit verschiedenen kulinarischen Köstlichkeiten\, darunter süßen und deftigen Speisen sowie Glühwein\, bestens gesorgt. Die Gemeinde Schemmerhofen organisiert diesen beliebten Markt\, der ideal ist\, um sich in die festliche Adventszeit einzustimmen.
URL:https://bibisbo.de/event/adventsmarkt-in-schemmerhofen-2025/
CATEGORIES:Landkreis Biberach,Schemmerhofen
END:VEVENT
BEGIN:VEVENT
DTSTART;TZID=Europe/Berlin:20251129T000000
DTEND;TZID=Europe/Berlin:20251129T000000
DTSTAMP:20260422T074317
CREATED:20251103T094424Z
LAST-MODIFIED:20251103T094424Z
UID:3090-1764374400-1764374400@bibisbo.de
SUMMARY:Winterglühen: Vorweihnachtsabend in Aßmannshardt 2025
DESCRIPTION:Am Samstag\, den 29. November 2025\, lädt der Dorfladen gemeinsam mit den örtlichen Vereinen zum stimmungsvollen Winterglühen auf den Dorfplatz Aßmannshardt ein. Dieser gemütliche Vorweihnachtsabend dient traditionell als perfekte Einstimmung in die Adventszeit und verwandelt den Dorfplatz in eine winterliche Begegnungsstätte. \nGemütliches Beisammensein zur Adventszeit\nBesucherinnen und Besucher können sich auf eine herzliche Atmosphäre freuen\, die von wärmenden Feuerschalen und festlicher Dekoration geprägt ist. Die Veranstalter sorgen mit Glühwein\, Punsch und verschiedenen Speisen für das leibliche Wohl. Das Winterglühen ist eine schöne Gelegenheit für die Dorfgemeinschaft und Gäste\, zusammenzukommen\, sich auszutauschen und die Vorfreude auf die Feiertage zu genießen.
URL:https://bibisbo.de/event/wintergluehen-vorweihnachtsabend-in-assmannshardt-2025/
CATEGORIES:Landkreis Biberach,Schemmerhofen
END:VEVENT
BEGIN:VEVENT
DTSTART;TZID=Europe/Berlin:20251129T140000
DTEND;TZID=Europe/Berlin:20251130T180000
DTSTAMP:20260422T074317
CREATED:20251107T073548Z
LAST-MODIFIED:20251107T073548Z
UID:3276-1764424800-1764525600@bibisbo.de
SUMMARY:Salemer Weihnachtsmarkt 2025 im Kloster und Schloss Salem
DESCRIPTION:Der traditionsreiche Salemer Weihnachtsmarkt lädt am ersten Adventswochenende\, dem 29. und 30. November 2025\, in die prächtige Anlage von Kloster und Schloss Salem ein. Dieser Markt gilt als einer der schönsten der Region und verbindet festliche Weihnachtsstimmung mit einer einzigartigen historischen Kulisse. Der Eintritt ist an beiden Tagen kostenfrei. \nFestliche Atmosphäre und vielfältiges Angebot \nWeihnachtlich geschmückte Stände im Schloss und am gotischen Münster bieten liebevoll gefertigte Einzelstücke\, Geschenke sowie Kunsthandwerk wie Holz-\, Korb- und Keramikwaren\, Spielzeug und Christbaumschmuck. Für das leibliche Wohl sorgen örtliche Vereine mit duftendem Gebäck\, wärmenden Getränken und regionalen Spezialitäten\, die den Markt in einen köstlichen Duft hüllen. Geöffnet ist am Samstag von 14:00 bis 21:00 Uhr und am Sonntag von 11:00 bis 18:00 Uhr. \nRahmenprogramm für Groß und Klein \nNeben dem bunten Marktangebot erwartet die Besucherinnen und Besucher ein abwechslungsreiches Programm. Am Samstagabend lädt Münsterorganist Patrick Brugger um 17:00 Uhr zu einem stimmungsvollen Orgelkonzert in die Klosterkirche ein. Am Sonntag bringt die Puppenbühne Ostrach um 12:30 und 13:45 Uhr Kinderaugen zum Leuchten. Ein besonderes Highlight für die kleinen Gäste ist der Besuch des Nikolaus um 15:00 Uhr. \nZudem haben Gäste die Möglichkeit\, bei einem winterlichen Rundgang die beeindruckende Klosteranlage mit Münster und Kreuzgang zu erkunden und mehr über das frühere Leben der Mönche zu erfahren.
URL:https://bibisbo.de/event/salemer-weihnachtsmarkt-2025-im-kloster-und-schloss-salem/
LOCATION:Salem Schloss\, Schloss Salem\, Salem\, 88682\, Germany
CATEGORIES:Bodenseekreis,Salem
END:VEVENT
END:VCALENDAR