BEGIN:VCALENDAR
VERSION:2.0
PRODID:-//BiBisBo - Veranstaltungen von Biberach bis Bodensee - ECPv6.15.20//NONSGML v1.0//EN
CALSCALE:GREGORIAN
METHOD:PUBLISH
X-ORIGINAL-URL:https://bibisbo.de
X-WR-CALDESC:Veranstaltungen für BiBisBo - Veranstaltungen von Biberach bis Bodensee
REFRESH-INTERVAL;VALUE=DURATION:PT1H
X-Robots-Tag:noindex
X-PUBLISHED-TTL:PT1H
BEGIN:VTIMEZONE
TZID:Europe/Berlin
BEGIN:DAYLIGHT
TZOFFSETFROM:+0100
TZOFFSETTO:+0200
TZNAME:CEST
DTSTART:20240331T010000
END:DAYLIGHT
BEGIN:STANDARD
TZOFFSETFROM:+0200
TZOFFSETTO:+0100
TZNAME:CET
DTSTART:20241027T010000
END:STANDARD
BEGIN:DAYLIGHT
TZOFFSETFROM:+0100
TZOFFSETTO:+0200
TZNAME:CEST
DTSTART:20250330T010000
END:DAYLIGHT
BEGIN:STANDARD
TZOFFSETFROM:+0200
TZOFFSETTO:+0100
TZNAME:CET
DTSTART:20251026T010000
END:STANDARD
BEGIN:DAYLIGHT
TZOFFSETFROM:+0100
TZOFFSETTO:+0200
TZNAME:CEST
DTSTART:20260329T010000
END:DAYLIGHT
BEGIN:STANDARD
TZOFFSETFROM:+0200
TZOFFSETTO:+0100
TZNAME:CET
DTSTART:20261025T010000
END:STANDARD
END:VTIMEZONE
BEGIN:VEVENT
DTSTART;TZID=Europe/Berlin:20251205T160000
DTEND;TZID=Europe/Berlin:20251205T200000
DTSTAMP:20260422T084220
CREATED:20251107T073544Z
LAST-MODIFIED:20251107T073544Z
UID:3273-1764950400-1764964800@bibisbo.de
SUMMARY:Weihnachtsmarkt in Seekirch
DESCRIPTION:Der Sportplatz in Seekirch verwandelt sich am Freitag\, den 5. Dezember 2025\, ab 16:00 Uhr in einen stimmungsvollen Treffpunkt. Der Verein Eintracht Seekirch e.V. lädt herzlich zum jährlichen Weihnachtsmarkt ein. \nMarktzauber und Christbäume \nBesucherinnen und Besucher dürfen sich auf gemütliche Marktstände freuen\, die erste weihnachtliche Stimmung verbreiten. Ein besonderes Highlight ist der Christbaumverkauf\, bei dem Sie Ihren perfekten Baum für das Fest finden können. Nutzen Sie die Gelegenheit\, um in festlicher Atmosphäre die Vorweihnachtszeit einzuläuten.
URL:https://bibisbo.de/event/weihnachtsmarkt-in-seekirch/
LOCATION:Seekirch\, Seekirch\, 88422\, Germany
CATEGORIES:Seekirch
END:VEVENT
BEGIN:VEVENT
DTSTART;TZID=Europe/Berlin:20251206T120000
DTEND;TZID=Europe/Berlin:20251221T170000
DTSTAMP:20260422T084220
CREATED:20251103T094426Z
LAST-MODIFIED:20251103T094426Z
UID:3098-1765022400-1766336400@bibisbo.de
SUMMARY:Zauberhafter Weihnachtsmarkt auf der Bregenzer Hütte 2025
DESCRIPTION:Die Bregenzer Hütte in Schwarzenberg lädt an jedem Adventswochenende im Dezember 2025 zu einem stimmungsvollen Weihnachtsmarkt ein. Jeweils samstags und sonntags\, vom 6. bis zum 21. Dezember\, können Besucherinnen und Besucher zwischen 12:00 und 17:00 Uhr die vorweihnachtliche Atmosphäre am Klausberg genießen. \nAlpiner Charme und Handgemachtes\nDas Team der Bregenzer Hütte verzaubert die Gäste mit liebevoll zubereiteten Schmankerln sowie wärmenden Getränken wie Glühwein\, Glühmost und Jagertee. An den Ständen lassen sich kleine\, handgemachte Schätze entdecken\, die im Laufe des Jahres mit viel Liebe gestaltet wurden – ideal zum Stöbern und als Geschenkidee. Am 6. Dezember wartet zudem eine besondere Überraschung auf die jungen Gäste: Der Nikolaus verteilt kleine Säckchen an die Kinder. Genießen Sie die gemütliche Atmosphäre hoch über Schwarzenberg.
URL:https://bibisbo.de/event/zauberhafter-weihnachtsmarkt-auf-der-bregenzer-huette-2025/
CATEGORIES:Schwarzenberg,Vorarlberg in Österreich
END:VEVENT
BEGIN:VEVENT
DTSTART;TZID=Europe/Berlin:20251211T170000
DTEND;TZID=Europe/Berlin:20251221T210000
DTSTAMP:20260422T084220
CREATED:20251103T092945Z
LAST-MODIFIED:20251103T092945Z
UID:3105-1765472400-1766350800@bibisbo.de
SUMMARY:Weihnachtsmarkt Warth am 11.\, 18. & 21. Dezember 2025
DESCRIPTION:Der charmante Dorfplatz in Warth verwandelt sich in der Adventszeit in ein funkelndes Winterwunderland. Besucherinnen und Besucher sind herzlich eingeladen\, die weihnachtliche Magie an gleich drei Abenden zu erleben: am Donnerstag\, den 11. Dezember\, Donnerstag\, den 18. Dezember\, und Sonntag\, den 21. Dezember 2025\, jeweils von 17:00 bis 21:00 Uhr. Hier schlagen die Herzen höher\, und die Vorfreude auf das Weihnachtsfest wird spürbar. \nHandwerk\, Genuss und Festliche Klänge\nFestlich geschmückte Stände laden zum gemütlichen Schlendern und Entdecken ein. Lokale Aussteller präsentieren ein liebevoll ausgewähltes Angebot an handgefertigten Geschenken\, zauberhaften Dekorationen und besonderen Schätzen. Kulinarische Schmankerl wie frisch Gebackenes\, warmer Punsch und herzhafte Spezialitäten verführen die Sinne. Die stimmungsvollen Klänge einer Alphorngruppe sorgen für musikalische Höhepunkte. Am letzten Marktabend am 21. Dezember begeistert zusätzlich die Kindertrachtengruppe Warth mit einem bezaubernden Tanz. \nEntspannte Anreise und Kinderüberraschung\nEin besonderes Highlight für die kleinen Gäste ist der fröhliche Schneemann Pauli\, der an allen Abenden eine süße Überraschung verteilt. Um einen rundum sorglosen Besuch zu gewährleisten\, stehen kostenlose Zu- und Heimbringer-Busse zwischen Warth und Schröcken zur Verfügung. Tauchen Sie ein in dieses festliche Erlebnis für die ganze Familie auf dem Dorfplatz Warth.
URL:https://bibisbo.de/event/weihnachtsmarkt-warth-2025/
LOCATION:Warth\, Dorfplatz\, Warth\, 6767\, Austria
CATEGORIES:Vorarlberg in Österreich,Warth
END:VEVENT
BEGIN:VEVENT
DTSTART;TZID=Europe/Berlin:20251213T000000
DTEND;TZID=Europe/Berlin:20251213T000000
DTSTAMP:20260422T084220
CREATED:20251103T091246Z
LAST-MODIFIED:20251103T091246Z
UID:3086-1765584000-1765584000@bibisbo.de
SUMMARY:Adventsmarkt Eberhardzell 2025
DESCRIPTION:Am Samstag\, den 13. Dezember\, und Sonntag\, den 14. Dezember 2025\, lädt die Gemeinde Eberhardzell zum traditionellen Adventsmarkt ein. Die stimmungsvolle Veranstaltung findet im malerischen Innenhof des Rathauses statt. Besucherinnen und Besucher erwartet ein gemütlicher Markt mit einer Auswahl an weihnachtlichen Artikeln\, Geschenkideen und kulinarischen Köstlichkeiten. Der Adventsmarkt Eberhardzell bietet die ideale Gelegenheit\, innezuhalten und die Vorfreude auf das Weihnachtsfest zu genießen.
URL:https://bibisbo.de/event/adventsmarkt-eberhardzell-2025/
CATEGORIES:Eberhardzell,Landkreis Biberach
END:VEVENT
BEGIN:VEVENT
DTSTART;TZID=Europe/Berlin:20251219T000000
DTEND;TZID=Europe/Berlin:20251219T000000
DTSTAMP:20260422T084220
CREATED:20251103T085304Z
LAST-MODIFIED:20251103T090316Z
UID:3085-1766102400-1766102400@bibisbo.de
SUMMARY:Besinnliche Waldweihnacht Oberessendorf 2025
DESCRIPTION:Am 19. Dezember 2025 lädt die Dorfgemeinschaft Oberessendorf e.V. zur stimmungsvollen Waldweihnacht an der Eligius-Kapelle am Waldrand ein. Besucherinnen und Besucher erwartet ein einzigartiges Adventserlebnis inmitten der Natur. \nEinzigartiges Adventserlebnis\nDie Veranstaltung bietet eine wunderbare Gelegenheit\, die Hektik der Vorweihnachtszeit hinter sich zu lassen und in besinnlicher Atmosphäre zusammenzukommen. Die Dorfgemeinschaft sorgt für eine festliche Gestaltung und lädt alle Gäste herzlich ein\, diesen besonderen Abend am Waldrand mitzuerleben.
URL:https://bibisbo.de/event/waldweihnacht-oberessendorf-2025/
CATEGORIES:Landkreis Biberach,Oberessendorf
END:VEVENT
END:VCALENDAR