BEGIN:VCALENDAR
VERSION:2.0
PRODID:-//BiBisBo - Veranstaltungen von Biberach bis Bodensee - ECPv6.15.20//NONSGML v1.0//EN
CALSCALE:GREGORIAN
METHOD:PUBLISH
X-ORIGINAL-URL:https://bibisbo.de
X-WR-CALDESC:Veranstaltungen für BiBisBo - Veranstaltungen von Biberach bis Bodensee
REFRESH-INTERVAL;VALUE=DURATION:PT1H
X-Robots-Tag:noindex
X-PUBLISHED-TTL:PT1H
BEGIN:VTIMEZONE
TZID:Europe/Berlin
BEGIN:DAYLIGHT
TZOFFSETFROM:+0100
TZOFFSETTO:+0200
TZNAME:CEST
DTSTART:20250330T010000
END:DAYLIGHT
BEGIN:STANDARD
TZOFFSETFROM:+0200
TZOFFSETTO:+0100
TZNAME:CET
DTSTART:20251026T010000
END:STANDARD
BEGIN:DAYLIGHT
TZOFFSETFROM:+0100
TZOFFSETTO:+0200
TZNAME:CEST
DTSTART:20260329T010000
END:DAYLIGHT
BEGIN:STANDARD
TZOFFSETFROM:+0200
TZOFFSETTO:+0100
TZNAME:CET
DTSTART:20261025T010000
END:STANDARD
BEGIN:DAYLIGHT
TZOFFSETFROM:+0100
TZOFFSETTO:+0200
TZNAME:CEST
DTSTART:20270328T010000
END:DAYLIGHT
BEGIN:STANDARD
TZOFFSETFROM:+0200
TZOFFSETTO:+0100
TZNAME:CET
DTSTART:20271031T010000
END:STANDARD
END:VTIMEZONE
BEGIN:VEVENT
DTSTART;TZID=Europe/Berlin:20260228T100000
DTEND;TZID=Europe/Berlin:20260301T170000
DTSTAMP:20260423T211026
CREATED:20250412T101544Z
LAST-MODIFIED:20251029T150022Z
UID:1706-1772272800-1772384400@bibisbo.de
SUMMARY:Bauplus Biberach 2026
DESCRIPTION:Die Bauplus Biberach öffnet vom 28. Februar bis 01. März 2026 ihre Tore in der Stadthalle Biberach. \nHier trifft sich die Branche \nRund 70 Aussteller präsentieren auf 2.000 m² Fläche ein breites Spektrum an Produkten und Dienstleistungen rund ums Bauen\, Renovieren\, Sanieren und Finanzieren. Besucher finden hier kompetente Ansprechpartner für individuelle Lösungen\, von Spezialbaustoffen bis zu Fertighäusern\, von energieeffizientem Bauen bis zu Smart-Home-Technologien. \nNeubau und Sanierung \nDie Messe bietet umfassende Informationen zu Bauweisen\, Materialien und Dienstleistern. Hier können sich angehende Bauherren und Sanierer inspirieren lassen und konkrete Pläne schmieden. \nEnergietechnik und Effizienz \nIm Fokus stehen Lösungen für energieeffizientes Bauen und Wohnen\, von modernen Heizsystemen bis zu Photovoltaik und Smart-Home-Technologien. \nFinanzierung \nExperten beraten zu Finanzierungsoptionen und Fördermöglichkeiten\, um das Bauprojekt optimal zu gestalten. \nWohnen und Einrichten \nHandwerker und Einrichtungsexperten zeigen\, wie man das Zuhause noch schöner und behaglicher gestalten kann. \nHaus- und Sicherheitstechnik \nDie Messe präsentiert moderne Sicherheitstechnik und Smart-Home-Lösungen für ein sicheres Zuhause. \nVortragsforum \nFachvorträge informieren über aktuelle Trends und Entwicklungen in den Bereichen Bauen\, Sanieren und Finanzieren. \nStadthalle Biberach \nDie zentrale Lage der Stadthalle in Biberach an der Riß ermöglicht eine bequeme Anreise mit öffentlichen Verkehrsmitteln oder dem Auto. \nÖffnungszeiten: Täglich von 10:00 bis 17:00 Uhr
URL:https://bibisbo.de/event/bauplus-biberach-2026/
LOCATION:Biberach an der Riß Stadthalle\, Theaterstrasse 4-8\, Biberach an der Riß\, 88400\, Germany
CATEGORIES:Biberach an der Riß,Landkreis Biberach
END:VEVENT
END:VCALENDAR