BEGIN:VCALENDAR
VERSION:2.0
PRODID:-//BiBisBo - Veranstaltungen von Biberach bis Bodensee - ECPv6.15.20//NONSGML v1.0//EN
CALSCALE:GREGORIAN
METHOD:PUBLISH
X-WR-CALNAME:BiBisBo - Veranstaltungen von Biberach bis Bodensee
X-ORIGINAL-URL:https://bibisbo.de
X-WR-CALDESC:Veranstaltungen für BiBisBo - Veranstaltungen von Biberach bis Bodensee
REFRESH-INTERVAL;VALUE=DURATION:PT1H
X-Robots-Tag:noindex
X-PUBLISHED-TTL:PT1H
BEGIN:VTIMEZONE
TZID:Europe/Berlin
BEGIN:DAYLIGHT
TZOFFSETFROM:+0100
TZOFFSETTO:+0200
TZNAME:CEST
DTSTART:20240331T010000
END:DAYLIGHT
BEGIN:STANDARD
TZOFFSETFROM:+0200
TZOFFSETTO:+0100
TZNAME:CET
DTSTART:20241027T010000
END:STANDARD
BEGIN:DAYLIGHT
TZOFFSETFROM:+0100
TZOFFSETTO:+0200
TZNAME:CEST
DTSTART:20250330T010000
END:DAYLIGHT
BEGIN:STANDARD
TZOFFSETFROM:+0200
TZOFFSETTO:+0100
TZNAME:CET
DTSTART:20251026T010000
END:STANDARD
BEGIN:DAYLIGHT
TZOFFSETFROM:+0100
TZOFFSETTO:+0200
TZNAME:CEST
DTSTART:20260329T010000
END:DAYLIGHT
BEGIN:STANDARD
TZOFFSETFROM:+0200
TZOFFSETTO:+0100
TZNAME:CET
DTSTART:20261025T010000
END:STANDARD
END:VTIMEZONE
BEGIN:VEVENT
DTSTART;TZID=Europe/Berlin:20250822T000000
DTEND;TZID=Europe/Berlin:20250824T235959
DTSTAMP:20260424T191702
CREATED:20250406T093615Z
LAST-MODIFIED:20251007T070536Z
UID:1124-1755820800-1756079999@bibisbo.de
SUMMARY:ENERGETIKA Kressbronn 2025: die Alternative Gesundheitsmesse am Bodensee
DESCRIPTION:Die ENERGETIKA Kressbronn am Bodensee präsentiert sich vom 22. bis 24. August 2025 als informative Alternative Gesundheitsmesse in der Festhalle Kressbronn. Besucher\, die neue Impulse für ihre innere Balance suchen\, finden hier ein vielfältiges Angebot. Die Messe deckt ein breites Spektrum ab\, von Gesundheitsvorsorge und Alternativmedizin über Kinesiologie und Naturmedizin bis hin zu Naturkosmetik und Nahrungsergänzung. \nVielfalt für Körper\, Geist und Seele\nNeben dem Fokus auf Gesundheitsthemen bietet die ENERGETIKA auch Inspirationen für Schönheit und Lifestyle. Entdecken Sie Mode\, Schmuck\, Brillen und Kosmetik. Zudem präsentieren Künstler ihre kreativen Werke aus Holz\, Stoff und anderen Materialien. An drei interessanten Messetagen erwartet die Besucher ein abwechslungsreiches Programm mit innovativen Vorträgen. Die ENERGETIKA in Kressbronn am Bodensee lädt herzlich dazu ein\, sich inspirieren und beraten zu lassen.
URL:https://bibisbo.de/event/energetika-kressbronn-2025-die-alternative-gesundheitsmesse-am-bodensee/
LOCATION:Kressbronn Festhalle\, Hauptstraße 39\, Kressbronn\, Germany
CATEGORIES:Bodenseekreis,Kressbronn
END:VEVENT
END:VCALENDAR