BEGIN:VCALENDAR
VERSION:2.0
PRODID:-//BiBisBo - Veranstaltungen von Biberach bis Bodensee - ECPv6.15.20//NONSGML v1.0//EN
CALSCALE:GREGORIAN
METHOD:PUBLISH
X-WR-CALNAME:BiBisBo - Veranstaltungen von Biberach bis Bodensee
X-ORIGINAL-URL:https://bibisbo.de
X-WR-CALDESC:Veranstaltungen für BiBisBo - Veranstaltungen von Biberach bis Bodensee
REFRESH-INTERVAL;VALUE=DURATION:PT1H
X-Robots-Tag:noindex
X-PUBLISHED-TTL:PT1H
BEGIN:VTIMEZONE
TZID:Europe/Berlin
BEGIN:DAYLIGHT
TZOFFSETFROM:+0100
TZOFFSETTO:+0200
TZNAME:CEST
DTSTART:20240331T010000
END:DAYLIGHT
BEGIN:STANDARD
TZOFFSETFROM:+0200
TZOFFSETTO:+0100
TZNAME:CET
DTSTART:20241027T010000
END:STANDARD
BEGIN:DAYLIGHT
TZOFFSETFROM:+0100
TZOFFSETTO:+0200
TZNAME:CEST
DTSTART:20250330T010000
END:DAYLIGHT
BEGIN:STANDARD
TZOFFSETFROM:+0200
TZOFFSETTO:+0100
TZNAME:CET
DTSTART:20251026T010000
END:STANDARD
BEGIN:DAYLIGHT
TZOFFSETFROM:+0100
TZOFFSETTO:+0200
TZNAME:CEST
DTSTART:20260329T010000
END:DAYLIGHT
BEGIN:STANDARD
TZOFFSETFROM:+0200
TZOFFSETTO:+0100
TZNAME:CET
DTSTART:20261025T010000
END:STANDARD
END:VTIMEZONE
BEGIN:VEVENT
DTSTART;TZID=Europe/Berlin:20251129T120000
DTEND;TZID=Europe/Berlin:20251129T210000
DTSTAMP:20260424T021641
CREATED:20251006T115548Z
LAST-MODIFIED:20251029T150053Z
UID:2591-1764417600-1764450000@bibisbo.de
SUMMARY:Christkindlesmarkt Altshausen 2025
DESCRIPTION:Der Christkindlesmarkt Altshausen lädt am Wochenende des 29. und 30. November 2025 auf den Marktplatz ein und stimmt Besucher festlich auf die Weihnachtszeit ein. Organisiert von der AGV Altshausen\, präsentiert der Markt traditionelle Handwerkskunst\, winterliche Köstlichkeiten und eine warme\, vorweihnachtliche Atmosphäre. Gäste können an den Ständen stöbern\, Geschenke entdecken und die festliche Beleuchtung genießen. Der Christkindlesmarkt ist der perfekte Ort\, um in Altshausen die Adventszeit zu begrüßen. \nEntdecken Sie weitere Termine für Weihnachtsmärkte in der Region.
URL:https://bibisbo.de/event/christkindlesmarkt-altshausen-2025/
LOCATION:Altshausen Innenstadt\, Altshausen\, 88361\, Germany
CATEGORIES:Altshausen,Landkreis Ravensburg
END:VEVENT
END:VCALENDAR