BEGIN:VCALENDAR
VERSION:2.0
PRODID:-//BiBisBo - Veranstaltungen von Biberach bis Bodensee - ECPv6.15.20//NONSGML v1.0//EN
CALSCALE:GREGORIAN
METHOD:PUBLISH
X-ORIGINAL-URL:https://bibisbo.de
X-WR-CALDESC:Veranstaltungen für BiBisBo - Veranstaltungen von Biberach bis Bodensee
REFRESH-INTERVAL;VALUE=DURATION:PT1H
X-Robots-Tag:noindex
X-PUBLISHED-TTL:PT1H
BEGIN:VTIMEZONE
TZID:Europe/Berlin
BEGIN:DAYLIGHT
TZOFFSETFROM:+0100
TZOFFSETTO:+0200
TZNAME:CEST
DTSTART:20240331T010000
END:DAYLIGHT
BEGIN:STANDARD
TZOFFSETFROM:+0200
TZOFFSETTO:+0100
TZNAME:CET
DTSTART:20241027T010000
END:STANDARD
BEGIN:DAYLIGHT
TZOFFSETFROM:+0100
TZOFFSETTO:+0200
TZNAME:CEST
DTSTART:20250330T010000
END:DAYLIGHT
BEGIN:STANDARD
TZOFFSETFROM:+0200
TZOFFSETTO:+0100
TZNAME:CET
DTSTART:20251026T010000
END:STANDARD
BEGIN:DAYLIGHT
TZOFFSETFROM:+0100
TZOFFSETTO:+0200
TZNAME:CEST
DTSTART:20260329T010000
END:DAYLIGHT
BEGIN:STANDARD
TZOFFSETFROM:+0200
TZOFFSETTO:+0100
TZNAME:CET
DTSTART:20261025T010000
END:STANDARD
END:VTIMEZONE
BEGIN:VEVENT
DTSTART;TZID=Europe/Berlin:20251019T110000
DTEND;TZID=Europe/Berlin:20251019T140000
DTSTAMP:20260420T013638
CREATED:20250403T183731Z
LAST-MODIFIED:20251014T142804Z
UID:328-1760871600-1760882400@bibisbo.de
SUMMARY:Biberacher Genießerlauf 2025: Laufen und Genuss für alle!
DESCRIPTION:Am 19. Oktober 2025 ist es wieder soweit: Der beliebte Biberacher Genießerlauf geht in seine 7. Runde! Von 11:00 bis 14:00 Uhr verwandelt sich Biberach an der Riß erneut in eine attraktive Laufstrecke für alle\, die sportliche Betätigung mit kulinarischen Genüssen verbinden möchten. \nDie Strecken: Halbmarathon oder Staffel \nTeilnehmer haben die Wahl zwischen dem anspruchsvollen BKK VerbundPlus-Halbmarathon und der abwechslungsreichen 2 x 8 Kilometer Kreissparkasse Biberach-Staffel. Start und Ziel beider Distanzen befinden sich auf dem malerischen Marktplatz. Die Strecke führt durch reizvolle Landschaften über das Wolfental\, Voggenreute\, Ingoldingen und Grodt zurück in die Innenstadt. Die Wechselzone für die Staffelläufer befindet sich in Reute. \nGenuss und Preise entlang der Strecke \nEntlang der Strecke und im Zielbereich auf dem Marktplatz sorgen die engagierten Lauffreunde Biberach e.V. für ein vielfältiges Angebot an Köstlichkeiten. Nach dem Lauf erwartet die erfolgreichen Teilnehmer eine feierliche Siegerehrung mit attraktiven Preisen. \nSeien Sie dabei! Erleben Sie die einzigartige Kombination aus sportlicher Herausforderung und regionalen Spezialitäten beim Biberacher Genießerlauf 2025.
URL:https://bibisbo.de/event/biberacher-geniesserlauf-2025/
LOCATION:Biberach Innenstadt\, Marktplatz\, Biberach an der Riß\, 88422\, Germany
CATEGORIES:Biberach an der Riß,Landkreis Biberach
END:VEVENT
END:VCALENDAR