BEGIN:VCALENDAR
VERSION:2.0
PRODID:-//BiBisBo - Veranstaltungen von Biberach bis Bodensee - ECPv6.15.20//NONSGML v1.0//EN
CALSCALE:GREGORIAN
METHOD:PUBLISH
X-ORIGINAL-URL:https://bibisbo.de
X-WR-CALDESC:Veranstaltungen für BiBisBo - Veranstaltungen von Biberach bis Bodensee
REFRESH-INTERVAL;VALUE=DURATION:PT1H
X-Robots-Tag:noindex
X-PUBLISHED-TTL:PT1H
BEGIN:VTIMEZONE
TZID:Europe/Berlin
BEGIN:DAYLIGHT
TZOFFSETFROM:+0100
TZOFFSETTO:+0200
TZNAME:CEST
DTSTART:20240331T010000
END:DAYLIGHT
BEGIN:STANDARD
TZOFFSETFROM:+0200
TZOFFSETTO:+0100
TZNAME:CET
DTSTART:20241027T010000
END:STANDARD
BEGIN:DAYLIGHT
TZOFFSETFROM:+0100
TZOFFSETTO:+0200
TZNAME:CEST
DTSTART:20250330T010000
END:DAYLIGHT
BEGIN:STANDARD
TZOFFSETFROM:+0200
TZOFFSETTO:+0100
TZNAME:CET
DTSTART:20251026T010000
END:STANDARD
BEGIN:DAYLIGHT
TZOFFSETFROM:+0100
TZOFFSETTO:+0200
TZNAME:CEST
DTSTART:20260329T010000
END:DAYLIGHT
BEGIN:STANDARD
TZOFFSETFROM:+0200
TZOFFSETTO:+0100
TZNAME:CET
DTSTART:20261025T010000
END:STANDARD
END:VTIMEZONE
BEGIN:VEVENT
DTSTART;TZID=Europe/Berlin:20250427T120000
DTEND;TZID=Europe/Berlin:20250427T170000
DTSTAMP:20260425T162608
CREATED:20250403T071734Z
LAST-MODIFIED:20250703T093537Z
UID:530-1745755200-1745773200@bibisbo.de
SUMMARY:Kinderflohmarkt Bad Schussenried am verkaufsoffenen Sonntag (27.04.2025)
DESCRIPTION:Buntes Treiben für kleine Händler und Schnäppchenjäger\nAm Sonntag\, den 27. April 2025\, lädt Bad Schussenried von 12:00 bis 17:00 Uhr zum beliebten Kinderflohmarkt ein. Parallel zum verkaufsoffenen Sonntag in Bad Schussenried bietet sich hier eine tolle Gelegenheit für Kinder\, ihre gebrauchten Schätze anzubieten. Egal ob Spielzeug\, CDs\, Inliner\, Bücher oder Kinderkleidung – hier findet alles eine neue Besitzerin oder einen neuen Besitzer. \nJetzt Standplatz sichern!\nWer selbst einen Stand betreiben möchte\, kann sich bei der Touristinfo anmelden. Für eine geringe Standgebühr von 5\,00 Euro erhalten kleine Händler ca. 5 Meter Platz. Die Zuteilung der Standplätze erfolgt durch die Touristinfo vor Ort. Anmeldungen sind möglich unter Tel. 07583/9401-171 oder per E-Mail an info@touristinfo-bs.de.
URL:https://bibisbo.de/event/kinderflohmarkt-bad-schussenried-2025/
LOCATION:Bad Schussenried Innenstadt\, Bad Schussenried\, 88427\, Germany
CATEGORIES:Bad Schussenried,Landkreis Biberach
END:VEVENT
END:VCALENDAR