BEGIN:VCALENDAR
VERSION:2.0
PRODID:-//BiBisBo - Veranstaltungen von Biberach bis Bodensee - ECPv6.15.20//NONSGML v1.0//EN
CALSCALE:GREGORIAN
METHOD:PUBLISH
X-WR-CALNAME:BiBisBo - Veranstaltungen von Biberach bis Bodensee
X-ORIGINAL-URL:https://bibisbo.de
X-WR-CALDESC:Veranstaltungen für BiBisBo - Veranstaltungen von Biberach bis Bodensee
REFRESH-INTERVAL;VALUE=DURATION:PT1H
X-Robots-Tag:noindex
X-PUBLISHED-TTL:PT1H
BEGIN:VTIMEZONE
TZID:Europe/Berlin
BEGIN:DAYLIGHT
TZOFFSETFROM:+0100
TZOFFSETTO:+0200
TZNAME:CEST
DTSTART:20240331T010000
END:DAYLIGHT
BEGIN:STANDARD
TZOFFSETFROM:+0200
TZOFFSETTO:+0100
TZNAME:CET
DTSTART:20241027T010000
END:STANDARD
BEGIN:DAYLIGHT
TZOFFSETFROM:+0100
TZOFFSETTO:+0200
TZNAME:CEST
DTSTART:20250330T010000
END:DAYLIGHT
BEGIN:STANDARD
TZOFFSETFROM:+0200
TZOFFSETTO:+0100
TZNAME:CET
DTSTART:20251026T010000
END:STANDARD
BEGIN:DAYLIGHT
TZOFFSETFROM:+0100
TZOFFSETTO:+0200
TZNAME:CEST
DTSTART:20260329T010000
END:DAYLIGHT
BEGIN:STANDARD
TZOFFSETFROM:+0200
TZOFFSETTO:+0100
TZNAME:CET
DTSTART:20261025T010000
END:STANDARD
END:VTIMEZONE
BEGIN:VEVENT
DTSTART;TZID=Europe/Berlin:20250615T000000
DTEND;TZID=Europe/Berlin:20250615T235959
DTSTAMP:20260423T054133
CREATED:20250403T202243Z
LAST-MODIFIED:20250703T121339Z
UID:794-1749945600-1750031999@bibisbo.de
SUMMARY:Austria-Vinyl Schallplatten- & CD-Börse Dornbirn 2025 – Das Musik-Mekka für Vinyl-Liebhaber
DESCRIPTION:Die Austria-Vinyl Schallplatten- & CD-Börse in Dornbirn ist ein Muss für alle Musikbegeisterten und Vinyl-Sammler. Am 15. Juni 2025 verwandelt sich die Messe Dornbirn in Österreichs größte Schallplatten- und CD-Börse. Hier präsentieren zahlreiche Aussteller ein riesiges Angebot an Schallplatten\, CDs und DVDs aller Musikrichtungen. \nWas erwartet dich? \n\nVielfalt: Egal ob Rock\, Pop\, Jazz\, Metal oder Schlager – hier findest du Schätze aus allen Musikgenres.\nSammlerstücke: Entdecke seltene Vinyl-Platten\, limitierte CDs und begehrte Fanartikel.\nAustausch: Triff Gleichgesinnte\, tausche dich mit anderen Musikliebhabern aus und erweitere deine Sammlung.\n\nTermin\, Ort und Anreise: \n\nDatum: 15. Juni 2025 (Sonntag)\nOrt: Messe Dornbirn\, Messeplatz 1\, A-6854 Dornbirn\nDie Messe Dornbirn ist gut mit öffentlichen Verkehrsmitteln und dem Auto erreichbar.
URL:https://bibisbo.de/event/austria-vinyl-schallplatten-cd-boerse-dornbirn-2025/
LOCATION:Dornbirn Messe\, Messeplatz 1\, Dornbirn\, 6854\, Austria
CATEGORIES:Dornbirn,Vorarlberg in Österreich
END:VEVENT
BEGIN:VEVENT
DTSTART;TZID=Europe/Berlin:20250628T090000
DTEND;TZID=Europe/Berlin:20250628T150000
DTSTAMP:20260423T054133
CREATED:20250412T095222Z
LAST-MODIFIED:20250703T121327Z
UID:1701-1751101200-1751122800@bibisbo.de
SUMMARY:Bücherflohmarkt Friedrichshafen im Juni 2025
DESCRIPTION:Am Samstag\, den 28. Juni 2025\, verwandelt sich die Turn- und Festhalle in Friedrichshafen von 9:00 bis 15:00 Uhr in ein Paradies für Bücherwürmer. Der beliebte Bücherflohmarkt von Amnesty International lädt zum Stöbern und Entdecken ein. Über 20.000 Bücher\, sortiert in 30 Rubriken\, sowie CDs\, DVDs\, Schallplatten\, Puzzles und Kinderspiele warten auf neue Besitzer. Das Besondere: Die Bücher werden zu Kilopreisen verkauft. Der Erlös unterstützt die wichtige Menschenrechtsarbeit von Amnesty International. Wer möchte\, kann an diesem Tag auch gerne gut erhaltene Bücher spenden. \nVeranstaltungsort: \n\nTurn- und Festhalle\, Scheffelstraße 16\, 88045 Friedrichshafen\n\nVeranstalter: \n\nAmnesty International Friedrichshafen
URL:https://bibisbo.de/event/buecherflohmarkt-friedrichshafen-im-juni-2025/
LOCATION:Friedrichshafen Turn- und Festhalle\, Scheffelstraße 16\, Friedrichshafen\, 88045\, Germany
CATEGORIES:Bodenseekreis,Friedrichshafen
END:VEVENT
END:VCALENDAR