BEGIN:VCALENDAR
VERSION:2.0
PRODID:-//BiBisBo - Veranstaltungen von Biberach bis Bodensee - ECPv6.15.20//NONSGML v1.0//EN
CALSCALE:GREGORIAN
METHOD:PUBLISH
X-WR-CALNAME:BiBisBo - Veranstaltungen von Biberach bis Bodensee
X-ORIGINAL-URL:https://bibisbo.de
X-WR-CALDESC:Veranstaltungen für BiBisBo - Veranstaltungen von Biberach bis Bodensee
REFRESH-INTERVAL;VALUE=DURATION:PT1H
X-Robots-Tag:noindex
X-PUBLISHED-TTL:PT1H
BEGIN:VTIMEZONE
TZID:Europe/Berlin
BEGIN:DAYLIGHT
TZOFFSETFROM:+0100
TZOFFSETTO:+0200
TZNAME:CEST
DTSTART:20240331T010000
END:DAYLIGHT
BEGIN:STANDARD
TZOFFSETFROM:+0200
TZOFFSETTO:+0100
TZNAME:CET
DTSTART:20241027T010000
END:STANDARD
BEGIN:DAYLIGHT
TZOFFSETFROM:+0100
TZOFFSETTO:+0200
TZNAME:CEST
DTSTART:20250330T010000
END:DAYLIGHT
BEGIN:STANDARD
TZOFFSETFROM:+0200
TZOFFSETTO:+0100
TZNAME:CET
DTSTART:20251026T010000
END:STANDARD
BEGIN:DAYLIGHT
TZOFFSETFROM:+0100
TZOFFSETTO:+0200
TZNAME:CEST
DTSTART:20260329T010000
END:DAYLIGHT
BEGIN:STANDARD
TZOFFSETFROM:+0200
TZOFFSETTO:+0100
TZNAME:CET
DTSTART:20261025T010000
END:STANDARD
END:VTIMEZONE
BEGIN:VEVENT
DTSTART;TZID=Europe/Berlin:20250814T170000
DTEND;TZID=Europe/Berlin:20250814T220000
DTSTAMP:20260421T021716
CREATED:20250330T221757Z
LAST-MODIFIED:20251007T070543Z
UID:172-1755190800-1755208800@bibisbo.de
SUMMARY:FN:POP – MEUTE\, Fritz Kalkbrenner & Cari Cari: Elektronische Klänge am See am 14.August 2025
DESCRIPTION:Am Donnerstag\, den 14. August 2025 verwandelt sich das Freigelände des Graf-Zeppelin-Hauses (GZH) in Friedrichshafen ab 17:00 Uhr in eine pulsierende Open-Air-Bühne. FN:POP – die beliebte Konzertreihe am Bodensee – geht in die nächste Runde und präsentiert in diesem Jahr erstmals ein dreitägiges Festivalerlebnis. \nElektronische Beats treffen auf Live-Instrumente\nDer Auftaktabend am Donnerstag verspricht eine faszinierende Mischung aus elektronischer Musik und energiegeladenen Live-Performances. Freuen Sie sich auf die einzigartige Hamburger Band MEUTE\, die mit ihrer ungewöhnlichen Kombination aus Blasorchester und treibenden Techno-Beats weltweit für Furore sorgt. Ihre energiegeladenen Auftritte sind ein absolutes Muss für jeden Musikliebhaber. \nAls weiterer Headliner wird Fritz Kalkbrenner die Bühne betreten. Der Berliner DJ und Produzent ist bekannt für seine melodischen und tiefgründigen elektronischen Klänge\, die zum Träumen und Tanzen einladen. Seine Hits haben ihn zu einem festen Bestandteil der internationalen House-Szene gemacht. \nDen Abend eröffnen wird das österreichische Indie-Rock-Duo Cari Cari. Mit ihrem unverkennbaren Sound\, der von rauen Gitarrenriffs und charismatischen Vocals geprägt ist\, werden sie das Publikum in ihren Bann ziehen und perfekt auf die kommenden Acts einstimmen. \nFN:POP wächst weiter: Konzerte am See und im Kulturhaus Caserne\nNach zwei erfolgreichen Jahren erweitert FN:POP sein Angebot und findet 2025 erstmals an drei Tagen statt. Das Open-Air-Event am Augustwochenende auf der Wiese beim Graf-Zeppelin-Haus verspricht auch in diesem Jahr ein hochkarätiges Line-up und eine einzigartige Atmosphäre direkt am Bodensee. \nZusätzlich zu den Open-Air-Konzerten dürfen sich Musikfans bereits im Juli auf exklusive Konzerte im stimmungsvollen Innenhof des Kulturhauses Caserne freuen. Auch hier werden wieder spannende Künstlerinnen und Künstler erwartet – bleiben Sie gespannt auf die Ankündigungen! \nTickets und Preise\nSichern Sie sich jetzt Ihre Tickets für FN:POP und erleben Sie einen unvergesslichen Sommerabend voller großartiger Musik! \n\nNormalpreis: 69\,90 Euro\nFamilie & Freunde (gültig für vier Personen): 209\,70 Euro\n\nVerpassen Sie nicht dieses musikalische Highlight in Friedrichshafen! \nVeranstaltungsort: Wiese beim Graf-Zeppelin-Haus\, Friedrichshafen
URL:https://bibisbo.de/event/fnpop/
LOCATION:Friedrichshafen Innenstadt\, Uferpromenade\, Friedrichshafen\, 88045\, Germany
CATEGORIES:Bodenseekreis,Friedrichshafen
END:VEVENT
END:VCALENDAR