BEGIN:VCALENDAR
VERSION:2.0
PRODID:-//BiBisBo - Veranstaltungen von Biberach bis Bodensee - ECPv6.15.20//NONSGML v1.0//EN
CALSCALE:GREGORIAN
METHOD:PUBLISH
X-WR-CALNAME:BiBisBo - Veranstaltungen von Biberach bis Bodensee
X-ORIGINAL-URL:https://bibisbo.de
X-WR-CALDESC:Veranstaltungen für BiBisBo - Veranstaltungen von Biberach bis Bodensee
REFRESH-INTERVAL;VALUE=DURATION:PT1H
X-Robots-Tag:noindex
X-PUBLISHED-TTL:PT1H
BEGIN:VTIMEZONE
TZID:Europe/Berlin
BEGIN:DAYLIGHT
TZOFFSETFROM:+0100
TZOFFSETTO:+0200
TZNAME:CEST
DTSTART:20240331T010000
END:DAYLIGHT
BEGIN:STANDARD
TZOFFSETFROM:+0200
TZOFFSETTO:+0100
TZNAME:CET
DTSTART:20241027T010000
END:STANDARD
BEGIN:DAYLIGHT
TZOFFSETFROM:+0100
TZOFFSETTO:+0200
TZNAME:CEST
DTSTART:20250330T010000
END:DAYLIGHT
BEGIN:STANDARD
TZOFFSETFROM:+0200
TZOFFSETTO:+0100
TZNAME:CET
DTSTART:20251026T010000
END:STANDARD
BEGIN:DAYLIGHT
TZOFFSETFROM:+0100
TZOFFSETTO:+0200
TZNAME:CEST
DTSTART:20260329T010000
END:DAYLIGHT
BEGIN:STANDARD
TZOFFSETFROM:+0200
TZOFFSETTO:+0100
TZNAME:CET
DTSTART:20261025T010000
END:STANDARD
END:VTIMEZONE
BEGIN:VEVENT
DTSTART;TZID=Europe/Berlin:20251005T103000
DTEND;TZID=Europe/Berlin:20251005T160000
DTSTAMP:20260426T045028
CREATED:20250403T183132Z
LAST-MODIFIED:20251007T070509Z
UID:759-1759660200-1759680000@bibisbo.de
SUMMARY:Hagnauer Erntedank- und Pfarrfest 2025: Ein Fest für die ganze Familie
DESCRIPTION:Am Sonntag\, den 5. Oktober 2025\, lädt die Katholische Pfarrgemeinde Hagnau zum traditionellen Erntedank- und Pfarrfest ein. Ein Tag voller Gemeinschaft\, Dankbarkeit und festlicher Stimmung erwartet die Besucher. \nFestlicher Gottesdienst zum Erntedank \nUm 10:30 Uhr beginnt das Fest mit einem feierlichen Gottesdienst auf dem Kirchplatz in Hagnau am Bodensee. Im Anschluss an den Gottesdienst findet das Pfarrfest statt\, bei dem für das leibliche Wohl bestens gesorgt ist. \nVeranstaltungsort und Veranstalter \n\nVeranstaltungsort: Kirchplatz\, 88709 Hagnau am Bodensee\nVeranstalter: Katholische Pfarrgemeinde
URL:https://bibisbo.de/event/hagnauer-erntedank-und-pfarrfest-2025/
LOCATION:Hagnau am Bodensee\, Uferpark\, Hagnau\, 88709\, Germany
CATEGORIES:Bodenseekreis,Hagnau
END:VEVENT
BEGIN:VEVENT
DTSTART;TZID=Europe/Berlin:20251012T130000
DTEND;TZID=Europe/Berlin:20251012T180000
DTSTAMP:20260426T045028
CREATED:20250402T214518Z
LAST-MODIFIED:20251007T070500Z
UID:493-1760274000-1760292000@bibisbo.de
SUMMARY:Verkaufsoffener Sonntag Riedlingen: Shopping-Spaß im Oktober 2025
DESCRIPTION:Am Sonntag\, den 12. Oktober 2025\, lädt Riedlingen zum verkaufsoffenen Sonntag ein. Von 13:00 bis 18:00 Uhr öffnen die Geschäfte ihre Türen und bieten ein entspanntes Einkaufserlebnis. Nutzen Sie die Gelegenheit\, die Vielfalt des Riedlinger Einzelhandels zu entdecken und ganz entspannt zu stöbern. Ein ideales Ausflugsziel für die ganze Familie!
URL:https://bibisbo.de/event/verkaufsoffener-sonntag-riedlingen-oktober-2025/
LOCATION:Riedlingen Innenstadt\, Marktplatz\, Riedlingen\, 88499\, Germany
CATEGORIES:Landkreis Biberach,Riedlingen
END:VEVENT
BEGIN:VEVENT
DTSTART;TZID=Europe/Berlin:20251022T000000
DTEND;TZID=Europe/Berlin:20251022T235959
DTSTAMP:20260426T045028
CREATED:20250403T191913Z
LAST-MODIFIED:20251006T203402Z
UID:773-1761091200-1761177599@bibisbo.de
SUMMARY:Traditioneller Jahrmarkt in Romanshorn 2025 – Ein Fest für die ganze Familie!
DESCRIPTION:Erleben Sie am 22. Oktober 2025 den 79. traditionellen Jahrmarkt in Romanshorn! Rund 130 Marktstände laden zum Bummeln und Entdecken nach Romanshorn am schweizer Ufer des Bodensees ein. Genießen Sie ein vielfältiges Angebot an Waren und kulinarischen Köstlichkeiten entlang der Bahnhof-\, Allee- und Salmsacherstrasse.\nFür Spaß und Action sorgt der Luna-Park mit seinen Attraktionen.\nEin unvergessliches Erlebnis für die ganze Familie!
URL:https://bibisbo.de/event/traditioneller-jahrmarkt-in-romanshorn-2025/
LOCATION:Romanshorn Innenstadt\, Romanshorn\, Switzerland
CATEGORIES:Kanton Thurgau,Romanshorn
END:VEVENT
BEGIN:VEVENT
DTSTART;TZID=Europe/Berlin:20251026T120000
DTEND;TZID=Europe/Berlin:20251026T170000
DTSTAMP:20260426T045028
CREATED:20250329T225610Z
LAST-MODIFIED:20251006T203357Z
UID:24-1761480000-1761498000@bibisbo.de
SUMMARY:Verkaufsoffener Sonntag in Bad Buchau: Shoppingvergnügen im Herzen Oberschwabens (26.10.2025)
DESCRIPTION:Erleben Sie einen entspannten Sonntag mit Shopping\, Gastronomie und herbstlichem Flair in der malerischen Kurstadt Bad Buchau. \nAm Sonntag\, den 26. Oktober 2025\, lädt die charmante Stadt Bad Buchau im Herzen Oberschwabens zu einem verkaufsoffenen Sonntag ein. Von 12:00 bis 17:00 Uhr öffnen die Einzelhändler ihre Türen und bieten Besuchern die Gelegenheit\, nach Herzenslust zu bummeln\, zu stöbern und die neuesten Herbst- und Winterkollektionen zu entdecken. Dieser Tag verspricht ein entspanntes Einkaufserlebnis für die ganze Familie\, fernab der Hektik des Alltags. \nVielfältiges Angebot für jeden Geschmack\nDie Besucher erwartet ein breites und vielfältiges Angebot in den Bad Buchauer Geschäften. Ob Mode und Accessoires für Damen\, Herren und Kinder\, Schuhe für jeden Anlass\, Sportartikel für aktive Menschen\, Bücher und Schreibwaren für Leseratten\, oder Dekorationsartikel und Geschenkideen für das gemütliche Zuhause – hier findet sich für jeden Geschmack und jeden Bedarf das Richtige. Nutzen Sie die entspannte Atmosphäre des Sonntags\, um sich in Ruhe umzusehen\, kompetente Beratung zu genießen und vielleicht schon das ein oder andere Weihnachtsgeschenk zu entdecken. \nKulinarische Genüsse und gemütliches Beisammensein\nNeben dem Shoppingerlebnis lädt Bad Buchau auch mit seinen zahlreichen Cafés\, Restaurants und Eisdielen zum Verweilen ein. Genießen Sie eine Tasse Kaffee und ein Stück Kuchen in einem der gemütlichen Cafés\, stärken Sie sich mit regionalen Spezialitäten in einem der traditionellen Gasthöfe oder lassen Sie den Nachmittag bei einem leckeren Eis ausklingen. Der verkaufsoffene Sonntag bietet die ideale Gelegenheit\, Shopping mit kulinarischen Genüssen und einem entspannten Beisammensein zu verbinden. \nAttraktives Rahmenprogramm für die ganze Familie\nUm den verkaufsoffenen Sonntag in Bad Buchau zu einem unvergesslichen Erlebnis für die ganze Familie zu machen\, ist in der Regel auch ein attraktives Rahmenprogramm geplant. Oftmals locken zusätzliche Attraktionen wie musikalische Darbietungen\, herbstliche Marktstände mit regionalen Produkten oder spezielle Aktionen und Rabatte in den Geschäften. Informieren Sie sich rechtzeitig auf der Webseite der Stadt Bad Buchau oder in lokalen Medien über das genaue Programm\, um Ihren Besuch optimal zu planen. \nBad Buchau entdecken: Mehr als nur Shopping\nNutzen Sie Ihren Besuch in Bad Buchau doch gleich\, um die reizvolle Kurstadt und ihre Umgebung näher kennenzulernen. Spazieren Sie entlang des idyllischen Stadtsees\, besuchen Sie das beeindruckende Stiftsmuseum oder entspannen Sie in der Adelindis Therme. Bad Buchau bietet eine gelungene Mischung aus kulturellen Sehenswürdigkeiten\, erholsamer Natur und einem attraktiven Einzelhandelsangebot. \nVerpassen Sie nicht den verkaufsoffenen Sonntag am 26. Oktober 2025 in Bad Buchau und genießen Sie einen entspannten Tag voller Shopping\, Genuss und herbstlichem Flair!
URL:https://bibisbo.de/event/verkaufsoffener-sonntag-in-bad-buchau-shoppingvergnuegen-im-herzen-oberschwabens-26-10-2025/
LOCATION:Bad Buchau Marktplatz\, Marktplatz\, Bad Buchau\, 88422\, Germany
CATEGORIES:Bad Buchau,Landkreis Biberach
END:VEVENT
END:VCALENDAR