BEGIN:VCALENDAR
VERSION:2.0
PRODID:-//BiBisBo - Veranstaltungen von Biberach bis Bodensee - ECPv6.15.20//NONSGML v1.0//EN
CALSCALE:GREGORIAN
METHOD:PUBLISH
X-WR-CALNAME:BiBisBo - Veranstaltungen von Biberach bis Bodensee
X-ORIGINAL-URL:https://bibisbo.de
X-WR-CALDESC:Veranstaltungen für BiBisBo - Veranstaltungen von Biberach bis Bodensee
REFRESH-INTERVAL;VALUE=DURATION:PT1H
X-Robots-Tag:noindex
X-PUBLISHED-TTL:PT1H
BEGIN:VTIMEZONE
TZID:Europe/Berlin
BEGIN:DAYLIGHT
TZOFFSETFROM:+0100
TZOFFSETTO:+0200
TZNAME:CEST
DTSTART:20240331T010000
END:DAYLIGHT
BEGIN:STANDARD
TZOFFSETFROM:+0200
TZOFFSETTO:+0100
TZNAME:CET
DTSTART:20241027T010000
END:STANDARD
BEGIN:DAYLIGHT
TZOFFSETFROM:+0100
TZOFFSETTO:+0200
TZNAME:CEST
DTSTART:20250330T010000
END:DAYLIGHT
BEGIN:STANDARD
TZOFFSETFROM:+0200
TZOFFSETTO:+0100
TZNAME:CET
DTSTART:20251026T010000
END:STANDARD
BEGIN:DAYLIGHT
TZOFFSETFROM:+0100
TZOFFSETTO:+0200
TZNAME:CEST
DTSTART:20260329T010000
END:DAYLIGHT
BEGIN:STANDARD
TZOFFSETFROM:+0200
TZOFFSETTO:+0100
TZNAME:CET
DTSTART:20261025T010000
END:STANDARD
END:VTIMEZONE
BEGIN:VEVENT
DTSTART;TZID=Europe/Berlin:20251128T000000
DTEND;TZID=Europe/Berlin:20251129T235959
DTSTAMP:20260425T234105
CREATED:20250329T232014Z
LAST-MODIFIED:20251030T142438Z
UID:55-1764288000-1764460799@bibisbo.de
SUMMARY:Pferdemarkt Bad Schussenried 2025: Tradition trifft vorweihnachtlichen Zauber
DESCRIPTION:Einzigartige Kombination aus Pferdehandel und Krämermarkt lockt Besucher aus nah und fern \nBad Schussenried verwandelt sich am 28. und 29. November 2025 erneut in einen pulsierenden Treffpunkt für Pferdeliebhaber und Marktbummler. Der traditionelle Pferde- und Krämermarkt öffnet seine Tore und verspricht ein unvergessliches Erlebnis für die ganze Familie. Seit knapp 40 Jahren begeistert diese einzigartige Veranstaltung mit ihrer besonderen Mischung aus Pferdehandel und vielfältigem Krämermarkt und hat sich längst einen Namen weit über die Grenzen Baden-Württembergs hinaus gemacht. \nAuftrieb der Pferde und hochkarätiger Pferdehandel\nDer Startschuss für das Marktwochenende fällt am Freitag\, den 28. November 2025\, um 11 Uhr vormittags mit dem traditionellen „Auftrieb der Pferde“. Hier präsentieren angesehene Pferdehändler aus ganz Deutschland ihre besten Verkaufspferde. Den ganzen Tag über haben Besucher die Möglichkeit\, die prächtigen Rösser zu bestaunen und vielleicht sogar ihr Traumpferd zu entdecken. Der Bad Schussenrieder Pferdemarkt ist bekannt für seine hohe Qualität und zieht daher jährlich zahlreiche Pferdefachleute und -enthusiasten an. \nVielfältiges Angebot auf dem Krämermarkt\nDoch nicht nur Pferdefans kommen in Bad Schussenried auf ihre Kosten. Der parallel stattfindende Krämermarkt bietet eine bunte Vielfalt an Waren für jeden Geschmack. Neben dem klassischen Sortiment wie Kurz- und Lederwaren finden Besucher hier auch süße und herzhafte Leckereien\, Spielzeug für die Kleinen und liebevoll gefertigte Handwerkskunst. Hier lässt es sich wunderbar stöbern und das ein oder andere besondere Geschenk oder Mitbringsel entdecken. \nVorweihnachtlicher Flair rund um den Christbaum\nFür eine stimmungsvolle Atmosphäre sorgt der vorweihnachtliche Markt auf dem Marktplatz. Rund um den festlich geschmückten Christbaum präsentieren die Schussenrieder Vereine und Schulen in ihren liebevoll dekorierten Verkaufshütten ein vielfältiges Angebot. Hier können Besucher bei Glühwein und weihnachtlichen Klängen die Vorfreude auf das nahende Fest genießen und vielleicht schon die ersten Weihnachtsgeschenke erstehen. \nVerpassen Sie nicht den traditionellen Pferde- und Krämermarkt in Bad Schussenried am 28. und 29. November 2025 – ein Highlight im Veranstaltungskalender für Groß und Klein!
URL:https://bibisbo.de/event/pferdemarkt-bad-schussenried-2025-tradition-trifft-vorweihnachtlichen-zauber/
LOCATION:Bad Schussenried Innenstadt\, Bad Schussenried\, 88427\, Germany
CATEGORIES:Bad Schussenried
END:VEVENT
BEGIN:VEVENT
DTSTART;TZID=Europe/Berlin:20251128T000000
DTEND;TZID=Europe/Berlin:20251130T235959
DTSTAMP:20260425T234105
CREATED:20250329T232515Z
LAST-MODIFIED:20251030T142437Z
UID:59-1764288000-1764547199@bibisbo.de
SUMMARY:Weihnachtsmarkt Bad Schussenried 2025: Das stimmungsvolle Weihnachtsdorf auf dem Marktplatz
DESCRIPTION:Erleben Sie vorweihnachtliche Magie beim traditionellen Weihnachtsmarkt in Bad Schussenried. Vom 28. November bis zum 30. November 2025 verwandelt sich der malerische Marktplatz in ein zauberhaftes Weihnachtsdorf\, das Groß und Klein in festliche Stimmung versetzt. \nGemütliches Ambiente rund um den Christbaum\nIm Herzen von Bad Schussenried\, um den festlich beleuchteten Christbaum auf dem Marktplatz\, entsteht auch in diesem Jahr wieder das beliebte „Weihnachtsdorf“. Hier laden liebevoll dekorierte Verkaufshütten zum Bummeln und Verweilen ein. Der Duft von gebrannten Mandeln\, Glühwein und Tannengrün liegt in der Luft und schafft eine unvergleichliche\, besinnliche Atmosphäre. \nVielfalt an weihnachtlichen Angeboten\nDie teilnehmenden Schussenrieder Vereine und Schulen präsentieren an ihren Ständen eine vielfältige Auswahl an weihnachtlichen Geschenkideen und handgefertigten Produkten. Ob traditioneller Weihnachtsschmuck\, originelle Basteleien\, regionale Spezialitäten oder wärmende Winterkleidung – hier finden Sie sicherlich das passende Präsent für Ihre Lieben oder eine schöne Erinnerung an Ihren Besuch. \nEin Fest für die ganze Familie\nDer Weihnachtsmarkt in Bad Schussenried ist mehr als nur ein Ort zum Einkaufen. Er ist ein Treffpunkt für die ganze Familie\, um die Vorweihnachtszeit gemeinsam zu genießen. Wärmen Sie sich bei einem heißen Getränk auf\, probieren Sie leckere Köstlichkeiten und lassen Sie sich von der festlichen Beleuchtung und den weihnachtlichen Klängen verzaubern. Das „Weihnachtsdorf“ bietet eine ideale Gelegenheit\, dem Alltagsstress zu entfliehen und sich auf die besinnlichen Tage einzustimmen.
URL:https://bibisbo.de/event/weihnachtsmarkt-bad-schussenried-2025-das-stimmungsvolle-weihnachtsdorf-auf-dem-marktplatz/
LOCATION:Bad Schussenried Innenstadt\, Bad Schussenried\, 88427\, Germany
CATEGORIES:Bad Schussenried
END:VEVENT
BEGIN:VEVENT
DTSTART;TZID=Europe/Berlin:20251129T000000
DTEND;TZID=Europe/Berlin:20251129T000000
DTSTAMP:20260425T234105
CREATED:20251030T080919Z
LAST-MODIFIED:20251030T142432Z
UID:2934-1764374400-1764374400@bibisbo.de
SUMMARY:Weihnachtsmarkt Einhart in Ostrach
DESCRIPTION:Der Charme des Weihnachtsmarkt Einhart lädt am Samstag\, den 29. November\, in das Bürgerhaus „d’Schual“ nach Ostrach ein. Besucher dürfen sich auf einen kleinen\, aber feinen Markt freuen\, der die Adventszeit stimmungsvoll einläutet. \nWas Sie erwartet \nAn den liebevoll dekorierten Ständen finden Sie sicher das eine oder andere Geschenk oder eine schöne Dekoration für die Weihnachtszeit. Ein besonderes Highlight ist die musikalische Unterhaltung\, die für eine festliche Atmosphäre sorgt. Veranstalter ist ein externer Verein\, der mit diesem Markt einen gemütlichen Treffpunkt für die gesamte Familie schafft. Genießen Sie die vorweihnachtliche Stimmung ganztags in Ostrach-Einhart. \nVeranstaltungsort & Datum \nDatum: Samstag\, 29. November \nOrt: Bürgerhaus „d’Schual“\, Mühlenstraße 15\, 88356 Ostrach
URL:https://bibisbo.de/event/weihnachtsmarkt-einhart-in-ostrach/
CATEGORIES:Ostrach
END:VEVENT
BEGIN:VEVENT
DTSTART;TZID=Europe/Berlin:20251129T100000
DTEND;TZID=Europe/Berlin:20251214T200000
DTSTAMP:20260425T234105
CREATED:20250401T142706Z
LAST-MODIFIED:20251030T142429Z
UID:321-1764410400-1765742400@bibisbo.de
SUMMARY:Biberacher Christkindles-Markt 2025: Romantische Weihnachtsstimmung im Herzen der Stadt
DESCRIPTION:Erleben Sie die zauberhafte Adventszeit auf dem traditionellen Biberacher Christkindles-Markt! Vom Samstag\, 29. November\, bis Sonntag\, 14. Dezember 2025\, verwandelt sich der historische Marktplatz in ein romantisches Weihnachtsdorf. Zahlreiche festlich geschmückte Weihnachtshütten laden zum Bummeln\, Verweilen und Entdecken ein. Der Duft von gebrannten Mandeln\, Lebkuchen und Glühwein liegt in der Luft und versetzt Besucher jeden Alters in festliche Weihnachtsstimmung. \nVielfältiges Angebot für Groß und Klein \nAuf dem Christkindles-Markt in Biberach an der Riß erwartet Sie ein vielfältiges Sortiment an weihnachtlichen Waren. Von handgefertigtem Schmuck und liebevollen Dekoartikeln über warme Textilien bis hin zu traditionellem Spielzeug – hier finden Sie garantiert das passende Weihnachtsgeschenk für Ihre Lieben. \nAuch für die kleinen Besucher ist bestens gesorgt: Ein nostalgisches Karussell dreht seine Runden und die Kinder können ihre Wunschzettel direkt an das Christkind einwerfen. Ein besonderes Highlight ist die Weihnachtsmaus\, die mit ihrer spannenden Abenteuergeschichte für leuchtende Kinderaugen sorgt. \nÖffnungszeiten und Markttage \nDer Biberacher Christkindles-Markt ist täglich von 11:00 bis 20:00 Uhr geöffnet. An den Markttagen Mittwoch und Samstag können Sie die weihnachtliche Atmosphäre bereits ab 10:00 Uhr genießen. \nBesuchen Sie den Biberacher Christkindles-Markt und tauchen Sie ein in die festliche Welt der Vorweihnachtszeit!
URL:https://bibisbo.de/event/biberacher-christkindles-markt-2025/
LOCATION:Biberach Innenstadt\, Marktplatz\, Biberach an der Riß\, 88422\, Germany
CATEGORIES:Biberach an der Riß,Landkreis Biberach
END:VEVENT
END:VCALENDAR