BEGIN:VCALENDAR
VERSION:2.0
PRODID:-//BiBisBo - Veranstaltungen von Biberach bis Bodensee - ECPv6.15.20//NONSGML v1.0//EN
CALSCALE:GREGORIAN
METHOD:PUBLISH
X-ORIGINAL-URL:https://bibisbo.de
X-WR-CALDESC:Veranstaltungen für BiBisBo - Veranstaltungen von Biberach bis Bodensee
REFRESH-INTERVAL;VALUE=DURATION:PT1H
X-Robots-Tag:noindex
X-PUBLISHED-TTL:PT1H
BEGIN:VTIMEZONE
TZID:Europe/Berlin
BEGIN:DAYLIGHT
TZOFFSETFROM:+0100
TZOFFSETTO:+0200
TZNAME:CEST
DTSTART:20240331T010000
END:DAYLIGHT
BEGIN:STANDARD
TZOFFSETFROM:+0200
TZOFFSETTO:+0100
TZNAME:CET
DTSTART:20241027T010000
END:STANDARD
BEGIN:DAYLIGHT
TZOFFSETFROM:+0100
TZOFFSETTO:+0200
TZNAME:CEST
DTSTART:20250330T010000
END:DAYLIGHT
BEGIN:STANDARD
TZOFFSETFROM:+0200
TZOFFSETTO:+0100
TZNAME:CET
DTSTART:20251026T010000
END:STANDARD
BEGIN:DAYLIGHT
TZOFFSETFROM:+0100
TZOFFSETTO:+0200
TZNAME:CEST
DTSTART:20260329T010000
END:DAYLIGHT
BEGIN:STANDARD
TZOFFSETFROM:+0200
TZOFFSETTO:+0100
TZNAME:CET
DTSTART:20261025T010000
END:STANDARD
END:VTIMEZONE
BEGIN:VEVENT
DTSTART;TZID=Europe/Berlin:20251129T100000
DTEND;TZID=Europe/Berlin:20251214T200000
DTSTAMP:20260425T001434
CREATED:20250401T142706Z
LAST-MODIFIED:20251030T142429Z
UID:321-1764410400-1765742400@bibisbo.de
SUMMARY:Biberacher Christkindles-Markt 2025: Romantische Weihnachtsstimmung im Herzen der Stadt
DESCRIPTION:Erleben Sie die zauberhafte Adventszeit auf dem traditionellen Biberacher Christkindles-Markt! Vom Samstag\, 29. November\, bis Sonntag\, 14. Dezember 2025\, verwandelt sich der historische Marktplatz in ein romantisches Weihnachtsdorf. Zahlreiche festlich geschmückte Weihnachtshütten laden zum Bummeln\, Verweilen und Entdecken ein. Der Duft von gebrannten Mandeln\, Lebkuchen und Glühwein liegt in der Luft und versetzt Besucher jeden Alters in festliche Weihnachtsstimmung. \nVielfältiges Angebot für Groß und Klein \nAuf dem Christkindles-Markt in Biberach an der Riß erwartet Sie ein vielfältiges Sortiment an weihnachtlichen Waren. Von handgefertigtem Schmuck und liebevollen Dekoartikeln über warme Textilien bis hin zu traditionellem Spielzeug – hier finden Sie garantiert das passende Weihnachtsgeschenk für Ihre Lieben. \nAuch für die kleinen Besucher ist bestens gesorgt: Ein nostalgisches Karussell dreht seine Runden und die Kinder können ihre Wunschzettel direkt an das Christkind einwerfen. Ein besonderes Highlight ist die Weihnachtsmaus\, die mit ihrer spannenden Abenteuergeschichte für leuchtende Kinderaugen sorgt. \nÖffnungszeiten und Markttage \nDer Biberacher Christkindles-Markt ist täglich von 11:00 bis 20:00 Uhr geöffnet. An den Markttagen Mittwoch und Samstag können Sie die weihnachtliche Atmosphäre bereits ab 10:00 Uhr genießen. \nBesuchen Sie den Biberacher Christkindles-Markt und tauchen Sie ein in die festliche Welt der Vorweihnachtszeit!
URL:https://bibisbo.de/event/biberacher-christkindles-markt-2025/
LOCATION:Biberach Innenstadt\, Marktplatz\, Biberach an der Riß\, 88422\, Germany
CATEGORIES:Biberach an der Riß,Landkreis Biberach
END:VEVENT
BEGIN:VEVENT
DTSTART;TZID=Europe/Berlin:20251202T000000
DTEND;TZID=Europe/Berlin:20251202T235959
DTSTAMP:20260425T001434
CREATED:20250330T212052Z
LAST-MODIFIED:20251029T150051Z
UID:149-1764633600-1764719999@bibisbo.de
SUMMARY:Nikolausmarkt Ehingen 2025: Traditioneller Budenzauber und Jahrmarkt-Flair
DESCRIPTION:Erleben Sie am Dienstag\, den 2. Dezember 2025\, den traditionellen Nikolausmarkt mit großem Krämer- und Jahrmarkt in Ehingen! \nEin Fest für die ganze Familie auf dem Marktplatz\nDer Nikolausmarkt Ehingen ist ein fester Bestandteil des vorweihnachtlichen Kalenders und lockt jedes Jahr zahlreiche Besucher auf den Marktplatz der Stadt. Am ersten Dienstag im Dezember verwandelt sich der zentrale Platz in eine lebendige Budenstadt\, die zum Bummeln\, Entdecken und Verweilen einlädt. \nVielfältiges Angebot beim Krämer- und Jahrmarkt\nNeben den klassischen Angeboten eines Nikolausmarktes erwartet die Besucher ein umfangreicher Krämer- und Jahrmarkt. Hier finden Sie eine bunte Mischung aus Waren aller Art: von handwerklichen Produkten und Geschenkideen über regionale Spezialitäten bis hin zu nützlichen Dingen für den Alltag. Der Jahrmarkt sorgt mit seinen Attraktionen zudem für Unterhaltung und Spaß für Groß und Klein.
URL:https://bibisbo.de/event/nikolausmarkt-ehingen-2025-traditioneller-budenzauber-und-jahrmarkt-flair/
LOCATION:Ehingen Innenstadt\, Marktplatz\, Ehingen (Donau)\, 89584\, Germany
CATEGORIES:Alb-Donau-Kreis,Ehingen (Donau)
END:VEVENT
BEGIN:VEVENT
DTSTART;TZID=Europe/Berlin:20251206T150000
DTEND;TZID=Europe/Berlin:20251206T170000
DTSTAMP:20260425T001434
CREATED:20251103T092634Z
LAST-MODIFIED:20251103T092634Z
UID:3103-1765033200-1765040400@bibisbo.de
SUMMARY:Nikolausprogramm auf dem Bregenzer Weihnachtsmarkt 2025
DESCRIPTION:Am Samstag\, den 6. Dezember 2025\, steht der Bregenzer Weihnachtsmarkt ganz im Zeichen des Heiligen Nikolaus. Von 15:00 bis 17:00 Uhr besucht der Nikolaus den Kornmarktplatz in Bregenz\, um die jüngsten Gäste zu erfreuen. Kinder sind mit ihren Eltern herzlich eingeladen\, diesen besonderen Nachmittag zu erleben. \nZauberhafte Unterhaltung für Kinder\nBegleitet wird der Nikolaus vom beliebten Kinderzauberer Timur\, der mit seiner neuen Zaubershow für strahlende Kinderaugen sorgt. Auch Kasperl ist mit von der Partie und wird die Kinder mit einer besonderen Weihnachtsgeschichte verzaubern. Als Highlight hält der Nikolaus für jedes anwesende Kind ein kleines Geschenk bereit\, solange der Vorrat reicht. Ein perfekter vorweihnachtlicher Ausflug für die ganze Familie!
URL:https://bibisbo.de/event/nikolaus-bregenzer-weihnachtsmarkt-2025/
LOCATION:Bregenz Kornmarktplatz\, Kornmarktplatz\, Bregenz\, Austria
CATEGORIES:Bregenz,Vorarlberg in Österreich
END:VEVENT
BEGIN:VEVENT
DTSTART;TZID=Europe/Berlin:20251211T170000
DTEND;TZID=Europe/Berlin:20251221T210000
DTSTAMP:20260425T001434
CREATED:20251103T092945Z
LAST-MODIFIED:20251103T092945Z
UID:3105-1765472400-1766350800@bibisbo.de
SUMMARY:Weihnachtsmarkt Warth am 11.\, 18. & 21. Dezember 2025
DESCRIPTION:Der charmante Dorfplatz in Warth verwandelt sich in der Adventszeit in ein funkelndes Winterwunderland. Besucherinnen und Besucher sind herzlich eingeladen\, die weihnachtliche Magie an gleich drei Abenden zu erleben: am Donnerstag\, den 11. Dezember\, Donnerstag\, den 18. Dezember\, und Sonntag\, den 21. Dezember 2025\, jeweils von 17:00 bis 21:00 Uhr. Hier schlagen die Herzen höher\, und die Vorfreude auf das Weihnachtsfest wird spürbar. \nHandwerk\, Genuss und Festliche Klänge\nFestlich geschmückte Stände laden zum gemütlichen Schlendern und Entdecken ein. Lokale Aussteller präsentieren ein liebevoll ausgewähltes Angebot an handgefertigten Geschenken\, zauberhaften Dekorationen und besonderen Schätzen. Kulinarische Schmankerl wie frisch Gebackenes\, warmer Punsch und herzhafte Spezialitäten verführen die Sinne. Die stimmungsvollen Klänge einer Alphorngruppe sorgen für musikalische Höhepunkte. Am letzten Marktabend am 21. Dezember begeistert zusätzlich die Kindertrachtengruppe Warth mit einem bezaubernden Tanz. \nEntspannte Anreise und Kinderüberraschung\nEin besonderes Highlight für die kleinen Gäste ist der fröhliche Schneemann Pauli\, der an allen Abenden eine süße Überraschung verteilt. Um einen rundum sorglosen Besuch zu gewährleisten\, stehen kostenlose Zu- und Heimbringer-Busse zwischen Warth und Schröcken zur Verfügung. Tauchen Sie ein in dieses festliche Erlebnis für die ganze Familie auf dem Dorfplatz Warth.
URL:https://bibisbo.de/event/weihnachtsmarkt-warth-2025/
LOCATION:Warth\, Dorfplatz\, Warth\, 6767\, Austria
CATEGORIES:Vorarlberg in Österreich,Warth
END:VEVENT
BEGIN:VEVENT
DTSTART;TZID=Europe/Berlin:20251214T101000
DTEND;TZID=Europe/Berlin:20251214T131000
DTSTAMP:20260425T001434
CREATED:20250404T110249Z
LAST-MODIFIED:20251029T150037Z
UID:832-1765707000-1765717800@bibisbo.de
SUMMARY:Gemütlicher Sonntagsbrunch mit Panoramaschifffahrt ab Romanshorn (14.12.2025)
DESCRIPTION:Genussvoller Sonntag auf dem Bodensee \nErleben Sie am Sonntag\, den 14. Dezember 2025\, einen entspannten Sonntagsbrunch an Bord eines Schiffes. Um 10:10 Uhr legt das Schiff in Romanshorn ab und nimmt Sie mit auf eine malerische Fahrt. Genießen Sie bis zur Ankunft um 13:10 Uhr ein vielfältiges Brunchbuffet.\nDie Preise betragen CHF 89\,00 für Erwachsene\, CHF 39\,00 für Kinder von 12-15 Jahren\, CHF 25\,00 für Kinder von 6-11 Jahren und sind für Kinder unter 6 Jahren kostenlos.
URL:https://bibisbo.de/event/sonntagsbrunch-ab-romanshorn-14-12-2025/
LOCATION:Romanshorn Innenstadt\, Romanshorn\, Switzerland
CATEGORIES:Kanton Thurgau,Romanshorn
END:VEVENT
BEGIN:VEVENT
DTSTART;TZID=Europe/Berlin:20251218T170000
DTEND;TZID=Europe/Berlin:20251218T180000
DTSTAMP:20260425T001434
CREATED:20251029T174713Z
LAST-MODIFIED:20251030T081457Z
UID:2924-1766077200-1766080800@bibisbo.de
SUMMARY:Laternenwanderung für Kinder am 18.Dezember 2025 in Feldkirch
DESCRIPTION:Am Donnerstag\, den 18. Dezember 2025\, erstrahlt die historische Neustadt von Feldkirch in besonderem Glanz. Im Rahmen der Weihnachtsstadt Feldkirch sind Kinder herzlich zur Laternenwanderung für Kinder eingeladen\, die um 17:00 Uhr beginnt. Unter dem Motto „Ich geh mit meiner Laterne…“ sorgen die kleinen Teilnehmer mit ihren mitgebrachten Laternen für einen zauberhaften\, glanzvollen Lichterzug durch die Stadt. Dieser stimmungsvolle Spaziergang ist ein besonderes Erlebnis\, das die Vorweihnachtszeit für die ganze Familie bereichert. \nLaternenlicht\, Geschichten und süße Belohnungen\nDie circa 45-minütige Wanderung führt bewusst auch durch die etwas dunkleren Gassen Feldkirchs\, um die volle Pracht des Laternenlichts zur Geltung zu bringen. Unterwegs werden kindgerechte Geschichten über die Stadt Feldkirch erzählt\, die kleine Laternenläufer begeistern sollen. Im Anschluss an den Lichterzug geht es zurück zum Lebkuchenhaus in der Neustadt. Dort dürfen sich die Kinder nach der Wanderung noch mit einer süßen Stärkung belohnen. Die Teilnahme ist kostenlos. Eine erwachsene Begleitperson pro Kind ist maximal erlaubt. \nLaternen sollten mitgebracht werden\, können aber bei Bedarf vor Ort ausgeliehen werden. Die Laternenwanderung ist für Kinder ab 5 Jahren empfohlen. \nTreffpunkt: Lebkuchenhaus in der Neustadt\, Feldkirch. \nAnmeldung unter T +43 5522 9008 oder tourismus@feldkirch.at ist erforderlich.
URL:https://bibisbo.de/event/laternenwanderung-fuer-kinder-am-18-dezember-2025-in-feldkirch/
CATEGORIES:Feldkirch,Vorarlberg in Österreich
END:VEVENT
END:VCALENDAR