BEGIN:VCALENDAR
VERSION:2.0
PRODID:-//BiBisBo - Veranstaltungen von Biberach bis Bodensee - ECPv6.15.20//NONSGML v1.0//EN
CALSCALE:GREGORIAN
METHOD:PUBLISH
X-ORIGINAL-URL:https://bibisbo.de
X-WR-CALDESC:Veranstaltungen für BiBisBo - Veranstaltungen von Biberach bis Bodensee
REFRESH-INTERVAL;VALUE=DURATION:PT1H
X-Robots-Tag:noindex
X-PUBLISHED-TTL:PT1H
BEGIN:VTIMEZONE
TZID:Europe/Berlin
BEGIN:DAYLIGHT
TZOFFSETFROM:+0100
TZOFFSETTO:+0200
TZNAME:CEST
DTSTART:20250330T010000
END:DAYLIGHT
BEGIN:STANDARD
TZOFFSETFROM:+0200
TZOFFSETTO:+0100
TZNAME:CET
DTSTART:20251026T010000
END:STANDARD
BEGIN:DAYLIGHT
TZOFFSETFROM:+0100
TZOFFSETTO:+0200
TZNAME:CEST
DTSTART:20260329T010000
END:DAYLIGHT
BEGIN:STANDARD
TZOFFSETFROM:+0200
TZOFFSETTO:+0100
TZNAME:CET
DTSTART:20261025T010000
END:STANDARD
BEGIN:DAYLIGHT
TZOFFSETFROM:+0100
TZOFFSETTO:+0200
TZNAME:CEST
DTSTART:20270328T010000
END:DAYLIGHT
BEGIN:STANDARD
TZOFFSETFROM:+0200
TZOFFSETTO:+0100
TZNAME:CET
DTSTART:20271031T010000
END:STANDARD
END:VTIMEZONE
BEGIN:VEVENT
DTSTART;TZID=Europe/Berlin:20260501T070000
DTEND;TZID=Europe/Berlin:20260501T160000
DTSTAMP:20260424T094829
CREATED:20250408T204701Z
LAST-MODIFIED:20251029T150012Z
UID:1368-1777618800-1777651200@bibisbo.de
SUMMARY:1. Mai Maifest mit Flohmarkt und Frühschoppen in Laimnau
DESCRIPTION:Am 1. Mai 2026 lädt die Bürgerwehr Laimnau herzlich zum traditionellen Maifest mit Flohmarkt ein. Dieses beliebte Ausflugsziel im schönen Argental bietet von 7:00 bis 16:00 Uhr ein abwechslungsreiches Programm für die ganze Familie. \nBummeln\, Feilschen und Genießen\nBesucher können über den bunten Flohmarkt bummeln\, nach einzigartigen Schätzen stöbern und vielleicht sogar selbst verkaufen. Für eine gemütliche Pause und Stärkung sorgen vielfältige Verpflegungsmöglichkeiten. Ab 11:00 Uhr lädt ein zünftiger Frühschoppen mit musikalischer Unterhaltung zum Verweilen ein. \nFamilienfreundliches Ausflugsziel\nAuch die kleinen Gäste kommen auf ihre Kosten\, denn das Fest findet in unmittelbarer Nähe des Kinderspielplatzes am Hahnenbuch in Laimnau (88069 Tettnang) statt. Das Maifest mit Flohmarkt ist somit der ideale Ausflug am Feiertag.
URL:https://bibisbo.de/event/maifest-laimnau-2026/
LOCATION:Tettnang – Laimnau\, Am Hahnenbuch\, Tettnang Laimnau\, 88069\, Germany
CATEGORIES:Bodenseekreis,Tettnang
END:VEVENT
END:VCALENDAR