BEGIN:VCALENDAR
VERSION:2.0
PRODID:-//BiBisBo - Veranstaltungen von Biberach bis Bodensee - ECPv6.15.20//NONSGML v1.0//EN
CALSCALE:GREGORIAN
METHOD:PUBLISH
X-WR-CALNAME:BiBisBo - Veranstaltungen von Biberach bis Bodensee
X-ORIGINAL-URL:https://bibisbo.de
X-WR-CALDESC:Veranstaltungen für BiBisBo - Veranstaltungen von Biberach bis Bodensee
REFRESH-INTERVAL;VALUE=DURATION:PT1H
X-Robots-Tag:noindex
X-PUBLISHED-TTL:PT1H
BEGIN:VTIMEZONE
TZID:Europe/Berlin
BEGIN:DAYLIGHT
TZOFFSETFROM:+0100
TZOFFSETTO:+0200
TZNAME:CEST
DTSTART:20250330T010000
END:DAYLIGHT
BEGIN:STANDARD
TZOFFSETFROM:+0200
TZOFFSETTO:+0100
TZNAME:CET
DTSTART:20251026T010000
END:STANDARD
BEGIN:DAYLIGHT
TZOFFSETFROM:+0100
TZOFFSETTO:+0200
TZNAME:CEST
DTSTART:20260329T010000
END:DAYLIGHT
BEGIN:STANDARD
TZOFFSETFROM:+0200
TZOFFSETTO:+0100
TZNAME:CET
DTSTART:20261025T010000
END:STANDARD
BEGIN:DAYLIGHT
TZOFFSETFROM:+0100
TZOFFSETTO:+0200
TZNAME:CEST
DTSTART:20270328T010000
END:DAYLIGHT
BEGIN:STANDARD
TZOFFSETFROM:+0200
TZOFFSETTO:+0100
TZNAME:CET
DTSTART:20271031T010000
END:STANDARD
END:VTIMEZONE
BEGIN:VEVENT
DTSTART;TZID=Europe/Berlin:20261017T000000
DTEND;TZID=Europe/Berlin:20261017T000000
DTSTAMP:20260424T042039
CREATED:20251029T085628Z
LAST-MODIFIED:20251029T150004Z
UID:2881-1792195200-1792195200@bibisbo.de
SUMMARY:Haistockfest Heudorf
DESCRIPTION:Samstag\, den 17. Oktober 2026\, verwandelt sich Heudorf in einen Treffpunkt für Feierlustige: Die Landjugend Heudorf veranstaltet ihr traditionelles Haistockfest. Das beliebte Event findet im und um den Landjugendraum im DGH Heudorf in der Postleitzahlregion 88525 statt und verspricht wieder eine ausgelassene Nacht mit guter Musik und bester Stimmung. \nDas Haistockfest\, organisiert von den engagierten Mitgliedern der Landjugend Heudorf\, hat sich über die Jahre zu einem Highlight im regionalen Veranstaltungskalender entwickelt. Bekannt für seine lockere Atmosphäre und die Möglichkeit\, in geselliger Runde Freunde zu treffen und neue Kontakte zu knüpfen\, zieht es Jahr für Jahr Besucher von nah und fern an. \nDie Besucher können sich auf eine gelungene Mischung aus Unterhaltung und Gaumenfreuden freuen. Die Landjugend sorgt nicht nur für das passende musikalische Ambiente\, das zum Tanzen und Feiern einlädt\, sondern bietet auch eine Auswahl an Getränken und kleinen Speisen an. Feiern Sie mit der Landjugend Heudorf und erleben Sie einen unvergesslichen Abend voller Freude und Gemeinschaft! \nWichtige Infos: Die Veranstaltung beginnt am Abend des 17. Oktober 2026. Der Veranstaltungsort ist der Landjugendraum im DGH Heudorf\, 88525 Heudorf. Als externer Veranstalter tritt die Landjugend Heudorf auf.
URL:https://bibisbo.de/event/haistockfest-heudorf/
LOCATION:Heudorf\, Heudorf\, 88525\, Germany
CATEGORIES:Heudorf
END:VEVENT
END:VCALENDAR