BEGIN:VCALENDAR
VERSION:2.0
PRODID:-//BiBisBo - Veranstaltungen von Biberach bis Bodensee - ECPv6.15.20//NONSGML v1.0//EN
CALSCALE:GREGORIAN
METHOD:PUBLISH
X-WR-CALNAME:BiBisBo - Veranstaltungen von Biberach bis Bodensee
X-ORIGINAL-URL:https://bibisbo.de
X-WR-CALDESC:Veranstaltungen für BiBisBo - Veranstaltungen von Biberach bis Bodensee
REFRESH-INTERVAL;VALUE=DURATION:PT1H
X-Robots-Tag:noindex
X-PUBLISHED-TTL:PT1H
BEGIN:VTIMEZONE
TZID:Europe/Berlin
BEGIN:DAYLIGHT
TZOFFSETFROM:+0100
TZOFFSETTO:+0200
TZNAME:CEST
DTSTART:20240331T010000
END:DAYLIGHT
BEGIN:STANDARD
TZOFFSETFROM:+0200
TZOFFSETTO:+0100
TZNAME:CET
DTSTART:20241027T010000
END:STANDARD
BEGIN:DAYLIGHT
TZOFFSETFROM:+0100
TZOFFSETTO:+0200
TZNAME:CEST
DTSTART:20250330T010000
END:DAYLIGHT
BEGIN:STANDARD
TZOFFSETFROM:+0200
TZOFFSETTO:+0100
TZNAME:CET
DTSTART:20251026T010000
END:STANDARD
BEGIN:DAYLIGHT
TZOFFSETFROM:+0100
TZOFFSETTO:+0200
TZNAME:CEST
DTSTART:20260329T010000
END:DAYLIGHT
BEGIN:STANDARD
TZOFFSETFROM:+0200
TZOFFSETTO:+0100
TZNAME:CET
DTSTART:20261025T010000
END:STANDARD
END:VTIMEZONE
BEGIN:VEVENT
DTSTART;TZID=Europe/Berlin:20250627T173000
DTEND;TZID=Europe/Berlin:20250627T230000
DTSTAMP:20260420T151357
CREATED:20250407T112321Z
LAST-MODIFIED:20250703T121331Z
UID:1236-1751045400-1751065200@bibisbo.de
SUMMARY:Fränkel Open Air 2025: Glasperlenspiel sorgt für Sommerstimmung in Friedrichshafen
DESCRIPTION:Am Freitag\, den 27. Juni 2025\, verwandelt sich die Allmandstraße in Friedrichshafen in eine Open-Air-Partyzone. Das Fränkel Open Air präsentiert als Highlight des Abends ein Live-Konzert der bekannten Band Glasperlenspiel. Ab 17:30 Uhr (Einlass) können sich Besucher auf Hits wie „Ich wünsch dir noch ein geiles Leben“ freuen\, mit denen Caro und Daniel garantiert für ausgelassene Stimmung sorgen. \nMusikalisches Highlight und Sommerabendflair beim Fränkel Open Air 2025\nDie Veranstaltung verspricht einen unvergesslichen Sommerabend mit hochkarätiger Live-Musik. Neben dem 90-minütigen Konzert von Glasperlenspiel erwartet die Gäste ein abwechslungsreiches Angebot an drei Getränkeständen und verschiedenen Essenswägen. Im Anschluss an das Konzert sorgt ein DJ bis 23:00 Uhr für weitere Tanzmusik. Das Fränkel Open Air bildet den Auftakt für ein ganzes Wochenende voller Sommerfeeling und guter Laune am Bodensee. \nTickets und Spendenaktion \nDie limitierten Eintrittsbändchen für das Glasperlenspiel Konzert sind zum Preis von zehn Euro (ermäßigt fünf Euro für 6- bis 17-Jährige) im Vorverkauf sowie an der Abendkasse erhältlich. Sämtliche Einnahmen des Abends kommen der Aktion Häfler Helfen zugute. \nWarum man ein Konzert von Glasperlenspiel besuchen sollte\nGlasperlenspiel steht für modernen deutschen Elektro-Pop mit Tiefgang. Das Duo\, bestehend aus Carolin Niemczyk und Daniel Grunenberg\, begeistert seit über einem Jahrzehnt mit eingängigen Melodien\, tanzbaren Beats und nachdenklichen Texten. Bekannt wurden sie 2011 mit dem Hit Echt\, doch spätestens seit dem Ohrwurm Geiles Leben zählen sie zu den festen Größen der deutschsprachigen Poplandschaft. \nWas Glasperlenspiel auszeichnet\, ist ihre authentische Art\, relevante Themen wie Selbstfindung\, Zusammenhalt oder Digitalisierung musikalisch zu verpacken. Auf der Bühne entsteht daraus ein mitreißendes Live-Erlebnis – energiegeladen\, emotional und perfekt inszeniert. Lichtshow\, Sound und Stimme verschmelzen zu einem Gesamtpaket\, das Gänsehautmomente garantiert. \nEin Konzert von Glasperlenspiel ist mehr als Musik – es ist ein intensiver Abend voller Emotionen\, Nähe zum Publikum und Songs\, die noch lange im Ohr bleiben. Wer sie live erlebt\, versteht\, warum ihre Fangemeinde stetig wächst.
URL:https://bibisbo.de/event/fraenkel-open-air-2025-glasperlenspiel-friedrichshafen/
LOCATION:Friedrichshafen Fränkel Kochstudio\, Allmandstraße 6\, Friedrichshafen\, 88045\, Germany
CATEGORIES:Bodenseekreis,Friedrichshafen
END:VEVENT
END:VCALENDAR