BEGIN:VCALENDAR
VERSION:2.0
PRODID:-//BiBisBo - Veranstaltungen von Biberach bis Bodensee - ECPv6.15.20//NONSGML v1.0//EN
CALSCALE:GREGORIAN
METHOD:PUBLISH
X-WR-CALNAME:BiBisBo - Veranstaltungen von Biberach bis Bodensee
X-ORIGINAL-URL:https://bibisbo.de
X-WR-CALDESC:Veranstaltungen für BiBisBo - Veranstaltungen von Biberach bis Bodensee
REFRESH-INTERVAL;VALUE=DURATION:PT1H
X-Robots-Tag:noindex
X-PUBLISHED-TTL:PT1H
BEGIN:VTIMEZONE
TZID:Europe/Berlin
BEGIN:DAYLIGHT
TZOFFSETFROM:+0100
TZOFFSETTO:+0200
TZNAME:CEST
DTSTART:20240331T010000
END:DAYLIGHT
BEGIN:STANDARD
TZOFFSETFROM:+0200
TZOFFSETTO:+0100
TZNAME:CET
DTSTART:20241027T010000
END:STANDARD
BEGIN:DAYLIGHT
TZOFFSETFROM:+0100
TZOFFSETTO:+0200
TZNAME:CEST
DTSTART:20250330T010000
END:DAYLIGHT
BEGIN:STANDARD
TZOFFSETFROM:+0200
TZOFFSETTO:+0100
TZNAME:CET
DTSTART:20251026T010000
END:STANDARD
BEGIN:DAYLIGHT
TZOFFSETFROM:+0100
TZOFFSETTO:+0200
TZNAME:CEST
DTSTART:20260329T010000
END:DAYLIGHT
BEGIN:STANDARD
TZOFFSETFROM:+0200
TZOFFSETTO:+0100
TZNAME:CET
DTSTART:20261025T010000
END:STANDARD
END:VTIMEZONE
BEGIN:VEVENT
DTSTART;TZID=Europe/Berlin:20250924T000000
DTEND;TZID=Europe/Berlin:20250928T235959
DTSTAMP:20260424T072036
CREATED:20250403T100426Z
LAST-MODIFIED:20251007T070517Z
UID:584-1758672000-1759103999@bibisbo.de
SUMMARY:INTERBOOT 2025: Die Messe für Wassersportler am Bodensee
DESCRIPTION:Die internationale Wassersportausstellung in Friedrichshafen \nDie INTERBOOT in Friedrichshafen ist vom 24. bis 28. September 2025 derPlace-to-be für alle Wassersportbegeisterten. Auf dieser bedeutenden internationalen Wassersportausstellung präsentieren über 350 Aussteller aus mehr als 20 Ländern die neuesten Produkte\, Trends und Innovationen der Branche. Egal ob Sie sich für Segel- und Motorboote in allen Größen\, innovative Elektroboote\, wendige Jollen oder actionreiche Funsportarten wie Kiten und Wakeboarden interessieren – die INTERBOOT lässt keine Wünsche offen. \nVielfalt und maritimes Erlebnis \nEntdecken Sie ein breites Angebotsspektrum von Booten\, Yachten\, Motoren und Zubehör bis hin zu Ausrüstung für Tauchen und Navigation. Ein abwechslungsreiches Rahmenprogramm mit spannenden Vorträgen\, informativen Workshops und spektakulären Sport- und Showveranstaltungen sorgt für ein unvergessliches maritimes Erlebnis. Nutzen Sie zudem die einzigartige Gelegenheit\, Boote direkt vor Ort Probe zu fahren. Mit über 40.000 erwarteten Besuchern ist die INTERBOOT seit ihrer Erstveranstaltung 1962 ein fester Termin im Kalender der Wassersportwelt. Die Messe Friedrichshafen mit ihren 8 Hallen ist leicht zu erreichen.
URL:https://bibisbo.de/event/interboot-2025-die-messe-fuer-wassersportler-am-bodensee/
LOCATION:Friedrichshafen Messe\, Neue Messe 1\, Friedrichshafen\, 88046\, Germany
CATEGORIES:Bodenseekreis,Friedrichshafen
END:VEVENT
END:VCALENDAR