BEGIN:VCALENDAR
VERSION:2.0
PRODID:-//BiBisBo - Veranstaltungen von Biberach bis Bodensee - ECPv6.15.20//NONSGML v1.0//EN
CALSCALE:GREGORIAN
METHOD:PUBLISH
X-WR-CALNAME:BiBisBo - Veranstaltungen von Biberach bis Bodensee
X-ORIGINAL-URL:https://bibisbo.de
X-WR-CALDESC:Veranstaltungen für BiBisBo - Veranstaltungen von Biberach bis Bodensee
REFRESH-INTERVAL;VALUE=DURATION:PT1H
X-Robots-Tag:noindex
X-PUBLISHED-TTL:PT1H
BEGIN:VTIMEZONE
TZID:Europe/Berlin
BEGIN:DAYLIGHT
TZOFFSETFROM:+0100
TZOFFSETTO:+0200
TZNAME:CEST
DTSTART:20240331T010000
END:DAYLIGHT
BEGIN:STANDARD
TZOFFSETFROM:+0200
TZOFFSETTO:+0100
TZNAME:CET
DTSTART:20241027T010000
END:STANDARD
BEGIN:DAYLIGHT
TZOFFSETFROM:+0100
TZOFFSETTO:+0200
TZNAME:CEST
DTSTART:20250330T010000
END:DAYLIGHT
BEGIN:STANDARD
TZOFFSETFROM:+0200
TZOFFSETTO:+0100
TZNAME:CET
DTSTART:20251026T010000
END:STANDARD
BEGIN:DAYLIGHT
TZOFFSETFROM:+0100
TZOFFSETTO:+0200
TZNAME:CEST
DTSTART:20260329T010000
END:DAYLIGHT
BEGIN:STANDARD
TZOFFSETFROM:+0200
TZOFFSETTO:+0100
TZNAME:CET
DTSTART:20261025T010000
END:STANDARD
END:VTIMEZONE
BEGIN:VEVENT
DTSTART;TZID=Europe/Berlin:20250425T160000
DTEND;TZID=Europe/Berlin:20250425T233000
DTSTAMP:20260423T050120
CREATED:20250330T182137Z
LAST-MODIFIED:20250703T093545Z
UID:116-1745596800-1745623800@bibisbo.de
SUMMARY:Nacht der offenen Brauereien Ehingen 2025: Brautradition hautnah erleben
DESCRIPTION:Eintauchen in die Ehinger Brautradition\nAm Freitag\, den 25. April 2025\, öffnet die Bierkulturstadt Ehingen ihre traditionsreichen Brauereien für ein ganz besonderes Erlebnis: die „Nacht der offenen Brauereien“. An diesem Abend haben Bierliebhaber und Neugierige die einzigartige Gelegenheit\, die faszinierende Kunst des Bierbrauens hautnah zu erleben\, die Vielfalt der lokalen Biere zu schmecken und die besondere Atmosphäre in den Brauereien zu genießen. \nFünf Brauereien laden zum Genuss ein\nFünf namhafte Ehinger Institutionen öffnen ihre Tore und bieten ein abwechslungsreiches Programm für einen genussvollen Abend. Mit dabei sind die Brauerei Goldener Adler – Paulas Alb\, bekannt für ihre regionalen Spezialitäten\, die traditionsreiche Berg Brauerei\, die mit ihrer langen Geschichte beeindruckt\, der gemütliche Gasthof Brauerei Schwanen\, die Rössle Brauerei mit ihrem rustikalen Charme sowie der idyllische Biergarten Groggensee\, der zum Verweilen unter freiem Himmel einlädt. \nEin Abend voller Geschmackserlebnisse und guter Stimmung\nBei der „Nacht der offenen Brauereien“ steht das Erleben und Genießen im Vordergrund. Besucher können sich auf informative Einblicke in die Brauprozesse freuen\, die unterschiedlichen Biersorten der jeweiligen Brauerei probieren und sich von der Leidenschaft der Braumeister begeistern lassen. Ob traditionelles Pils\, würziges Weizenbier oder innovative Craft-Biere – für jeden Geschmack ist sicherlich das Richtige dabei. Die teilnehmenden Brauereien garantieren zudem beste Stimmung und laden dazu ein\, in geselliger Runde einen unvergesslichen Abend zu verbringen. \nJetzt vormerken: Die „Nacht der offenen Brauereien“ in Ehingen\nVerpassen Sie nicht die Gelegenheit\, die lebendige Brautradition der Bierkulturstadt Ehingen bei der „Nacht der offenen Brauereien“ am 25. April 2025 hautnah zu erleben. Ein Muss für alle Bierliebhaber und ein tolles Ausflugsziel für einen geselligen Freitagabend!
URL:https://bibisbo.de/event/nacht-der-offenen-brauereien-ehingen-2025-brautradition-hautnah-erleben/
LOCATION:Ehingen Innenstadt\, Marktplatz\, Ehingen (Donau)\, 89584\, Germany
CATEGORIES:Alb-Donau-Kreis,Ehingen (Donau)
END:VEVENT
END:VCALENDAR