BEGIN:VCALENDAR
VERSION:2.0
PRODID:-//BiBisBo - Veranstaltungen von Biberach bis Bodensee - ECPv6.15.20//NONSGML v1.0//EN
CALSCALE:GREGORIAN
METHOD:PUBLISH
X-ORIGINAL-URL:https://bibisbo.de
X-WR-CALDESC:Veranstaltungen für BiBisBo - Veranstaltungen von Biberach bis Bodensee
REFRESH-INTERVAL;VALUE=DURATION:PT1H
X-Robots-Tag:noindex
X-PUBLISHED-TTL:PT1H
BEGIN:VTIMEZONE
TZID:Europe/Berlin
BEGIN:DAYLIGHT
TZOFFSETFROM:+0100
TZOFFSETTO:+0200
TZNAME:CEST
DTSTART:20240331T010000
END:DAYLIGHT
BEGIN:STANDARD
TZOFFSETFROM:+0200
TZOFFSETTO:+0100
TZNAME:CET
DTSTART:20241027T010000
END:STANDARD
BEGIN:DAYLIGHT
TZOFFSETFROM:+0100
TZOFFSETTO:+0200
TZNAME:CEST
DTSTART:20250330T010000
END:DAYLIGHT
BEGIN:STANDARD
TZOFFSETFROM:+0200
TZOFFSETTO:+0100
TZNAME:CET
DTSTART:20251026T010000
END:STANDARD
BEGIN:DAYLIGHT
TZOFFSETFROM:+0100
TZOFFSETTO:+0200
TZNAME:CEST
DTSTART:20260329T010000
END:DAYLIGHT
BEGIN:STANDARD
TZOFFSETFROM:+0200
TZOFFSETTO:+0100
TZNAME:CET
DTSTART:20261025T010000
END:STANDARD
END:VTIMEZONE
BEGIN:VEVENT
DTSTART;TZID=Europe/Berlin:20251115T110000
DTEND;TZID=Europe/Berlin:20251223T210000
DTSTAMP:20260423T020735
CREATED:20250330T084606Z
LAST-MODIFIED:20251030T142444Z
UID:69-1763204400-1766523600@bibisbo.de
SUMMARY:Stimmungsvolle Vorweihnachtszeit am Bregenzer Weihnachtsmarkt 2025
DESCRIPTION:Erleben Sie den Zauber der Adventszeit auf dem traditionellen Bregenzer Weihnachtsmarkt am Kornmarktplatz und in der Rathausstraße. Vom 15. November bis zum 23. Dezember 2025 verwandelt sich die Innenstadt in ein winterliches Wunderland voller festlicher Düfte\, funkelnder Lichter und besinnlicher Klänge. \nTraditionelles Handwerk und Kulinarische Genüsse\nTauchen Sie ein in die Welt des traditionellen Handwerks und entdecken Sie einzigartige Geschenkideen an den zahlreichen liebevoll geschmückten Ständen. Von handgefertigten Holzspielzeugen über edle Keramik bis hin zu winterlicher Kleidung – hier finden Sie garantiert das Besondere für Ihre Liebsten. \nAuch für das leibliche Wohl ist bestens gesorgt: Genießen Sie herzhafte Schmankerl wie Bratwürste\, Kaiserschmarrn und wärmende Suppen. Süße Leckereien wie gebrannte Mandeln\, Lebkuchen und duftende Waffeln laden zum Naschen ein. Natürlich dürfen auch Glühwein und Punsch nicht fehlen\, um sich von innen aufzuwärmen und die festliche Stimmung zu genießen. \nWinterspaß für Groß und Klein: Eislaufen und „Eislätteleschiaßa“\nEin besonderes Highlight des Bregenzer Weihnachtsmarktes ist der Kunst-Eislaufplatz. Hier können Jung und Alt ihre Schlittschuhe anschnallen undPirouetten drehen oder einfach nur gemütlich ihre Runden ziehen. Wer es etwas actionreicher mag\, kann sich im traditionellen „Eislätteleschiaßa“ beweisen und seine Treffsicherheit unter Beweis stellen. \nKinderherzen schlagen höher: Das „Haus vom Nikolaus“ und die Weihnachtsbühne\nDie jüngsten Besucher:innen dürfen sich auf das „Haus vom Nikolaus“ freuen\, wo sicherlich die ein oder andere Überraschung wartet. Auf der Weihnachtsbühne erwartet die ganze Familie ein abwechslungsreiches musikalisches Programm mit weihnachtlichen Liedern\, besinnlichen Klängen und unterhaltsamen Darbietungen. \nFunkelndes Finale: Das „Rathausleuchten“\nEin weiteres Highlight\, das Sie sich nicht entgehen lassen sollten\, ist die beeindruckende Lichtshow „Rathausleuchten“. Jeden Abend erstrahlt die Fassade des Bregenzer Rathauses in einem festlichen Glanz aus bunten Lichtern und zauberhaften Projektionen und sorgt für eine unvergessliche Atmosphäre. \nÖffnungszeiten: \n\nHandel: Täglich bis 23. Dezember von 11:00 bis 20:00 Uhr\nGastronomie: Täglich bis 23. Dezember von 11:00 bis 21:00 Uhr
URL:https://bibisbo.de/event/stimmungsvolle-vorweihnachtszeit-am-bregenzer-weihnachtsmarkt-2025/
LOCATION:Bregenz Sparkassenplatz\, Sparkassenplatz\, Bregenz\, Austria
CATEGORIES:Bregenz,Vorarlberg in Österreich
END:VEVENT
BEGIN:VEVENT
DTSTART;TZID=Europe/Berlin:20251127T110000
DTEND;TZID=Europe/Berlin:20251221T210000
DTSTAMP:20260423T020736
CREATED:20250330T085804Z
LAST-MODIFIED:20251030T142439Z
UID:74-1764241200-1766350800@bibisbo.de
SUMMARY:Lindauer Hafenweihnacht 2025: Magischer Weihnachtszauber am Bodensee
DESCRIPTION:Erleben Sie die festliche Atmosphäre der traditionellen Lindauer Hafenweihnacht vom 27. November bis zum 21. Dezember 2025. An den Adventswochenenden\, jeweils von Donnerstag bis Sonntag\, verwandelt sich der malerische Hafen der bayerischen Bodenseestadt in ein stimmungsvolles Winterparadies. \nRomantisches Ambiente am See\nDie Lindauer Hafenweihnacht ist bekannt für ihr einzigartiges Flair direkt am Wasser. Flanieren Sie entlang der festlich geschmückten Budenpromenade\, genießen Sie den Blick auf den glitzernden Bodensee und lassen Sie sich von den winterlichen Klängen verzaubern. Der Duft von gebrannten Mandeln\, Glühwein und Tannengrün liegt in der Luft und versetzt Besucher jeden Alters in eine besinnliche Weihnachtsstimmung. \nKunsthandwerk und Kulinarische Köstlichkeiten\nAn den liebevoll dekorierten Ständen präsentieren regionale und überregionale Händler eine vielfältige Auswahl an traditionellem Kunsthandwerk\, originellen Geschenkideen und weihnachtlichen Dekorationen. Ob handgefertigter Schmuck\, Holzschnitzereien oder wärmende Textilien – hier finden Sie sicher das passende Präsent für Ihre Liebsten. \nAuch für das leibliche Wohl ist bestens gesorgt. Wärmen Sie sich mit einem heißen Glühwein oder Punsch auf und probieren Sie die zahlreichen regionalen Spezialitäten und weihnachtlichen Leckereien. Von deftigen Schmankerln bis hin zu süßen Köstlichkeiten ist für jeden Geschmack etwas dabei. \nBesondere Highlights und Öffnungszeiten\nDie Lindauer Hafenweihnacht 2025 verspricht auch in diesem Jahr wieder einige besondere Highlights\, die Ihren Besuch unvergesslich machen werden. (An dieser Stelle könnten\, falls bekannt\, spezifische Attraktionen wie Musikdarbietungen\, Kinderaktionen etc. ergänzt werden). \nÖffnungszeiten: \n\nDatum: 27. November bis 21. Dezember 2025\nTage: Donnerstag bis Sonntag\nUhrzeit: jeweils 11:00 Uhr bis 21:00 Uhr\n\nVerpassen Sie nicht dieses stimmungsvolle Vorweihnachtserlebnis am Bodensee!
URL:https://bibisbo.de/event/lindauer-hafenweihnacht-2025-magischer-weihnachtszauber-am-bodensee/
LOCATION:Lindau Hafen\, Hafen\, Lindau\, Germany
CATEGORIES:Landkreis Lindau,Lindau
END:VEVENT
BEGIN:VEVENT
DTSTART;TZID=Europe/Berlin:20251128T000000
DTEND;TZID=Europe/Berlin:20251221T235959
DTSTAMP:20260423T020736
CREATED:20250330T213957Z
LAST-MODIFIED:20251030T142435Z
UID:158-1764288000-1766361599@bibisbo.de
SUMMARY:Bodensee-Weihnacht 2025: Festlicher Zauber am Friedrichshafener Seeufer
DESCRIPTION:Vorfreude auf die festlichste Zeit des Jahres in Friedrichshafen \nDie Vorfreude auf Weihnachten steigt und der Bodensee erstrahlt in festlichem Glanz: Vom 28. November bis zum 21. Dezember 2025 verwandelt sich der malerische Buchhornplatz in Friedrichshafen in ein stimmungsvolles Winterwunderland. Die Bodensee-Weihnacht 2025 lädt Einheimische und Besucher herzlich ein\, die besinnliche Adventszeit in vollen Zügen zu genießen. Tauchen Sie ein in die zauberhafte Atmosphäre und lassen Sie sich von weihnachtlichen Düften und Lichtern verzaubern. \nGemütliches Bummeln durch das festliche Hüttendorf \nHerzstück der Bodensee-Weihnacht ist das liebevoll gestaltete Hüttendorf auf dem Buchhornplatz. Hier präsentieren zahlreiche Aussteller eine vielfältige Auswahl an traditionellem Handwerk\, originellen Geschenkideen und winterlichen Köstlichkeiten. Ob handgefertigter Weihnachtsschmuck\, wärmende Textilien oder regionale Spezialitäten – bei einem gemütlichen Bummel durch die festlich geschmückten Buden findet sich sicher das passende Präsent für Ihre Liebsten oder eine schöne Erinnerung an Ihren Besuch. Der Duft von gebrannten Mandeln\, Glühwein und Tannengrün liegt in der Luft und sorgt für eine behagliche Weihnachtsstimmung. \nUnterhaltung und Verweilen: Das Bühnenprogramm der Bodensee-Weihnacht \nNeben dem vielfältigen Angebot in den Hütten lädt ein abwechslungsreiches Bühnenprogramm zum Verweilen und Genießen ein. Freuen Sie sich auf musikalische Darbietungen\, weihnachtliche Geschichten und unterhaltsame Vorführungen für Groß und Klein. Das Programm sorgt für festliche Unterhaltung und trägt zur besinnlichen Atmosphäre bei. Wärmen Sie sich bei einem heißen Getränk auf und genießen Sie die vorweihnachtliche Stimmung direkt am Ufer des winterlichen Bodensees. \nÖffnungszeiten der Bodensee-Weihnacht 2025 \nDamit Sie Ihren Besuch optimal planen können\, hier die Öffnungszeiten der Bodensee-Weihnacht in Friedrichshafen: \n\nMontag bis Donnerstag: 12:00 – 20:00 Uhr*\nFreitag bis Sonntag: 11:00 – 20:00 Uhr*\n\nBitte beachten Sie\, dass die Gastronomie-Stände und der Ausschank an allen Tagen bis 22:00 Uhr geöffnet sein können. \nErleben Sie die magische Bodensee-Weihnacht 2025 in Friedrichshafen und stimmen Sie sich auf eine wundervolle Weihnachtszeit ein! Wir freuen uns auf Ihren Besuch am Buchhornplatz.
URL:https://bibisbo.de/event/bodensee-weihnacht-2025-festlicher-zauber-am-friedrichshafener-seeufer/
LOCATION:Friedrichshafen Innenstadt\, Uferpromenade\, Friedrichshafen\, 88045\, Germany
CATEGORIES:Bodenseekreis,Friedrichshafen
END:VEVENT
BEGIN:VEVENT
DTSTART;TZID=Europe/Berlin:20251202T080000
DTEND;TZID=Europe/Berlin:20251202T160000
DTSTAMP:20260423T020736
CREATED:20251029T085628Z
LAST-MODIFIED:20251106T153039Z
UID:2880-1764662400-1764691200@bibisbo.de
SUMMARY:Nikolausmarkt in Bad Buchau 2025
DESCRIPTION:Am Dienstag\, den 2. Dezember 2025\, verwandelt sich der historische Marktplatz von Bad Buchau von 08:00 Uhr bis 16:00 Uhr in ein festliches Zentrum der Vorweihnachtszeit: Der traditionelle Nikolausmarkt lädt Besucherinnen und Besucher aus nah und fern zum Schauen\, Entdecken und Genießen ein. Dieser beliebte Markt\, der seit Jahren ein Highlight im regionalen Veranstaltungskalender darstellt\, stimmt auf die bevorstehende Adventszeit ein und bietet eine charmante Gelegenheit\, die ersten Weihnachtsgeschenke zu finden oder sich mit Leckereien zu verwöhnen. \nZahlreiche Stände präsentieren eine bunte Vielfalt an Waren. Von handgefertigten Geschenkartikeln über dekorative Weihnachtsaccessoires bis hin zu regionalen Spezialitäten – hier findet sich für jeden Geschmack etwas. Auch für das leibliche Wohl ist bestens gesorgt: Duftender Glühwein\, gebrannte Mandeln und herzhafte Köstlichkeiten laden zum Verweilen und Genießen in der malerischen Kulisse des Marktplatzes ein. Der Nikolausmarkt in Bad Buchau ist nicht nur ein Einkaufserlebnis\, sondern auch ein Treffpunkt für die Gemeinschaft\, um in gemütlicher Atmosphäre die beginnende Weihnachtszeit zu zelebrieren. \nMerken Sie sich diesen Termin vor und erleben Sie einen Tag voller vorweihnachtlicher Freude und Tradition. Ein Besuch des Marktes am Marktplatz Bad Buchau ist der perfekte Start in den Dezember.
URL:https://bibisbo.de/event/nikolausmarkt-in-bad-buchau/
LOCATION:Bad Buchau Marktplatz\, Marktplatz\, Bad Buchau\, 88422\, Germany
CATEGORIES:Bad Buchau
END:VEVENT
BEGIN:VEVENT
DTSTART;TZID=Europe/Berlin:20251204T160000
DTEND;TZID=Europe/Berlin:20251207T200000
DTSTAMP:20260423T020736
CREATED:20250330T214459Z
LAST-MODIFIED:20251029T150050Z
UID:160-1764864000-1765137600@bibisbo.de
SUMMARY:Advent im Schlosshof Friedrichshafen 2025: Gemütlicher Weihnachtszauber
DESCRIPTION:Stimmungsvoller Weihnachtsmarkt im Herzen von Friedrichshafen \nErleben Sie vom 04. Dezember bis zum 07. Dezember 2025 eine besinnliche Vorweihnachtszeit beim „Advent im Schlosshof“ in Friedrichshafen. Dieser kleine\, aber feine Weihnachtsmarkt im malerischen Ambiente des Schloss Friedrichshafen lädt zum Verweilen und Genießen ein. \nGemütlichkeit am offenen Feuer und regionale Köstlichkeiten\nAbseits des Trubels großer Weihnachtsmärkte erwartet Sie hier eine gemütliche Atmosphäre mit offenem Feuer\, das zum Aufwärmen einlädt. Genießen Sie hausgemachten Glühwein und lassen Sie sich von regionalen Speisenverwöhnen. Der „Advent im Schlosshof“ ist der ideale Ort\, um in entspannter Umgebung die Vorfreude auf Weihnachten zu genießen.
URL:https://bibisbo.de/event/advent-im-schlosshof-friedrichshafen-2025-gemuetlicher-weihnachtszauber/
LOCATION:Friedrichshafen Schloss\, Schlossstrasse 1\, Friedrichshafen\, 88045\, Germany
CATEGORIES:Bodenseekreis,Friedrichshafen
END:VEVENT
BEGIN:VEVENT
DTSTART;TZID=Europe/Berlin:20251206T120000
DTEND;TZID=Europe/Berlin:20251221T170000
DTSTAMP:20260423T020736
CREATED:20251103T094426Z
LAST-MODIFIED:20251103T094426Z
UID:3098-1765022400-1766336400@bibisbo.de
SUMMARY:Zauberhafter Weihnachtsmarkt auf der Bregenzer Hütte 2025
DESCRIPTION:Die Bregenzer Hütte in Schwarzenberg lädt an jedem Adventswochenende im Dezember 2025 zu einem stimmungsvollen Weihnachtsmarkt ein. Jeweils samstags und sonntags\, vom 6. bis zum 21. Dezember\, können Besucherinnen und Besucher zwischen 12:00 und 17:00 Uhr die vorweihnachtliche Atmosphäre am Klausberg genießen. \nAlpiner Charme und Handgemachtes\nDas Team der Bregenzer Hütte verzaubert die Gäste mit liebevoll zubereiteten Schmankerln sowie wärmenden Getränken wie Glühwein\, Glühmost und Jagertee. An den Ständen lassen sich kleine\, handgemachte Schätze entdecken\, die im Laufe des Jahres mit viel Liebe gestaltet wurden – ideal zum Stöbern und als Geschenkidee. Am 6. Dezember wartet zudem eine besondere Überraschung auf die jungen Gäste: Der Nikolaus verteilt kleine Säckchen an die Kinder. Genießen Sie die gemütliche Atmosphäre hoch über Schwarzenberg.
URL:https://bibisbo.de/event/zauberhafter-weihnachtsmarkt-auf-der-bregenzer-huette-2025/
CATEGORIES:Schwarzenberg,Vorarlberg in Österreich
END:VEVENT
BEGIN:VEVENT
DTSTART;TZID=Europe/Berlin:20251208T100000
DTEND;TZID=Europe/Berlin:20251208T160000
DTSTAMP:20260423T020736
CREATED:20251029T174718Z
LAST-MODIFIED:20251030T103901Z
UID:2928-1765188000-1765209600@bibisbo.de
SUMMARY:Adventstimmung in Bezau: Der Weihnachtsmarkt auf der Flaniermeile
DESCRIPTION:Der beliebte Weihnachtsmarkt „Advent auf der Flaniermeile“ in Bezau lädt Besucherinnen und Besucher dazu ein\, sich auf die bevorstehende Weihnachtszeit einzustimmen. Das Event bietet die perfekte Gelegenheit\, um schon frühzeitig in festliche Stimmung zu kommen und die ersten Vorboten des Advents zu genießen. \nWas erwartet Besucher beim Weihnachtsmarkt auf der Flaniermeile in Bezau?\nAm Samstag\, den 8. November 2025\, von 10:00 bis 16:00 Uhr\, verwandelt sich die malerische Flaniermeile Bezau in ein stimmungsvolles Weihnachtsparadies. Entlang der Flaniermeile Bezau (Platz 39\, 6870 Bezau) können Gäste bei einem wärmenden Glas des ersten Glühweins der Saison die aktuellen Weihnachtstrends und festliche Dekorationen entdecken. Der Markt ist ideal\, um Inspirationen für die eigene Weihnachtsgestaltung zu sammeln oder bereits die ersten Geschenke zu erwerben. Entdecken Sie weitere Veranstaltungen in Vorarlberg.
URL:https://bibisbo.de/event/adventstimmung-in-bezau-der-weihnachtsmarkt-auf-der-flaniermeile/
CATEGORIES:Bezau,Vorarlberg in Österreich
END:VEVENT
BEGIN:VEVENT
DTSTART;TZID=Europe/Berlin:20251212T000000
DTEND;TZID=Europe/Berlin:20251221T235959
DTSTAMP:20260423T020736
CREATED:20250330T211750Z
LAST-MODIFIED:20251029T150043Z
UID:147-1765497600-1766361599@bibisbo.de
SUMMARY:✨ Stimmungsvoller Weihnachtsmarkt Ehingen 2025 im Herzen der Stadt ✨
DESCRIPTION:Erleben Sie die festliche Jahreszeit auf dem traditionellen Weihnachtsmarkt in Ehingen! Vom 12. bis zum 21. Dezember 2025 verwandelt sich der Marktplatz im Stadtzentrum in ein zauberhaftes Winterwunderland. Genießen Sie die besinnliche Atmosphäre\, den Duft von Glühwein und gebrannten Mandeln und entdecken Sie handgefertigte Geschenkideen. \nStimmungsvolles Ambiente auf dem Marktplatz \nDer Ehinger Weihnachtsmarkt lockt mit liebevoll geschmückten Ständen und einer festlichen Beleuchtung. Hier finden Sie eine vielfältige Auswahl an weihnachtlichen Leckereien\, von herzhaften Spezialitäten bis zu süßen Köstlichkeiten. Wärmen Sie sich mit einem heißen Getränk auf und lassen Sie sich von der vorweihnachtlichen Stimmung verzaubern.
URL:https://bibisbo.de/event/%e2%9c%a8-stimmungsvoller-weihnachtsmarkt-ehingen-2025-im-herzen-der-stadt-%e2%9c%a8/
LOCATION:Ehingen Innenstadt\, Marktplatz\, Ehingen (Donau)\, 89584\, Germany
CATEGORIES:Alb-Donau-Kreis,Ehingen (Donau)
END:VEVENT
BEGIN:VEVENT
DTSTART;TZID=Europe/Berlin:20251214T110000
DTEND;TZID=Europe/Berlin:20251214T170000
DTSTAMP:20260423T020736
CREATED:20251210T134259Z
LAST-MODIFIED:20251210T134417Z
UID:3336-1765710000-1765731600@bibisbo.de
SUMMARY:Weihnachtsdorf im Kieswerk Wagenhart Bad Saulgau 2025
DESCRIPTION:Am 14. Dezember 2025 verwandelt sich das Kieswerk Wagenhart in Bad Saulgau erneut in ein zauberhaftes Weihnachtsdorf. Von 11:00 bis 17:00 Uhr öffnet dieser ungewöhnliche Veranstaltungsort seine Tore und lädt Besucher aus Nah und Fern dazu ein\, die vorweihnachtliche Stimmung in einem ganz besonderen Ambiente zu genießen. Die BiBisBo-Redaktion empfiehlt diese Veranstaltung als einen stimmungsvollen Höhepunkt im regionalen Adventskalender. \nLichterglanz\, Köstlichkeiten und Attraktionen\nDie Organisatoren haben ein vielfältiges Programm auf die Beine gestellt\, das für jeden Geschmack etwas bereithält. Das Kieswerk wird in ein Meer aus Lichtern getaucht und verströmt weihnachtliche Düfte. Zahlreiche bunte Stände bieten eine Fülle von Geschenkideen und handwerklichen Produkten. \nSelbstverständlich ist auch für das leibliche Wohl bestens gesorgt: Besucher können sich auf jede Menge leckeres Essenfreuen\, von deftigen Speisen bis zu süßen Leckereien. Dazu gibt es klassischen heißen Glühwein und weitere festliche Getränke\, um in geselliger Runde anzustoßen. Verschiedene tolle Attraktionen runden das Angebot ab und machen den Besuch zu einem Erlebnis für die ganze Familie – ob für Freunde\, Kollegen oder Familien mit Kindern. \nGutes tun mit jedem Schluck Glühwein\nDas Besondere an dieser Veranstaltung ist ihr wohltätiger Charakter: Wie in den Vorjahren werden alle Einnahmen aus dem Weihnachtsdorf für den guten Zweck gespendet. Der Erlös kommt der Buki-Kinderhilfe e.V. zugute. Mit dem Besuch unterstützen die Gäste somit direkt die wichtige Arbeit des Vereins. \nNutzen Sie die Gelegenheit\, einen stimmungsvollen Adventssonntag zu verbringen und gleichzeitig eine regionale Hilfsorganisation zu unterstützen. Die festliche Atmosphäre des Weihnachtsdorfes im Kieswerk Wagenhart verspricht einen unvergesslichen Tag. \n\n   \n\n\n\n\n\n\n\n\n\n\nView this post on Instagram
URL:https://bibisbo.de/event/weihnachtsdorf-im-kieswerk-wagenhart-bad-saulgau-2025/
LOCATION:Bad Saulgau Innenstadt\, Innenstadt\, Bad Saulgau\, 88348
CATEGORIES:Bad Saulgau
END:VEVENT
BEGIN:VEVENT
DTSTART;TZID=Europe/Berlin:20251220T160000
DTEND;TZID=Europe/Berlin:20251220T213000
DTSTAMP:20260423T020736
CREATED:20251006T130620Z
LAST-MODIFIED:20251029T150036Z
UID:2609-1766246400-1766266200@bibisbo.de
SUMMARY:Gauinger Winterzauber 2025
DESCRIPTION:Der Gauinger Winterzauber 2025 lädt am Samstag\, den 20. Dezember 2025\, ab 16:00 Uhr zu einem stimmungsvollen vorweihnachtlichen Beisammensein ein. Organisiert vom Tennisclub Gauingen und der Freiwilligen Feuerwehr Abt. Gauingen\, findet dieser beliebte Hock traditionell Am Gasthaus Grüner Baum in Gauingen statt. \nWas Besucher beim diesjährigen Gauinger Winterzauber erwartet\nDie Besucher erwartet ein gemütlicher\, winterlicher Treffpunkt\, der sich rund um das Gasthaus und in der festlich geschmückten Weihnachtsscheune erstreckt. Für das leibliche Wohl wird bestens gesorgt: Es werden herzhafte Wildgerichte und weitere Köstlichkeiten sowie wärmender Glühwein und Punsch angeboten. Auch das Gasthaus „Grüner Baum“ hat geöffnet. Der Gauinger Winterzauber bietet die perfekte Gelegenheit\, die Wartezeit bis Weihnachten in geselliger Runde zu genießen. \nVeranstalter: Tennisclub Gauingen und Freiw. Feuerwehr Abt. Gauingen
URL:https://bibisbo.de/event/gauinger-winterzauber-2025/
LOCATION:Zwiefalten\, B312\, Zwiefalten\, 88529\, Germany
CATEGORIES:Landkreis Reutlingen,Zwiefalten
END:VEVENT
END:VCALENDAR