BEGIN:VCALENDAR
VERSION:2.0
PRODID:-//BiBisBo - Veranstaltungen von Biberach bis Bodensee - ECPv6.15.20//NONSGML v1.0//EN
CALSCALE:GREGORIAN
METHOD:PUBLISH
X-WR-CALNAME:BiBisBo - Veranstaltungen von Biberach bis Bodensee
X-ORIGINAL-URL:https://bibisbo.de
X-WR-CALDESC:Veranstaltungen für BiBisBo - Veranstaltungen von Biberach bis Bodensee
REFRESH-INTERVAL;VALUE=DURATION:PT1H
X-Robots-Tag:noindex
X-PUBLISHED-TTL:PT1H
BEGIN:VTIMEZONE
TZID:Europe/Berlin
BEGIN:DAYLIGHT
TZOFFSETFROM:+0100
TZOFFSETTO:+0200
TZNAME:CEST
DTSTART:20250330T010000
END:DAYLIGHT
BEGIN:STANDARD
TZOFFSETFROM:+0200
TZOFFSETTO:+0100
TZNAME:CET
DTSTART:20251026T010000
END:STANDARD
BEGIN:DAYLIGHT
TZOFFSETFROM:+0100
TZOFFSETTO:+0200
TZNAME:CEST
DTSTART:20260329T010000
END:DAYLIGHT
BEGIN:STANDARD
TZOFFSETFROM:+0200
TZOFFSETTO:+0100
TZNAME:CET
DTSTART:20261025T010000
END:STANDARD
BEGIN:DAYLIGHT
TZOFFSETFROM:+0100
TZOFFSETTO:+0200
TZNAME:CEST
DTSTART:20270328T010000
END:DAYLIGHT
BEGIN:STANDARD
TZOFFSETFROM:+0200
TZOFFSETTO:+0100
TZNAME:CET
DTSTART:20271031T010000
END:STANDARD
END:VTIMEZONE
BEGIN:VEVENT
DTSTART;TZID=Europe/Berlin:20260116T000000
DTEND;TZID=Europe/Berlin:20260118T235959
DTSTAMP:20260423T213627
CREATED:20250407T221449Z
LAST-MODIFIED:20251029T150032Z
UID:1260-1768521600-1768780799@bibisbo.de
SUMMARY:HAUS | BAU | ENERGIE Donaueschingen 2026
DESCRIPTION:Die Messe HAUS | BAU | ENERGIE Donaueschingen präsentiert vom 16. bis 18. Januar 2026 in den Donauhallen ein umfassendes Angebot rund um Neubau\, Umbau\, Sanierung und modernes Wohnen. Zahlreiche Hersteller\, Dienstleister und Handwerksbetriebe informieren und beraten Besucher zu aktuellen Trends\, Materialien und Technologien. Experten geben in Fachvorträgen wertvolle Einblicke zu Themen wie energieeffizientes Bauen\, Finanzierung und Fördermöglichkeiten. Die Messe bietet eine ideale Plattform\, um sich umfassend zu informieren und kompetente Ansprechpartner für das eigene Bau- oder Wohnprojekt zu finden.
URL:https://bibisbo.de/event/haus-bau-energie-donaueschingen-2026/
LOCATION:Donaueschingen Donauhallen\, An der Donauhalle 2\, Donaueschingen\, 78166\, Germany
CATEGORIES:Donaueschingen,Schwarzwald-Baar-Kreis
END:VEVENT
BEGIN:VEVENT
DTSTART;TZID=Europe/Berlin:20260131T000000
DTEND;TZID=Europe/Berlin:20260201T235959
DTSTAMP:20260423T213627
CREATED:20250406T122833Z
LAST-MODIFIED:20251029T150027Z
UID:1137-1769817600-1769990399@bibisbo.de
SUMMARY:meinZuhause! Hegau 2026: Die Bau- und Immobilienmesse in Singen
DESCRIPTION:Die meinZuhause! Hegau 2026 in Singen ist die ideale Anlaufstelle für alle\, die sich für Hausbau\, Immobilien\, Finanzierung\, Energie\, Renovierung oder Einrichtung interessieren. Zahlreiche Aussteller präsentieren auf der Messe in der Stadthalle Singen ihre Produkte und Dienstleistungen. Besucher erhalten umfassende Informationen zu Fördermitteln\, Haustechnik\, Einbruchschutz und können sich Inspirationen für Garten und Sanierung holen. Ein begleitendes Vortragsprogramm bietet wertvolle Tipps und Neuerungen zu aktuellen Themen. Die Bau- und Immobilienmesse meinZuhause! in Singen findet am 31.01.2026 und 01.02.2026 statt und ist somit die perfekte Plattform für Neubauinteressenten\, Immobiliensuchende sowie Renovierer und Sanierer.
URL:https://bibisbo.de/event/meinzuhause-hegau-2026-die-bau-und-immobilienmesse-in-singen/
LOCATION:Singen Stadthalle\, Hohgarten 4\, SINGEN (HOHENTWIEL)\, 78224\, Germany
CATEGORIES:Landkreis Konstanz,Singen (Hohentwiel)
END:VEVENT
END:VCALENDAR