BEGIN:VCALENDAR
VERSION:2.0
PRODID:-//BiBisBo - Veranstaltungen von Biberach bis Bodensee - ECPv6.15.20//NONSGML v1.0//EN
CALSCALE:GREGORIAN
METHOD:PUBLISH
X-ORIGINAL-URL:https://bibisbo.de
X-WR-CALDESC:Veranstaltungen für BiBisBo - Veranstaltungen von Biberach bis Bodensee
REFRESH-INTERVAL;VALUE=DURATION:PT1H
X-Robots-Tag:noindex
X-PUBLISHED-TTL:PT1H
BEGIN:VTIMEZONE
TZID:Europe/Berlin
BEGIN:DAYLIGHT
TZOFFSETFROM:+0100
TZOFFSETTO:+0200
TZNAME:CEST
DTSTART:20250330T010000
END:DAYLIGHT
BEGIN:STANDARD
TZOFFSETFROM:+0200
TZOFFSETTO:+0100
TZNAME:CET
DTSTART:20251026T010000
END:STANDARD
BEGIN:DAYLIGHT
TZOFFSETFROM:+0100
TZOFFSETTO:+0200
TZNAME:CEST
DTSTART:20260329T010000
END:DAYLIGHT
BEGIN:STANDARD
TZOFFSETFROM:+0200
TZOFFSETTO:+0100
TZNAME:CET
DTSTART:20261025T010000
END:STANDARD
BEGIN:DAYLIGHT
TZOFFSETFROM:+0100
TZOFFSETTO:+0200
TZNAME:CEST
DTSTART:20270328T010000
END:DAYLIGHT
BEGIN:STANDARD
TZOFFSETFROM:+0200
TZOFFSETTO:+0100
TZNAME:CET
DTSTART:20271031T010000
END:STANDARD
END:VTIMEZONE
BEGIN:VEVENT
DTSTART;TZID=Europe/Berlin:20260131T000000
DTEND;TZID=Europe/Berlin:20260201T235959
DTSTAMP:20260423T220652
CREATED:20250406T122833Z
LAST-MODIFIED:20251029T150027Z
UID:1137-1769817600-1769990399@bibisbo.de
SUMMARY:meinZuhause! Hegau 2026: Die Bau- und Immobilienmesse in Singen
DESCRIPTION:Die meinZuhause! Hegau 2026 in Singen ist die ideale Anlaufstelle für alle\, die sich für Hausbau\, Immobilien\, Finanzierung\, Energie\, Renovierung oder Einrichtung interessieren. Zahlreiche Aussteller präsentieren auf der Messe in der Stadthalle Singen ihre Produkte und Dienstleistungen. Besucher erhalten umfassende Informationen zu Fördermitteln\, Haustechnik\, Einbruchschutz und können sich Inspirationen für Garten und Sanierung holen. Ein begleitendes Vortragsprogramm bietet wertvolle Tipps und Neuerungen zu aktuellen Themen. Die Bau- und Immobilienmesse meinZuhause! in Singen findet am 31.01.2026 und 01.02.2026 statt und ist somit die perfekte Plattform für Neubauinteressenten\, Immobiliensuchende sowie Renovierer und Sanierer.
URL:https://bibisbo.de/event/meinzuhause-hegau-2026-die-bau-und-immobilienmesse-in-singen/
LOCATION:Singen Stadthalle\, Hohgarten 4\, SINGEN (HOHENTWIEL)\, 78224\, Germany
CATEGORIES:Landkreis Konstanz,Singen (Hohentwiel)
END:VEVENT
BEGIN:VEVENT
DTSTART;TZID=Europe/Berlin:20260207T000000
DTEND;TZID=Europe/Berlin:20260208T235959
DTSTAMP:20260423T220652
CREATED:20250402T152529Z
LAST-MODIFIED:20251029T150026Z
UID:435-1770422400-1770595199@bibisbo.de
SUMMARY:BAUPLUS Kaufbeuren 2026: Die Baumesse für das Allgäu
DESCRIPTION:Die BAUPLUS Kaufbeuren öffnet vom 07. bis 08. Februar 2026 erneut ihre Tore im Allgäu-Messe- und Event-Center. Als etablierte Bau- und Einrichtungsmesse ist die BAUPLUS die ideale Plattform für kleine und mittelständische Betriebe\, Handwerksbetriebe\, Hersteller und Dienstleister der Region. \nEntdecken Sie Trends und Innovationen rund ums Bauen\, Wohnen und Einrichten \nRund 90 Aussteller präsentieren auf der Fachmesse in Kaufbeuren ein breites Spektrum an Produkten und Dienstleistungen aus den Bereichen Bauen\, Renovieren\, Sanieren\, Wohnen und Garten. Informieren Sie sich über aktuelle Trends bei Dach- und Bodenbelägen\, entdecken Sie vielfältige Wintergärten und finden Sie Lösungen für mehr Sicherheit mit einbruchsicheren Fenstern und Türen sowie moderner Überwachungstechnik und effektivem Insektenschutz. \nEin besonderer Fokus liegt zudem auf neuester Haus- und Heiztechnik\, Speichern für Solarenergie und Förderprogrammen. Ergänzt wird die Ausstellung durch ein informatives Vortragsprogramm zu Themen wie Einbruchschutz und energieeffizientes Bauen und Sanieren.
URL:https://bibisbo.de/event/bauplus-kaufbeuren-2026-die-baumesse-fuer-das-allgaeu/
LOCATION:Kaufbeuren Allgäu Messe Center\, Daniel-Kohler-Str. 2\, Kaufbeuren\, 87600\, Germany
CATEGORIES:Kaufbeuren,Regierungsbezirk Schwaben (Bayern)
END:VEVENT
BEGIN:VEVENT
DTSTART;TZID=Europe/Berlin:20260221T000000
DTEND;TZID=Europe/Berlin:20260222T235959
DTSTAMP:20260423T220652
CREATED:20250404T091657Z
LAST-MODIFIED:20251029T150024Z
UID:811-1771632000-1771804799@bibisbo.de
SUMMARY:BAUPLUS Albstadt 2026: Die Messe für Bauen\, Wohnen und Renovieren
DESCRIPTION:Die BAUPLUS Albstadt ist die etablierte Bau- und Einrichtungsmesse im Zollern-Alb-Kreis. Vom 21. bis 22. Februar 2026 präsentieren rund 60 Aussteller in der Zollern-Alb-Halle auf 2.000 m² Fläche ein breites Spektrum an Produkten und Dienstleistungen rund um Bauen\, Renovieren\, Sanieren\, Wohnen und Garten. \nHighlights der Messe \n\nVielfältiges Ausstellerangebot: Handwerksbetriebe\, Hersteller und Dienstleister zeigen neueste Trends und Innovationen.\nThemenvielfalt: Dach- und Bodenbeläge\, Wintergärten\, einbruchssichere Fenster und Türen\, Überwachungstechnik\, Insektenschutz\, Haus- und Heiztechnik\, Solarenergie und vieles mehr.\nInformatives Vortragsprogramm: Expertenvorträge zu Themen wie Einbruchschutz und energieeffizientes Bauen.
URL:https://bibisbo.de/event/bauplus-albstadt-2026-die-messe-fuer-bauen-wohnen-und-renovieren/
LOCATION:Albstadt Zollern-Alb-Halle\, Untere Bachstraße 135\, Albstadt\, 72461\, Germany
CATEGORIES:Albstadt,Zollernalbkreis
END:VEVENT
END:VCALENDAR