BEGIN:VCALENDAR
VERSION:2.0
PRODID:-//BiBisBo - Veranstaltungen von Biberach bis Bodensee - ECPv6.15.20//NONSGML v1.0//EN
CALSCALE:GREGORIAN
METHOD:PUBLISH
X-ORIGINAL-URL:https://bibisbo.de
X-WR-CALDESC:Veranstaltungen für BiBisBo - Veranstaltungen von Biberach bis Bodensee
REFRESH-INTERVAL;VALUE=DURATION:PT1H
X-Robots-Tag:noindex
X-PUBLISHED-TTL:PT1H
BEGIN:VTIMEZONE
TZID:Europe/Berlin
BEGIN:DAYLIGHT
TZOFFSETFROM:+0100
TZOFFSETTO:+0200
TZNAME:CEST
DTSTART:20240331T010000
END:DAYLIGHT
BEGIN:STANDARD
TZOFFSETFROM:+0200
TZOFFSETTO:+0100
TZNAME:CET
DTSTART:20241027T010000
END:STANDARD
BEGIN:DAYLIGHT
TZOFFSETFROM:+0100
TZOFFSETTO:+0200
TZNAME:CEST
DTSTART:20250330T010000
END:DAYLIGHT
BEGIN:STANDARD
TZOFFSETFROM:+0200
TZOFFSETTO:+0100
TZNAME:CET
DTSTART:20251026T010000
END:STANDARD
BEGIN:DAYLIGHT
TZOFFSETFROM:+0100
TZOFFSETTO:+0200
TZNAME:CEST
DTSTART:20260329T010000
END:DAYLIGHT
BEGIN:STANDARD
TZOFFSETFROM:+0200
TZOFFSETTO:+0100
TZNAME:CET
DTSTART:20261025T010000
END:STANDARD
END:VTIMEZONE
BEGIN:VEVENT
DTSTART;TZID=Europe/Berlin:20250405T100000
DTEND;TZID=Europe/Berlin:20250405T170000
DTSTAMP:20260420T205431
CREATED:20250404T164201Z
LAST-MODIFIED:20250703T093601Z
UID:885-1743847200-1743872400@bibisbo.de
SUMMARY:Saisonstart im Ravensburger Spieleland: Neue Attraktion Scotland Yard erwartet Besucher 2025
DESCRIPTION:Endlich geht es wieder los! Am 5. April 2025 öffnet das Ravensburger Spieleland seine Tore für die neue Saison und empfängt seine Gäste mit viel Freude. Neben beliebten Attraktionen wie der Wasserpolizei in der BRIO World und Käpt’n Blaubärs Abenteuer wartet in der Saison 2025 eine ganz besondere Neuheit auf die Besucher. \nWeltneuheit: Scotland Yard als interaktive Attraktion \nIm Sommer 2025 feiert die interaktive Fahrattraktion Scotland Yard ihre Premiere im Ravensburger Spieleland. Basierend auf dem weltbekannten Brettspiel verspricht diese Attraktion ein einzigartiges Erlebnis. In technisch hochmodernen Fahrzeugen begeben sich die Besucher auf eine spannende Highspeed-Verfolgungsjagd durch London\, sowohl im Innen- als auch im Außenbereich. Als Detektive verfolgen sie Spuren und treffen eigene Entscheidungen\, die jede Fahrt zu einem neuen Abenteuer machen. Die neue Attraktion entsteht im Themenbereich „Entdeckerland“ und ersetzt das bisherige „Billy Bibers Alpin-Rafting“.
URL:https://bibisbo.de/event/saisonstart-ravensburger-spieleland-neue-attraktion-2025/
LOCATION:Meckenbeuren Ravensburger Spieleland\, Am Hangenwald 1\, Meckenbeuren\, 88074
CATEGORIES:Bodenseekreis,Meckenbeuren
END:VEVENT
END:VCALENDAR