BEGIN:VCALENDAR
VERSION:2.0
PRODID:-//BiBisBo - Veranstaltungen von Biberach bis Bodensee - ECPv6.15.20//NONSGML v1.0//EN
CALSCALE:GREGORIAN
METHOD:PUBLISH
X-WR-CALNAME:BiBisBo - Veranstaltungen von Biberach bis Bodensee
X-ORIGINAL-URL:https://bibisbo.de
X-WR-CALDESC:Veranstaltungen für BiBisBo - Veranstaltungen von Biberach bis Bodensee
REFRESH-INTERVAL;VALUE=DURATION:PT1H
X-Robots-Tag:noindex
X-PUBLISHED-TTL:PT1H
BEGIN:VTIMEZONE
TZID:Europe/Berlin
BEGIN:DAYLIGHT
TZOFFSETFROM:+0100
TZOFFSETTO:+0200
TZNAME:CEST
DTSTART:20240331T010000
END:DAYLIGHT
BEGIN:STANDARD
TZOFFSETFROM:+0200
TZOFFSETTO:+0100
TZNAME:CET
DTSTART:20241027T010000
END:STANDARD
BEGIN:DAYLIGHT
TZOFFSETFROM:+0100
TZOFFSETTO:+0200
TZNAME:CEST
DTSTART:20250330T010000
END:DAYLIGHT
BEGIN:STANDARD
TZOFFSETFROM:+0200
TZOFFSETTO:+0100
TZNAME:CET
DTSTART:20251026T010000
END:STANDARD
BEGIN:DAYLIGHT
TZOFFSETFROM:+0100
TZOFFSETTO:+0200
TZNAME:CEST
DTSTART:20260329T010000
END:DAYLIGHT
BEGIN:STANDARD
TZOFFSETFROM:+0200
TZOFFSETTO:+0100
TZNAME:CET
DTSTART:20261025T010000
END:STANDARD
END:VTIMEZONE
BEGIN:VEVENT
DTSTART;TZID=Europe/Berlin:20250704T000000
DTEND;TZID=Europe/Berlin:20250706T235959
DTSTAMP:20260422T181023
CREATED:20250408T132855Z
LAST-MODIFIED:20250703T121321Z
UID:1325-1751587200-1751846399@bibisbo.de
SUMMARY:Montfortfest Tettnang: Ein Fest für die ganze Familie (4. - 6. Juli 2025)
DESCRIPTION:Das erste Juliwochenende 2025 steht in Tettnang ganz im Zeichen des traditionellen Montfortfests. Vom 4. bis zum 6. Juli lädt das historische Kinder- und Heimatfest Bürger und Gäste zu einem abwechslungsreichen Programm ein. \nHöhepunkte des Festwochenendes\nEröffnet wird das Montfortfest am Freitagabend mit einem feierlichen Fassbieranstich im malerischen Schlosspark. Zuvor geleitet der Sternmarsch der Fanfarenzüge die Besucher zur Bühne. Am Samstag verwandelt sich der Schlosspark in eine lebendige Festmeile mit dem Schlossparkfest\, dessen Höhepunkt ein glanzvolles Feuerwerk bildet. \nHistorischer Festumzug am Sonntag\nEin besonderes Highlight ist der historische Festumzug am Sonntagvormittag (11:00 Uhr). Unter dem Motto „Unser täglich Brot\, Aus der Welt des Kindes\, Tettnanger Geschichte und Zünfte“ präsentieren über 1.000 Kinder und Erwachsene in rund 100 Gruppen die Geschichte und Vielfalt Tettnangs. Musikkapellen und Fanfarenzüge begleiten den farbenprächtigen Zug mit geschmückten Fuhrwerken. \nSpaß und Action für Kinder und Jugendliche\nAuf der Aktionswiese erwartet die jungen Besucher ein kostenloses und vielfältiges Angebot. Von Bällebad und Aktionpainting über Lötkurse bis hin zum Noppenstein-Skulpturen-Wettbewerb ist für jede Altersgruppe etwas dabei. Auch Thomy\, der Weltenbummler\, und das Elektronikmuseum laden zu spannenden Mitmachaktionen ein. \nVergnügungspark und Kulinarisches\nFür Nervenkitzel sorgt der Vergnügungspark mit Attraktionen wie Air-Power und Hip-Hop. Wer es ruhiger mag\, kann sich beim Dosenwerfen oder der Spielfabrik vergnügen. Für das leibliche Wohl sorgen lokale Vereine mit einem breiten Angebot von herzhaften Speisen bis hin zu erfrischenden Getränken und Süßigkeiten.
URL:https://bibisbo.de/event/montfortfest-tettnang-juli-2025/
LOCATION:Tettnang Innenstadt\, Bärenplatz\, Tettnang\, 88069
CATEGORIES:Bodenseekreis,Tettnang
END:VEVENT
BEGIN:VEVENT
DTSTART;TZID=Europe/Berlin:20250718T000000
DTEND;TZID=Europe/Berlin:20250727T235959
DTSTAMP:20260422T181023
CREATED:20250401T141958Z
LAST-MODIFIED:20251005T204558Z
UID:306-1752796800-1753660799@bibisbo.de
SUMMARY:Biberacher Schützenfest 2025: Programm des historischen Kinder- und Heimatfest
DESCRIPTION:Das Biberacher Schützenfest ist weit mehr als nur ein Fest – es ist ein tief verwurzeltes historisches Kinder- und Heimatfest\, das alljährlich im Juli die Herzen der Biberacher und ihrer Besucher höherschlagen lässt. Vom 18. Juli 2025 bis zum 27. Juli 2025 verwandelt sich Biberach in einen lebendigen Schauplatz traditioneller Bräuche\, farbenprächtiger Umzüge und fröhlicher Festlichkeiten. \nDer Höhepunkt im Biberacher Jahreskalender\nFür die Biberacher ist das Schützenfest der unbestrittene Höhepunkt des Jahres. So sehr\, dass das lokale Leben in die Zeit »vor d’r Schütza« und »noch d’r Schütza« eingeteilt wird. Tauchen Sie ein in diese einzigartige Atmosphäre und erleben Sie die besondere Bedeutung dieses Festes für die Region. \nEin Fest für Jung und Alt\nDas Biberacher Schützenfest begeistert mit einem abwechslungsreichen Programm für die ganze Familie. Erleben Sie historische Aufführungen\, spannende Wettbewerbe und genießen Sie die gesellige Gemeinschaft. Seien Sie dabei\, wenn Biberach sein traditionelles Kinder- und Heimatfest feiert!
URL:https://bibisbo.de/event/biberacher-schuetzenfest-2025-programm-kinder-und-heimatfest/
LOCATION:Biberach Innenstadt\, Marktplatz\, Biberach an der Riß\, 88422\, Germany
CATEGORIES:Biberach an der Riß,Landkreis Biberach
END:VEVENT
END:VCALENDAR