BEGIN:VCALENDAR
VERSION:2.0
PRODID:-//BiBisBo - Veranstaltungen von Biberach bis Bodensee - ECPv6.15.20//NONSGML v1.0//EN
CALSCALE:GREGORIAN
METHOD:PUBLISH
X-ORIGINAL-URL:https://bibisbo.de
X-WR-CALDESC:Veranstaltungen für BiBisBo - Veranstaltungen von Biberach bis Bodensee
REFRESH-INTERVAL;VALUE=DURATION:PT1H
X-Robots-Tag:noindex
X-PUBLISHED-TTL:PT1H
BEGIN:VTIMEZONE
TZID:Europe/Berlin
BEGIN:DAYLIGHT
TZOFFSETFROM:+0100
TZOFFSETTO:+0200
TZNAME:CEST
DTSTART:20240331T010000
END:DAYLIGHT
BEGIN:STANDARD
TZOFFSETFROM:+0200
TZOFFSETTO:+0100
TZNAME:CET
DTSTART:20241027T010000
END:STANDARD
BEGIN:DAYLIGHT
TZOFFSETFROM:+0100
TZOFFSETTO:+0200
TZNAME:CEST
DTSTART:20250330T010000
END:DAYLIGHT
BEGIN:STANDARD
TZOFFSETFROM:+0200
TZOFFSETTO:+0100
TZNAME:CET
DTSTART:20251026T010000
END:STANDARD
BEGIN:DAYLIGHT
TZOFFSETFROM:+0100
TZOFFSETTO:+0200
TZNAME:CEST
DTSTART:20260329T010000
END:DAYLIGHT
BEGIN:STANDARD
TZOFFSETFROM:+0200
TZOFFSETTO:+0100
TZNAME:CET
DTSTART:20261025T010000
END:STANDARD
END:VTIMEZONE
BEGIN:VEVENT
DTSTART;TZID=Europe/Berlin:20250330T000000
DTEND;TZID=Europe/Berlin:20250406T235959
DTSTAMP:20260422T030249
CREATED:20250401T143626Z
LAST-MODIFIED:20250703T093606Z
UID:331-1743292800-1743983999@bibisbo.de
SUMMARY:Frühlingswoche Meersburg: Kultur\, Genuss & Blütenpracht 2025
DESCRIPTION:Erleben Sie den Frühling in Meersburg in seiner schönsten Form! Vom 30. März bis 6. April 2025 lädt die malerische Stadt am Bodensee zur traditionellen Frühlingswoche ein. Unter dem Motto „Kultur\, Genuss & Blütenpracht“ erwartet Besucher ein abwechslungsreiches Programm für die ganze Familie. \nFrühlingsmarkt und Verkaufsoffener Sonntag zum Auftakt\nDen Start der Meersburger Frühlingswoche bildet der beliebte Frühlingsmarkt auf dem Schlossplatz. Hier finden Sie eine vielfältige Auswahl an Kräutern\, Frühlingsblumen\, Kunsthandwerk und regionalen Köstlichkeiten. Für musikalische Unterhaltung sorgt die Stadtkapelle Meersburg mit einem Frühlingsmarktkonzert. Parallel dazu lockt der verkaufsoffene Sonntag mit attraktiven Aktionen in den teilnehmenden Geschäften. Auf dem Marktplatz präsentieren sich zudem die Freiwillige Feuerwehr\, das DRK und die DLRG\, während der Familientreff Meersburg ein buntes Kinderprogramm anbietet. \nVielfältiges Programm für Kultur- und Genussliebhaber\nWährend der gesamten Woche können Sie an spannenden Führungen durch die historische Altstadt teilnehmen\, bei einem Weinspaziergang die Aussicht genießen oder beim Fotowalk mit Stadtführung inspirierende Eindrücke sammeln. Entdecken Sie die grünen Geheimnisse Meersburgs bei einer Kräuterführung oder erleben Sie die Lange Nacht der Bibliotheken. Konzerte\, Ausstellungen und öffentliche Führungen im vineum bodensee\, Neuen Schloss\, Fürstenhäusle und der Bibelgalerie ergänzen das kulturelle Angebot. \nKulinarische Entdeckungen und Weinproben\nFeinschmecker dürfen sich auf den zweiten kulinarischen Streifzug mit Meersburger Spezialitäten freuen\, bei dem Sie in fünf Stationen mit regionalen Köstlichkeiten und Weinen verwöhnt werden. Die beliebte Wanderung von Hof zu Hof führt durch Weinreben und Obstplantagen zu lokalen Erzeugern. Abgerundet wird das Angebot durch die Blaue Stunde und öffentliche Weinproben im vineum bodensee sowie im historischen Weinkeller des Staatsweinguts.
URL:https://bibisbo.de/event/fruehlingswoche-meersburg-2025/
LOCATION:Meersburg Innenstadt\, Schlossplatz\, Meersburg\, 88709\, Germany
CATEGORIES:Bodenseekreis,Meersburg
END:VEVENT
BEGIN:VEVENT
DTSTART;TZID=Europe/Berlin:20250427T100000
DTEND;TZID=Europe/Berlin:20250427T170000
DTSTAMP:20260422T030249
CREATED:20250403T192229Z
LAST-MODIFIED:20250703T093538Z
UID:779-1745748000-1745773200@bibisbo.de
SUMMARY:Romanshorner Lenz 2025: Frühlingsmarkt mit Modenschau
DESCRIPTION:Am Sonntag\, den 27. April 2025\, verwandelt sich das Zentrum von Romanshorn in einen lebendigen Frühlingsmarkt. Der „Romanshorner Lenz“ lockt von 10:00 bis 17:00 Uhr mit einem bunten Mix aus regionalen Anbietern\, Kunsthandwerk und Vereinen. Ein Highlight ist die Modenschau auf der Bahnhofstrasse. \nVielfalt und Genuss \nNeben den zahlreichen Ausstellern sorgen Essensstände und eine Festwirtschaft für kulinarische Genüsse. Ein abwechslungsreiches Unterhaltungsprogramm rundet das Erlebnis für Jung und Alt ab.
URL:https://bibisbo.de/event/romanshorner-lenz-2025-fruehlingsmarkt-mit-modenschau/
LOCATION:Romanshorn Innenstadt\, Romanshorn\, Switzerland
CATEGORIES:Kanton Thurgau,Romanshorn
END:VEVENT
END:VCALENDAR