BEGIN:VCALENDAR
VERSION:2.0
PRODID:-//BiBisBo - Veranstaltungen von Biberach bis Bodensee - ECPv6.15.20//NONSGML v1.0//EN
CALSCALE:GREGORIAN
METHOD:PUBLISH
X-ORIGINAL-URL:https://bibisbo.de
X-WR-CALDESC:Veranstaltungen für BiBisBo - Veranstaltungen von Biberach bis Bodensee
REFRESH-INTERVAL;VALUE=DURATION:PT1H
X-Robots-Tag:noindex
X-PUBLISHED-TTL:PT1H
BEGIN:VTIMEZONE
TZID:Europe/Berlin
BEGIN:DAYLIGHT
TZOFFSETFROM:+0100
TZOFFSETTO:+0200
TZNAME:CEST
DTSTART:20240331T010000
END:DAYLIGHT
BEGIN:STANDARD
TZOFFSETFROM:+0200
TZOFFSETTO:+0100
TZNAME:CET
DTSTART:20241027T010000
END:STANDARD
BEGIN:DAYLIGHT
TZOFFSETFROM:+0100
TZOFFSETTO:+0200
TZNAME:CEST
DTSTART:20250330T010000
END:DAYLIGHT
BEGIN:STANDARD
TZOFFSETFROM:+0200
TZOFFSETTO:+0100
TZNAME:CET
DTSTART:20251026T010000
END:STANDARD
BEGIN:DAYLIGHT
TZOFFSETFROM:+0100
TZOFFSETTO:+0200
TZNAME:CEST
DTSTART:20260329T010000
END:DAYLIGHT
BEGIN:STANDARD
TZOFFSETFROM:+0200
TZOFFSETTO:+0100
TZNAME:CET
DTSTART:20261025T010000
END:STANDARD
END:VTIMEZONE
BEGIN:VEVENT
DTSTART;TZID=Europe/Berlin:20250627T190000
DTEND;TZID=Europe/Berlin:20250627T213000
DTSTAMP:20260423T070429
CREATED:20250403T093432Z
LAST-MODIFIED:20250703T121330Z
UID:561-1751050800-1751059800@bibisbo.de
SUMMARY:„DIE GEDANKEN SIND FREI“ – Uffruhr musikalisch erleben
DESCRIPTION:Eine musikalische Zeitreise durch aufregende Epochen\nDas Chorensemble St. Magnus nimmt Sie am 27. Juni 2025 um 19:00 Uhr im Bibliothekssaal Kloster Schussenriedmit auf eine bewegende musikalische Reise. Unter der Leitung von KMD Matthias Wolf und begleitet von Instrumentalisten erklingen Lieder und Melodien aus Zeiten des Bauernkriegs\, der Reformation\, der napoleonischen Kriege\, der Revolution von 1848 und der 68er-Bewegung. Erleben Sie\, wie Musik historische Umbrüche begleitete und kommentierte. Der Eintritt ist frei! Karten im Vorverkauf bei der Tourist-Information Bad Schussenried (Tel. 07583 9401-171\, info@touristinfo-bs.de).
URL:https://bibisbo.de/event/die-gedanken-sind-frei-uffruhr-musikalisch-erleben/
LOCATION:Bad Schussenried Kloster\, Kloster\, Bad Schussenried\, 88427\, Germany
CATEGORIES:Bad Schussenried,Landkreis Biberach
END:VEVENT
END:VCALENDAR