BEGIN:VCALENDAR
VERSION:2.0
PRODID:-//BiBisBo - Veranstaltungen von Biberach bis Bodensee - ECPv6.15.20//NONSGML v1.0//EN
CALSCALE:GREGORIAN
METHOD:PUBLISH
X-ORIGINAL-URL:https://bibisbo.de
X-WR-CALDESC:Veranstaltungen für BiBisBo - Veranstaltungen von Biberach bis Bodensee
REFRESH-INTERVAL;VALUE=DURATION:PT1H
X-Robots-Tag:noindex
X-PUBLISHED-TTL:PT1H
BEGIN:VTIMEZONE
TZID:Europe/Berlin
BEGIN:DAYLIGHT
TZOFFSETFROM:+0100
TZOFFSETTO:+0200
TZNAME:CEST
DTSTART:20240331T010000
END:DAYLIGHT
BEGIN:STANDARD
TZOFFSETFROM:+0200
TZOFFSETTO:+0100
TZNAME:CET
DTSTART:20241027T010000
END:STANDARD
BEGIN:DAYLIGHT
TZOFFSETFROM:+0100
TZOFFSETTO:+0200
TZNAME:CEST
DTSTART:20250330T010000
END:DAYLIGHT
BEGIN:STANDARD
TZOFFSETFROM:+0200
TZOFFSETTO:+0100
TZNAME:CET
DTSTART:20251026T010000
END:STANDARD
BEGIN:DAYLIGHT
TZOFFSETFROM:+0100
TZOFFSETTO:+0200
TZNAME:CEST
DTSTART:20260329T010000
END:DAYLIGHT
BEGIN:STANDARD
TZOFFSETFROM:+0200
TZOFFSETTO:+0100
TZNAME:CET
DTSTART:20261025T010000
END:STANDARD
END:VTIMEZONE
BEGIN:VEVENT
DTSTART;TZID=Europe/Berlin:20250808T170000
DTEND;TZID=Europe/Berlin:20250808T230000
DTSTAMP:20260419T195924
CREATED:20250411T072643Z
LAST-MODIFIED:20251007T070548Z
UID:1541-1754672400-1754694000@bibisbo.de
SUMMARY:Schlossgarten Open Air mit Max Herre & Joy Denalane in Tettnang
DESCRIPTION:Am Freitag\, den 8. August 2025\, verwandelt sich der idyllische Schlossgarten Tettnang beim Neuen Schloss in eine stimmungsvolle Open-Air-Location. Von 17 bis 23 Uhr erwartet die Besucher ein unvergessliches Konzerterlebnis mit den renommierten Künstlern Max Herre und Joy Denalane. Das „regionalwerk bodensee schlossgarten open air“ verspricht einen lauen Sommerabend voller hochkarätiger Musik unter freiem Himmel.
URL:https://bibisbo.de/event/schlossgarten-open-air-max-herre-joy-denalane-tettnang/
LOCATION:Tettnang Neues Schloss\, Montfortplatz 1\, Tettnang\, 88069\, Germany
CATEGORIES:Bodenseekreis,Tettnang
END:VEVENT
END:VCALENDAR