BEGIN:VCALENDAR
VERSION:2.0
PRODID:-//BiBisBo - Veranstaltungen von Biberach bis Bodensee - ECPv6.15.20//NONSGML v1.0//EN
CALSCALE:GREGORIAN
METHOD:PUBLISH
X-ORIGINAL-URL:https://bibisbo.de
X-WR-CALDESC:Veranstaltungen für BiBisBo - Veranstaltungen von Biberach bis Bodensee
REFRESH-INTERVAL;VALUE=DURATION:PT1H
X-Robots-Tag:noindex
X-PUBLISHED-TTL:PT1H
BEGIN:VTIMEZONE
TZID:Europe/Berlin
BEGIN:DAYLIGHT
TZOFFSETFROM:+0100
TZOFFSETTO:+0200
TZNAME:CEST
DTSTART:20240331T010000
END:DAYLIGHT
BEGIN:STANDARD
TZOFFSETFROM:+0200
TZOFFSETTO:+0100
TZNAME:CET
DTSTART:20241027T010000
END:STANDARD
BEGIN:DAYLIGHT
TZOFFSETFROM:+0100
TZOFFSETTO:+0200
TZNAME:CEST
DTSTART:20250330T010000
END:DAYLIGHT
BEGIN:STANDARD
TZOFFSETFROM:+0200
TZOFFSETTO:+0100
TZNAME:CET
DTSTART:20251026T010000
END:STANDARD
BEGIN:DAYLIGHT
TZOFFSETFROM:+0100
TZOFFSETTO:+0200
TZNAME:CEST
DTSTART:20260329T010000
END:DAYLIGHT
BEGIN:STANDARD
TZOFFSETFROM:+0200
TZOFFSETTO:+0100
TZNAME:CET
DTSTART:20261025T010000
END:STANDARD
END:VTIMEZONE
BEGIN:VEVENT
DTSTART;TZID=Europe/Berlin:20250409T000000
DTEND;TZID=Europe/Berlin:20250411T235959
DTSTAMP:20260423T093911
CREATED:20250406T130417Z
LAST-MODIFIED:20250703T093557Z
UID:1148-1744156800-1744415999@bibisbo.de
SUMMARY:DST Dreh- und Spantage Südwest 2025: Fachmesse für Zerspanungstechnik
DESCRIPTION:Die DST Dreh- und Spantage Südwest in Villingen-Schwenningen sind die Fachmesse für Drehen\, Fräsen und Zerspanen. Vom 09. bis 11. April 2025 präsentieren zahlreiche Aussteller auf dem Messegelände Villingen-Schwenningen ihre neuesten Produkte\, Dienstleistungen\, Technologien und Innovationen. \nInformationen für Fachbesucher\nDas breite Themenspektrum der DST Messe umfasst Werkzeugmaschinen\, periphere Anlagen\, Präzisionswerkzeuge\, Materialien\, Robotik und Cobots sowie Software- und Steuerungssysteme. Ein besonderes Augenmerk liegt zudem auf Qualitätssicherung\, Dienstleistungen und kompletten Prozessketten in der spanenden Fertigung. \nFachforum und Wissenstransfer\nErgänzend zur Ausstellung bietet das Fachforum der DST Dreh- und Spantage Südwest ein umfangreiches Programm. In Vorträgen teilen Aussteller Best-Practice-Beispiele\, präsentieren Forschungsstudien und innovative Lösungen und diskutieren aktuelle Herausforderungen in der Zerspanungstechnik. Die Veranstaltung bietet Entscheidern und Mitarbeitern der herstellenden und bearbeitenden Betriebe eine ideale Plattform\, um sich umfassend über Trends und Neuheiten zu informieren.
URL:https://bibisbo.de/event/dst-dreh-und-spantage-suedwest-2025-fachmesse-fuer-zerspanungstechnik/
LOCATION:Villingen-Schwenningen Messegelände\, Messe\, Villingen-Schwenningen\, 78056\, Germany
CATEGORIES:Schwarzwald-Baar-Kreis,Villingen-Schwenningen
END:VEVENT
BEGIN:VEVENT
DTSTART;TZID=Europe/Berlin:20250409T000000
DTEND;TZID=Europe/Berlin:20250412T235959
DTSTAMP:20260423T093911
CREATED:20250402T154652Z
LAST-MODIFIED:20250703T093557Z
UID:444-1744156800-1744502399@bibisbo.de
SUMMARY:AERO 2025 – Das Mekka der Allgemeinen Luftfahrt in Friedrichshafen
DESCRIPTION:Die AERO in Friedrichshafen ist die führende internationale Fachmesse für die Allgemeine Luftfahrt und zieht vom 09. bis 12. April 2025 erneut tausende Fachbesucher und Luftfahrtenthusiasten an den Bodensee. Seit ihrer Erstveranstaltung im Jahr 1978 hat sich die AERO als unverzichtbarer Treffpunkt der Branche etabliert. \nVielfalt der Luftfahrt unter einem Dach \nRund 650 internationale Aussteller präsentieren auf der beeindruckenden Ausstellungsfläche von 82.500 m² in 12 modernen Messehallen das gesamte Spektrum der allgemeinen Luftfahrt. Besucher können sich über die neuesten Entwicklungen und Produkte in Bereichen wie Fallschirmspringen\, Drachenfliegen\, Ultraleichtflugzeuge\, Segelflugzeuge\, Motorsegler\, ein- und zweimotorige Flugzeuge sowie Businessjets informieren. \nSpannendes Rahmenprogramm und Top-Referenten \nNeben der umfangreichen Produktschau bietet die AERO 2025 ein abwechslungsreiches Rahmenprogramm. Die renommierten AERO Conferences bieten in kurzen\, prägnanten Vorträgen aktuelle Einblicke und Diskussionen zu wichtigen Themen der Branche\, präsentiert von hochkarätigen Referenten. Zudem können Besucher bei Kunden-Demo-Flights ausgewählte Flugzeuge live erleben und sich von einer spektakulären Modell-Flugschau begeistern lassen. \nTermin\, Ort und Anreise \nDie AERO 2025 findet vom 09. April bis 12. April 2025 auf dem Gelände der Messe Friedrichshafen\, Neue Messe 1\, 88046 Friedrichshafen\, statt. Die Anreise ist sowohl mit dem Auto als auch mit öffentlichen Verkehrsmitteln bequem möglich. Nutzen Sie die Gelegenheit\, diese bedeutende Veranstaltung der Allgemeinen Luftfahrt zu besuchen!
URL:https://bibisbo.de/event/aero-2025-messe-allgemeine-luftfahrt-friedrichshafen/
LOCATION:Friedrichshafen Messe\, Neue Messe 1\, Friedrichshafen\, 88046\, Germany
CATEGORIES:Bodenseekreis,Friedrichshafen
END:VEVENT
BEGIN:VEVENT
DTSTART;TZID=Europe/Berlin:20250409T000000
DTEND;TZID=Europe/Berlin:20250413T235959
DTSTAMP:20260423T093911
CREATED:20250404T175230Z
LAST-MODIFIED:20250703T093556Z
UID:913-1744156800-1744588799@bibisbo.de
SUMMARY:OCA 2025: Die Ostschweizer Camping- und Freizeit-Ausstellung in St. Gallen
DESCRIPTION:Die OCA 2025 in St. Gallen präsentiert sich vom 9. bis 13. April 2025 als die führende Ostschweizer Camping- und Freizeit-Ausstellung. Rund 50 Aussteller zeigen auf der OCA Messe St. Gallen ihre neuesten Produkte und bewährten Klassiker für Camping- und Caravaning-Enthusiasten. Das breit gefächerte Angebot umfasst Reisemobile\, Caravans\, Zelte sowie Outdoor- und Trekking-Bekleidung und -Ausrüstung. Besucher können sich zudem über Kanus und eine vielfältige Auswahl an Reisemobilen informieren. Die St. Gallener Camping- und Freizeit-Ausstellung OCA ist der ideale Ort\, um sich für den nächsten Campingurlaub auf vier Rädern auszustatten und inspirieren zu lassen. \nTermin und Ort: 09.04.2025 – 13.04.2025\, Olma Messen St. Gallen\, Splügenstrasse 12\, CH-9008 St. Gallen.
URL:https://bibisbo.de/event/oca-2025-die-ostschweizer-camping-und-freizeit-ausstellung-in-st-gallen/
LOCATION:St. Gallen Olma Messen\, Splügenstrasse 12\, St Gallen\, 9008\, Switzerland
CATEGORIES:Kanton St Gallen,St. Gallen
END:VEVENT
END:VCALENDAR