BEGIN:VCALENDAR
VERSION:2.0
PRODID:-//BiBisBo - Veranstaltungen von Biberach bis Bodensee - ECPv6.15.20//NONSGML v1.0//EN
CALSCALE:GREGORIAN
METHOD:PUBLISH
X-WR-CALNAME:BiBisBo - Veranstaltungen von Biberach bis Bodensee
X-ORIGINAL-URL:https://bibisbo.de
X-WR-CALDESC:Veranstaltungen für BiBisBo - Veranstaltungen von Biberach bis Bodensee
REFRESH-INTERVAL;VALUE=DURATION:PT1H
X-Robots-Tag:noindex
X-PUBLISHED-TTL:PT1H
BEGIN:VTIMEZONE
TZID:Europe/Berlin
BEGIN:DAYLIGHT
TZOFFSETFROM:+0100
TZOFFSETTO:+0200
TZNAME:CEST
DTSTART:20240331T010000
END:DAYLIGHT
BEGIN:STANDARD
TZOFFSETFROM:+0200
TZOFFSETTO:+0100
TZNAME:CET
DTSTART:20241027T010000
END:STANDARD
BEGIN:DAYLIGHT
TZOFFSETFROM:+0100
TZOFFSETTO:+0200
TZNAME:CEST
DTSTART:20250330T010000
END:DAYLIGHT
BEGIN:STANDARD
TZOFFSETFROM:+0200
TZOFFSETTO:+0100
TZNAME:CET
DTSTART:20251026T010000
END:STANDARD
BEGIN:DAYLIGHT
TZOFFSETFROM:+0100
TZOFFSETTO:+0200
TZNAME:CEST
DTSTART:20260329T010000
END:DAYLIGHT
BEGIN:STANDARD
TZOFFSETFROM:+0200
TZOFFSETTO:+0100
TZNAME:CET
DTSTART:20261025T010000
END:STANDARD
END:VTIMEZONE
BEGIN:VEVENT
DTSTART;TZID=Europe/Berlin:20250614T000000
DTEND;TZID=Europe/Berlin:20250622T235959
DTSTAMP:20260422T190835
CREATED:20250406T130726Z
LAST-MODIFIED:20250703T121340Z
UID:1153-1749859200-1750636799@bibisbo.de
SUMMARY:Südwest Messe 2025: Vielfalt für Industrie\, Handwerk und mehr
DESCRIPTION:Die Südwest Messe in Villingen-Schwenningen öffnet vom 14. bis 22. Juni 2025 ihre Tore für Besucher. Als bedeutende Ausstellung für Industrie\, Handwerk\, Handel und Landwirtschaft präsentiert die Messe auf dem großzügigen Messegelände eine beeindruckende Vielfalt an Produkten und Dienstleistungen. \nEntdecken Sie Neuheiten und bewährte Produkte\nRund 500 Aussteller nutzen die 17 Messehallen und das Freigelände\, um an ihren Ständen etwa 10.000 Produkte aus nahezu allen Lebensbereichen vorzustellen. Besucher haben die Möglichkeit\, Neuheiten zu entdecken\, sich umfassend zu informieren und Produkte direkt auszuprobieren und zu erwerben. Die Südwest Messe Villingen-Schwenningen bietet auf kurzen Wegen einen umfassenden Überblick über aktuelle Trends und bewährte Angebote.
URL:https://bibisbo.de/event/suedwest-messe-2025-villingen-schwenningen/
LOCATION:Villingen-Schwenningen Messegelände\, Messe\, Villingen-Schwenningen\, 78056\, Germany
CATEGORIES:Schwarzwald-Baar-Kreis,Villingen-Schwenningen
END:VEVENT
BEGIN:VEVENT
DTSTART;TZID=Europe/Berlin:20250615T000000
DTEND;TZID=Europe/Berlin:20250615T235959
DTSTAMP:20260422T190835
CREATED:20250403T202243Z
LAST-MODIFIED:20250703T121339Z
UID:794-1749945600-1750031999@bibisbo.de
SUMMARY:Austria-Vinyl Schallplatten- & CD-Börse Dornbirn 2025 – Das Musik-Mekka für Vinyl-Liebhaber
DESCRIPTION:Die Austria-Vinyl Schallplatten- & CD-Börse in Dornbirn ist ein Muss für alle Musikbegeisterten und Vinyl-Sammler. Am 15. Juni 2025 verwandelt sich die Messe Dornbirn in Österreichs größte Schallplatten- und CD-Börse. Hier präsentieren zahlreiche Aussteller ein riesiges Angebot an Schallplatten\, CDs und DVDs aller Musikrichtungen. \nWas erwartet dich? \n\nVielfalt: Egal ob Rock\, Pop\, Jazz\, Metal oder Schlager – hier findest du Schätze aus allen Musikgenres.\nSammlerstücke: Entdecke seltene Vinyl-Platten\, limitierte CDs und begehrte Fanartikel.\nAustausch: Triff Gleichgesinnte\, tausche dich mit anderen Musikliebhabern aus und erweitere deine Sammlung.\n\nTermin\, Ort und Anreise: \n\nDatum: 15. Juni 2025 (Sonntag)\nOrt: Messe Dornbirn\, Messeplatz 1\, A-6854 Dornbirn\nDie Messe Dornbirn ist gut mit öffentlichen Verkehrsmitteln und dem Auto erreichbar.
URL:https://bibisbo.de/event/austria-vinyl-schallplatten-cd-boerse-dornbirn-2025/
LOCATION:Dornbirn Messe\, Messeplatz 1\, Dornbirn\, 6854\, Austria
CATEGORIES:Dornbirn,Vorarlberg in Österreich
END:VEVENT
BEGIN:VEVENT
DTSTART;TZID=Europe/Berlin:20250627T000000
DTEND;TZID=Europe/Berlin:20250629T235959
DTSTAMP:20260422T190835
CREATED:20250403T063317Z
LAST-MODIFIED:20250703T121332Z
UID:503-1750982400-1751241599@bibisbo.de
SUMMARY:HAM RADIO 2025: Das internationale Highlight für Funkamateure
DESCRIPTION:Treffpunkt der Funker-Welt in Friedrichshafen\nDie HAM RADIO in Friedrichshafen ist die internationale Amateurfunk-Ausstellung\, die Funkbegeisterte und Elektronikbastler aus aller Welt anzieht. Vom 27. bis 29. Juni 2025 präsentieren zahlreiche Aussteller und Verbände die neuesten technischen Entwicklungen im Amateurfunk und der Elektronik. \nEntdecken Sie die Vielfalt des Amateurfunks\nAuf der HAM RADIO Messe finden Sie ein umfassendes Angebot: von Funkgeräten und Transceivern über Antennenbis hin zu präzisen Messgeräten. Der beliebte Flohmarkt lockt mit raren Schätzen und Schnäppchen. Ein abwechslungsreiches Rahmenprogramm mit spannenden Vorträgen ergänzt das Ausstellerangebot perfekt. Die Messe in den Messehallen der Messe Friedrichshafen ist der ideale Treffpunkt für Fachhändler und Endverbraucher gleichermaßen.
URL:https://bibisbo.de/event/ham-radio-2025-das-internationale-highlight-fuer-funkamateure/
LOCATION:Friedrichshafen Messe\, Neue Messe 1\, Friedrichshafen\, 88046\, Germany
CATEGORIES:Bodenseekreis,Friedrichshafen
END:VEVENT
BEGIN:VEVENT
DTSTART;TZID=Europe/Berlin:20250628T000000
DTEND;TZID=Europe/Berlin:20250628T235959
DTSTAMP:20260422T190835
CREATED:20250404T135346Z
LAST-MODIFIED:20250703T121328Z
UID:878-1751068800-1751155199@bibisbo.de
SUMMARY:ABI Zukunft Ulm/Neu-Ulm 2025: Deine Orientierung nach dem Abitur
DESCRIPTION:Informationsmesse für Ausbildung\, Studium und Auslandsaufenthalte \nDie ABI Zukunft Ulm/Neu-Ulm am 28. Juni 2025 in der ratiopharm arena Neu-Ulm ist die ideale Anlaufstelle für alle\, die sich nach dem Abitur orientieren möchten. Schüler\, Eltern und Lehrer erhalten hier umfassende Informationen zu duales Studium\, Ausbildung\, Studium\, Auslandsaufenthalt und dem Freiwilligen Sozialen Jahr (FSJ). Regionale\, überregionale und internationale Aussteller stehen für persönliche Gespräche bereit und beantworten Fragen zu Voraussetzungen und Bewerbungsverfahren. Spannende Vorträge und Workshops ergänzen das Angebot und bieten wertvolle Einblicke. Auch Studienabbrecher finden hier neue Perspektiven und Beratung zur beruflichen Neuorientierung. Die ABI Zukunft Neu-Ulm bietet eine zielgenaue Berufsorientierung für junge Menschen.
URL:https://bibisbo.de/event/abi-zukunft-ulm-neu-ulm-2025-deine-orientierung-nach-dem-abitur/
LOCATION:Neu-Ulm ratiopharm arena\, Europastraße 25\, Neu-Ulm\, 89231\, Germany
CATEGORIES:Neu-Ulm,Regierungsbezirk Schwaben (Bayern)
END:VEVENT
END:VCALENDAR