BEGIN:VCALENDAR
VERSION:2.0
PRODID:-//BiBisBo - Veranstaltungen von Biberach bis Bodensee - ECPv6.15.20//NONSGML v1.0//EN
CALSCALE:GREGORIAN
METHOD:PUBLISH
X-WR-CALNAME:BiBisBo - Veranstaltungen von Biberach bis Bodensee
X-ORIGINAL-URL:https://bibisbo.de
X-WR-CALDESC:Veranstaltungen für BiBisBo - Veranstaltungen von Biberach bis Bodensee
REFRESH-INTERVAL;VALUE=DURATION:PT1H
X-Robots-Tag:noindex
X-PUBLISHED-TTL:PT1H
BEGIN:VTIMEZONE
TZID:Europe/Berlin
BEGIN:DAYLIGHT
TZOFFSETFROM:+0100
TZOFFSETTO:+0200
TZNAME:CEST
DTSTART:20240331T010000
END:DAYLIGHT
BEGIN:STANDARD
TZOFFSETFROM:+0200
TZOFFSETTO:+0100
TZNAME:CET
DTSTART:20241027T010000
END:STANDARD
BEGIN:DAYLIGHT
TZOFFSETFROM:+0100
TZOFFSETTO:+0200
TZNAME:CEST
DTSTART:20250330T010000
END:DAYLIGHT
BEGIN:STANDARD
TZOFFSETFROM:+0200
TZOFFSETTO:+0100
TZNAME:CET
DTSTART:20251026T010000
END:STANDARD
BEGIN:DAYLIGHT
TZOFFSETFROM:+0100
TZOFFSETTO:+0200
TZNAME:CEST
DTSTART:20260329T010000
END:DAYLIGHT
BEGIN:STANDARD
TZOFFSETFROM:+0200
TZOFFSETTO:+0100
TZNAME:CET
DTSTART:20261025T010000
END:STANDARD
END:VTIMEZONE
BEGIN:VEVENT
DTSTART;TZID=Europe/Berlin:20251009T000000
DTEND;TZID=Europe/Berlin:20251019T235959
DTSTAMP:20260422T010955
CREATED:20250404T181116Z
LAST-MODIFIED:20251007T070507Z
UID:926-1759968000-1760918399@bibisbo.de
SUMMARY:OLMA 2025: Die Schweizer Messe für Landwirtschaft und Ernährung in St. Gallen
DESCRIPTION:Die OLMA St. Gallen 2025\, auch bekannt als OLMA\, ist die bedeutende Schweizer Messe für Landwirtschaft und Ernährung. Vom 9. bis 19. Oktober 2025 präsentieren rund 600 Aussteller in den 8 Messehallen auf einer Ausstellungsfläche von 49.560 m² ein umfassendes Angebot. \nVielfalt für Besucher\nBesucher erwartet eine breite Palette an Produktschauen\, Spezialitäten\, Küchen- und Haushaltapparaten\, Gastroeinrichtungen sowie Produkten aus den Bereichen Wohnen\, Garten\, Bauen und Renovieren. Auch Heizsysteme\, erneuerbare Energien\, Handwerk\, Gewerbe\, Landwirtschaft und Kommunaltechnik sind vertreten. \nRahmenprogramm und Anreise\nEin attraktives Rahmenprogramm mit Vorträgen\, Diskussionen und über 20 Sonderschauen ergänzt das Angebot. Die Olma Messen St. Gallen in der Splügenstrasse 12\, CH-9008 St. Gallen\, sind für die erwarteten 340.000 Besucher gut erreichbar. \nEntdecken Sie weitere Veranstaltungen in St. Gallen.
URL:https://bibisbo.de/event/olma-2025-die-schweizer-messe-fuer-landwirtschaft-und-ernaehrung-in-st-gallen/
LOCATION:St. Gallen Olma Messen\, Splügenstrasse 12\, St Gallen\, 9008\, Switzerland
CATEGORIES:Kanton St Gallen,St. Gallen
END:VEVENT
BEGIN:VEVENT
DTSTART;TZID=Europe/Berlin:20251015T000000
DTEND;TZID=Europe/Berlin:20251015T235959
DTSTAMP:20260422T010955
CREATED:20250405T113109Z
LAST-MODIFIED:20251007T070500Z
UID:1018-1760486400-1760572799@bibisbo.de
SUMMARY:Karriere Kick Landkreis Ravensburg 2025: Deine spielerische Ausbildungsmesse
DESCRIPTION:Spielerisch zum Traumjob: Die Karriere Kick Messe Ravensburg\nAm 15. Oktober 2025 findet im Autohaus Riess GmbH in Ravensburg der „Karriere Kick Landkreis Ravensburg“ statt. Diese innovative Ausbildungsmesse ist Deutschlands größtes Event für Azubi-Berufsorientierung und bietet Jugendlichen eine einzigartige Möglichkeit\, Ausbildungsbetriebe aus der Region kennenzulernen. \nSpeed-Dating am Tischkicker: Berufsorientierung mal anders\nDas besondere Konzept der Messe: In jeder Runde werden Jugendliche und Unternehmen wie beim Speed-Dating zusammengelost und lernen sich ungezwungen bei einer Runde Tischkicker kennen. Hier steht die Persönlichkeit im Vordergrund\, Noten spielen keine Rolle. Das lockere „per DU“ erleichtert den ersten Kontakt und schafft eine entspannte Atmosphäre\, in der das Eis sofort gebrochen ist. Nutze diese Chance\, um potenzielle Ausbildungsbetriebe auf Augenhöhe kennenzulernen und Klarheit für deine berufliche Zukunft zu gewinnen.
URL:https://bibisbo.de/event/karriere-kick-landkreis-ravensburg-2025-ausbildungsmesse/
LOCATION:Ravensburg Autohaus Riess\, Jahnstrasse 80\, Ravensburg\, 88214
CATEGORIES:Landkreis Ravensburg,Ravensburg
END:VEVENT
BEGIN:VEVENT
DTSTART;TZID=Europe/Berlin:20251017T000000
DTEND;TZID=Europe/Berlin:20251019T235959
DTSTAMP:20260422T010955
CREATED:20250403T142952Z
LAST-MODIFIED:20251016T091018Z
UID:693-1760659200-1760918399@bibisbo.de
SUMMARY:Gustav Dornbirn 2025: Internationaler Salon für Konsumkultur in Vorarlberg
DESCRIPTION:Entdecken Sie Vielfalt und Qualität auf der Gustav Messe in Dornbirn \nDie Gustav Dornbirn 2025 präsentiert vom 17. bis 19. Oktober in den Messehallen Dornbirn einen internationalen Salon für Konsumkultur. Zahlreiche Aussteller bieten ein hochwertiges Produktsortiment für alle Lebensbereiche. Von Naturkosmetik und handgefertigtem Schmuck über Mode und Accessoires bis hin zu einzigartigen Küchenutensilienund edlen Möbeln erwartet die Besucher eine breite Auswahl. \nGenusswelten und Live-Kochshows \nEin besonderes Highlight ist der Genussbereich mit erlesenen Speisen und Getränken. Feinschmecker können sich auf Trüffel\, Weine\, biologische Spezialitäten und internationale Gewürze freuen. In offenen Showküchen präsentieren regionale Gastronomen zudem live die Zubereitung köstlicher Gerichte zur Verkostung. \nFokus auf Regionalität\, Nachhaltigkeit und Einzigartigkeit \nDie Gustav legt Wert auf Produkte\, die aus der Region stammen\, mit Liebe und Weitblick gefertigt werden und den Aspekt der Nachhaltigkeit berücksichtigen. Mit rund 155 Ausstellern und einer Ausstellungsfläche von 11.200 m² in 4 Hallen ist die Gustav seit ihrer Erstveranstaltung 2013 ein Publikumsmagnet mit ca. 7.500 Besuchern. \nTermin: 17.10.2025 – 19.10.2025 (Freitag bis Sonntag) Ort: Messe Dornbirn\, Messeplatz 1\, A-6854 Dornbirn
URL:https://bibisbo.de/event/gustav-dornbirn-2025-internationaler-salon-fuer-konsumkultur-in-vorarlberg/
LOCATION:Dornbirn Messe\, Messeplatz 1\, Dornbirn\, 6854\, Austria
CATEGORIES:Dornbirn,Vorarlberg in Österreich
END:VEVENT
BEGIN:VEVENT
DTSTART;TZID=Europe/Berlin:20251018T100000
DTEND;TZID=Europe/Berlin:20251018T140000
DTSTAMP:20260422T010955
CREATED:20250408T201318Z
LAST-MODIFIED:20251007T070457Z
UID:1354-1760781600-1760796000@bibisbo.de
SUMMARY:Ehrenamtsmesse Tettnang 2025: Engagier dich!
DESCRIPTION:Save the Date: Am 18. Oktober 2025 findet von 10:00 bis 14:00 Uhr im Neuen Schloss Tettnang eine Ehrenamtsmesse statt. \nEntdecke deine Möglichkeiten: Die Stadt Tettnang lädt herzlich ein\, sich über vielfältige Engagementbereiche zu informieren. Merken Sie sich diesen Termin vor – weitere Informationen folgen!
URL:https://bibisbo.de/event/ehrenamtsmesse-tettnang-2025/
LOCATION:Tettnang Neues Schloss\, Montfortplatz 1\, Tettnang\, 88069\, Germany
CATEGORIES:Bodenseekreis,Tettnang
END:VEVENT
BEGIN:VEVENT
DTSTART;TZID=Europe/Berlin:20251025T000000
DTEND;TZID=Europe/Berlin:20251026T235959
DTSTAMP:20260422T010955
CREATED:20250403T131725Z
LAST-MODIFIED:20251006T203401Z
UID:659-1761350400-1761523199@bibisbo.de
SUMMARY:Gesundheitstage Friedrichshafen 2025: Ihre Messe für Gesundheit und Wohlbefinden
DESCRIPTION:Die Gesundheitstage Friedrichshafen öffnen am 25. und 26. Oktober 2025 ihre Tore im Graf-Zeppelin-Haus. Diese etablierte Gesundheitsmesse bietet umfassende Informationen und Angebote rund um Ihre Gesundheit. Rund 75 Aussteller präsentieren ein breites Spektrum an Themen\, darunter innovative Behandlungs- und Therapieformen\, effektive Gesundheitsförderung und Prävention\, sowie wertvolle Tipps zu Ernährung\, Sport und Fitness\, Schlaf\, Wellness\, Pflege und Vorsorge. Auch wer sich im Gesundheitsbereich aus- und fortbilden möchte\, findet hier interessante Ansprechpartner. \nInformatives Rahmenprogramm und interaktive Angebote \nNeben den zahlreichen Messeständen erwartet die Besucher ein vielseitiges Programm mit moderierten Expertenrundenund spannenden Fachvorträgen zu aktuellen Gesundheitsthemen. Nutzen Sie zudem die Gelegenheit\, an einem Gesundheitscheck-Parcours teilzunehmen und Ihren aktuellen Gesundheitszustand zu testen. Die Gesundheitstage Friedrichshafen bieten eine ideale Plattform\, um sich umfassend zu informieren und neue Impulse für ein gesundes Leben zu gewinnen.
URL:https://bibisbo.de/event/gesundheitstage-friedrichshafen-2025/
LOCATION:Friedrichshafen Graf Zeppelin Haus GZH\, Olgastrasse 20\, Friedrichshafen\, 88045\, Germany
CATEGORIES:Bodenseekreis,Friedrichshafen
END:VEVENT
BEGIN:VEVENT
DTSTART;TZID=Europe/Berlin:20251031T000000
DTEND;TZID=Europe/Berlin:20251102T235959
DTSTAMP:20260422T010955
CREATED:20250403T134517Z
LAST-MODIFIED:20251029T150124Z
UID:662-1761868800-1762127999@bibisbo.de
SUMMARY:Echtdampf-Hallentreffen 2025 in Friedrichshafen: Faszination Dampf erleben
DESCRIPTION:Das Echtdampf-Hallentreffen 2025 in Friedrichshafen öffnet vom 31. Oktober bis 2. November seine Tore für alle Liebhaber dampfbetriebener Modelle und Technik. Auf dieser bedeutenden Verkaufsausstellung präsentieren rund 400 Aussteller in den Messehallen Friedrichshafen auf einer Fläche von 12.600 m² hunderte von Modellen in Aktion. \nVielfalt der Dampfmodelle \nEntdecken Sie eine beeindruckende Vielfalt an Echtdampfmodellen\, darunter Eisenbahnen\, Straßenfahrzeuge\, Schiffe und stationäre Anlagen. Das Angebot reicht von detailgetreuen Nachbildungen bis hin zu Originalmaschinen. Hier finden sowohl Einsteiger als auch erfahrene Modellbauer alles\, was das Herz begehrt – von der kleinsten Schraube bis zum kompletten Dampfmodell. \nErleben und Fachsimpeln \nNeben den kommerziellen Ausstellern präsentieren auch private Teilnehmer\, Clubs und Vereine ihre faszinierenden\, dampfenden Exponate auf Schienen\, Podesten und sogar im Wasser. Nutzen Sie die Gelegenheit\, mit erfahrenen Dampfmodellbauern ins Gespräch zu kommen und sich die Funktionsweise der Modelle ausführlich erklären zu lassen. \nTermin\, Ort und Anreise \nDas Echtdampf-Hallentreffen 2025 findet vom 31. Oktober bis 2. November 2025 in der Messe Friedrichshafen (Neue Messe 1\, 88046 Friedrichshafen) statt.
URL:https://bibisbo.de/event/echtdampf-hallentreffen-2025-friedrichshafen/
LOCATION:Friedrichshafen Messe\, Neue Messe 1\, Friedrichshafen\, 88046\, Germany
CATEGORIES:Bodenseekreis,Friedrichshafen
END:VEVENT
BEGIN:VEVENT
DTSTART;TZID=Europe/Berlin:20251031T000000
DTEND;TZID=Europe/Berlin:20251102T235959
DTSTAMP:20260422T010955
CREATED:20250403T134850Z
LAST-MODIFIED:20251030T142456Z
UID:664-1761868800-1762127999@bibisbo.de
SUMMARY:Faszination Modellbau Friedrichshafen 2025: Das Mekka für Modellbau-Enthusiasten
DESCRIPTION:Die Modellbau-Messe am Bodensee \nErleben Sie vom 31. Oktober bis 2. November 2025 die „Faszination Modellbau Friedrichshafen“\, die führende Ausstellung für Modellbahnen und Modellsport. Zahlreiche Aussteller und Vereine präsentieren auf dem Gelände der Messe Friedrichshafen ein beeindruckendes Angebot aus allen Bereichen des Modellbaus. \nVielfalt und Action pur \nDas Spektrum der Messe umfasst Modelleisenbahnen\, Flugmodelle\, Schiffsmodelle\, Karton- und Plastikmodellbau sowie Truck- und Automodelle. Neben dem umfangreichen Produktangebot erwartet die Besucher ein abwechslungsreiches Programm mit spannenden Shows\, spektakulären Vorführungen und interessanten Sonderschauen. Ein Muss für jeden Modellbau-Fan! \nTermin und Ort: \n\nVeranstaltung: Faszination Modellbau Friedrichshafen 2025\nDatum: 31.10.2025 – 02.11.2025 (Freitag bis Sonntag)\nOrt: Messe Friedrichshafen\, Neue Messe 1\, 88046 Friedrichshafen
URL:https://bibisbo.de/event/faszination-modellbau-friedrichshafen-2025/
LOCATION:Friedrichshafen Messe\, Neue Messe 1\, Friedrichshafen\, 88046\, Germany
CATEGORIES:Bodenseekreis,Friedrichshafen
END:VEVENT
END:VCALENDAR