BEGIN:VCALENDAR
VERSION:2.0
PRODID:-//BiBisBo - Veranstaltungen von Biberach bis Bodensee - ECPv6.15.20//NONSGML v1.0//EN
CALSCALE:GREGORIAN
METHOD:PUBLISH
X-ORIGINAL-URL:https://bibisbo.de
X-WR-CALDESC:Veranstaltungen für BiBisBo - Veranstaltungen von Biberach bis Bodensee
REFRESH-INTERVAL;VALUE=DURATION:PT1H
X-Robots-Tag:noindex
X-PUBLISHED-TTL:PT1H
BEGIN:VTIMEZONE
TZID:Europe/Berlin
BEGIN:DAYLIGHT
TZOFFSETFROM:+0100
TZOFFSETTO:+0200
TZNAME:CEST
DTSTART:20240331T010000
END:DAYLIGHT
BEGIN:STANDARD
TZOFFSETFROM:+0200
TZOFFSETTO:+0100
TZNAME:CET
DTSTART:20241027T010000
END:STANDARD
BEGIN:DAYLIGHT
TZOFFSETFROM:+0100
TZOFFSETTO:+0200
TZNAME:CEST
DTSTART:20250330T010000
END:DAYLIGHT
BEGIN:STANDARD
TZOFFSETFROM:+0200
TZOFFSETTO:+0100
TZNAME:CET
DTSTART:20251026T010000
END:STANDARD
BEGIN:DAYLIGHT
TZOFFSETFROM:+0100
TZOFFSETTO:+0200
TZNAME:CEST
DTSTART:20260329T010000
END:DAYLIGHT
BEGIN:STANDARD
TZOFFSETFROM:+0200
TZOFFSETTO:+0100
TZNAME:CET
DTSTART:20261025T010000
END:STANDARD
END:VTIMEZONE
BEGIN:VEVENT
DTSTART;TZID=Europe/Berlin:20251224T160000
DTEND;TZID=Europe/Berlin:20251224T180000
DTSTAMP:20260420T214348
CREATED:20251006T203210Z
LAST-MODIFIED:20251029T150035Z
UID:2629-1766592000-1766599200@bibisbo.de
SUMMARY:Ökumenische Krippenfeier im Münster Zwiefalten
DESCRIPTION:Die Katholische und die Evangelische Kirchengemeinde laden herzlich zur Ökumenischen Krippenfeier 2025 ein. Am Heiligabend\, dem 24. Dezember 2025\, versammelt sich die Gemeinde um 16:00 Uhr im historischen Münster Zwiefalten. Dieses beliebte\, generationenübergreifende Ereignis bringt die Weihnachtsgeschichte auf besonders stimmungsvolle Weise näher. Die Feier ist ein ökumenisches Zeichen der Gemeinschaft und vereint Gläubige beider Konfessionen. Besucher erleben eine besinnliche Stunde in der einzigartigen Atmosphäre des Münsters\, ideal für Familien\, um die Wartezeit auf die Bescherung zu verkürzen. Entdecken Sie weitere Veranstaltungshighlights in Zwiefalten.
URL:https://bibisbo.de/event/oekumenische-krippenfeier-im-muenster-zwiefalten/
LOCATION:Zwiefalten\, B312\, Zwiefalten\, 88529\, Germany
CATEGORIES:Landkreis Reutlingen,Zwiefalten
END:VEVENT
BEGIN:VEVENT
DTSTART;TZID=Europe/Berlin:20251225T103000
DTEND;TZID=Europe/Berlin:20251225T120000
DTSTAMP:20260420T214348
CREATED:20251006T125356Z
LAST-MODIFIED:20251029T150035Z
UID:2606-1766658600-1766664000@bibisbo.de
SUMMARY:Eucharistiefeier mit dem Münsterchor im Münster Zwiefalten
DESCRIPTION:An Weihnachten lädt die Katholische Kirchengemeinde Zwiefalten zu einer feierlichen Eucharistiefeier in das historische Münster Zwiefalten ein. Dieser Gottesdienst am ersten Weihnachtsfeiertag ist ein spirituelles und kulturelles Highlight in der Region\, das Besucher aus nah und fern anzieht. \nMusikalische Gestaltung durch den Münsterchor\nEin besonderer Höhepunkt der Messe ist die musikalische Gestaltung durch den Münsterchor. Die Aufführung klassischer und festlicher Werke sorgt für eine besonders andächtige und stimmungsvolle Atmosphäre im prunkvollen Barockmünster. Die Kombination aus der beeindruckenden Architektur und der Chormusik macht diesen Weihnachtsgottesdienst zu einem unvergesslichen Erlebnis. \nWichtige Informationen zum Gottesdienst\nDie Messe beginnt pünktlich am 25. Dezember 2025 um 10:30 Uhr. Alle Gläubigen und Interessierten sind herzlich eingeladen\, an dieser Besinnung in der prachtvollen Kirche teilzunehmen. Der Veranstalter\, die Katholische Kirchengemeinde und der Münsterchor\, freuen sich auf zahlreiche Besucher.
URL:https://bibisbo.de/event/eucharistiefeier-mit-dem-muensterchor-im-muenster-zwiefalten/
LOCATION:Zwiefalten\, B312\, Zwiefalten\, 88529\, Germany
CATEGORIES:Landkreis Reutlingen,Zwiefalten
END:VEVENT
END:VCALENDAR