BEGIN:VCALENDAR
VERSION:2.0
PRODID:-//BiBisBo - Veranstaltungen von Biberach bis Bodensee - ECPv6.15.20//NONSGML v1.0//EN
CALSCALE:GREGORIAN
METHOD:PUBLISH
X-ORIGINAL-URL:https://bibisbo.de
X-WR-CALDESC:Veranstaltungen für BiBisBo - Veranstaltungen von Biberach bis Bodensee
REFRESH-INTERVAL;VALUE=DURATION:PT1H
X-Robots-Tag:noindex
X-PUBLISHED-TTL:PT1H
BEGIN:VTIMEZONE
TZID:Europe/Berlin
BEGIN:DAYLIGHT
TZOFFSETFROM:+0100
TZOFFSETTO:+0200
TZNAME:CEST
DTSTART:20240331T010000
END:DAYLIGHT
BEGIN:STANDARD
TZOFFSETFROM:+0200
TZOFFSETTO:+0100
TZNAME:CET
DTSTART:20241027T010000
END:STANDARD
BEGIN:DAYLIGHT
TZOFFSETFROM:+0100
TZOFFSETTO:+0200
TZNAME:CEST
DTSTART:20250330T010000
END:DAYLIGHT
BEGIN:STANDARD
TZOFFSETFROM:+0200
TZOFFSETTO:+0100
TZNAME:CET
DTSTART:20251026T010000
END:STANDARD
BEGIN:DAYLIGHT
TZOFFSETFROM:+0100
TZOFFSETTO:+0200
TZNAME:CEST
DTSTART:20260329T010000
END:DAYLIGHT
BEGIN:STANDARD
TZOFFSETFROM:+0200
TZOFFSETTO:+0100
TZNAME:CET
DTSTART:20261025T010000
END:STANDARD
END:VTIMEZONE
BEGIN:VEVENT
DTSTART;TZID=Europe/Berlin:20250530T193000
DTEND;TZID=Europe/Berlin:20250530T203000
DTSTAMP:20260425T230943
CREATED:20250404T132007Z
LAST-MODIFIED:20250703T121706Z
UID:857-1748633400-1748637000@bibisbo.de
SUMMARY:Marktplatzkonzert in Bad Buchau der Musikkapelle Dürnau am 30. Mai 2025
DESCRIPTION:Am 30. Mai 2025 lädt die Tourist-Information Bad Buchau herzlich zum traditionellen Marktplatzkonzert ein. Ab 19:30 Uhr unterhält die bekannte Musikkapelle Dürnau die Besucher bis etwa 20:30 Uhr mit einem abwechslungsreichen Repertoire. Genießen Sie einen stimmungsvollen Abend mit Live-Musik auf dem malerischen Marktplatz Bad Buchau. Weitere Informationen erhalten Sie bei der Tourist-Information unter der Telefonnummer +49 7582 808180.
URL:https://bibisbo.de/event/marktplatzkonzert-in-bad-buchau-der-musikkapelle-duernau-am-30-mai-2025/
LOCATION:Bad Buchau Marktplatz\, Marktplatz\, Bad Buchau\, 88422\, Germany
CATEGORIES:Bad Buchau,Landkreis Biberach
END:VEVENT
END:VCALENDAR