BEGIN:VCALENDAR
VERSION:2.0
PRODID:-//BiBisBo - Veranstaltungen von Biberach bis Bodensee - ECPv6.15.20//NONSGML v1.0//EN
CALSCALE:GREGORIAN
METHOD:PUBLISH
X-WR-CALNAME:BiBisBo - Veranstaltungen von Biberach bis Bodensee
X-ORIGINAL-URL:https://bibisbo.de
X-WR-CALDESC:Veranstaltungen für BiBisBo - Veranstaltungen von Biberach bis Bodensee
REFRESH-INTERVAL;VALUE=DURATION:PT1H
X-Robots-Tag:noindex
X-PUBLISHED-TTL:PT1H
BEGIN:VTIMEZONE
TZID:Europe/Berlin
BEGIN:DAYLIGHT
TZOFFSETFROM:+0100
TZOFFSETTO:+0200
TZNAME:CEST
DTSTART:20240331T010000
END:DAYLIGHT
BEGIN:STANDARD
TZOFFSETFROM:+0200
TZOFFSETTO:+0100
TZNAME:CET
DTSTART:20241027T010000
END:STANDARD
BEGIN:DAYLIGHT
TZOFFSETFROM:+0100
TZOFFSETTO:+0200
TZNAME:CEST
DTSTART:20250330T010000
END:DAYLIGHT
BEGIN:STANDARD
TZOFFSETFROM:+0200
TZOFFSETTO:+0100
TZNAME:CET
DTSTART:20251026T010000
END:STANDARD
BEGIN:DAYLIGHT
TZOFFSETFROM:+0100
TZOFFSETTO:+0200
TZNAME:CEST
DTSTART:20260329T010000
END:DAYLIGHT
BEGIN:STANDARD
TZOFFSETFROM:+0200
TZOFFSETTO:+0100
TZNAME:CET
DTSTART:20261025T010000
END:STANDARD
END:VTIMEZONE
BEGIN:VEVENT
DTSTART;TZID=Europe/Berlin:20250517T090000
DTEND;TZID=Europe/Berlin:20250517T120000
DTSTAMP:20260421T192821
CREATED:20250404T100019Z
LAST-MODIFIED:20250703T121718Z
UID:815-1747472400-1747483200@bibisbo.de
SUMMARY:Tag der offenen Tür in der Musikschule Romanshorn 2025
DESCRIPTION:Die Musikschule Romanshorn feiert ihr 50-jähriges Jubiläum mit einem Tag der offenen Tür! Am Samstag\, den 17. Mai 2025\, von 09:00 bis 12:00 Uhr\, können Besucher die vielfältige Welt der Musik entdecken. Unter fachkundiger Anleitung der Musiklehrer haben Interessierte die Möglichkeit\, verschiedene Instrumente auszuprobieren und Fragen zu stellen. Ein kleines Konzert und eine Cafeteria runden das Programm ab. Die Veranstaltung findet in der Musikschule\, Hafenstrasse 6\, in Romanshorn statt.
URL:https://bibisbo.de/event/tag-der-offenen-tuer-musikschule-romanshorn-2025/
LOCATION:Romanshorn Innenstadt\, Romanshorn\, Switzerland
CATEGORIES:Kanton Thurgau,Romanshorn
END:VEVENT
END:VCALENDAR