BEGIN:VCALENDAR
VERSION:2.0
PRODID:-//BiBisBo - Veranstaltungen von Biberach bis Bodensee - ECPv6.15.20//NONSGML v1.0//EN
CALSCALE:GREGORIAN
METHOD:PUBLISH
X-WR-CALNAME:BiBisBo - Veranstaltungen von Biberach bis Bodensee
X-ORIGINAL-URL:https://bibisbo.de
X-WR-CALDESC:Veranstaltungen für BiBisBo - Veranstaltungen von Biberach bis Bodensee
REFRESH-INTERVAL;VALUE=DURATION:PT1H
X-Robots-Tag:noindex
X-PUBLISHED-TTL:PT1H
BEGIN:VTIMEZONE
TZID:Europe/Berlin
BEGIN:DAYLIGHT
TZOFFSETFROM:+0100
TZOFFSETTO:+0200
TZNAME:CEST
DTSTART:20240331T010000
END:DAYLIGHT
BEGIN:STANDARD
TZOFFSETFROM:+0200
TZOFFSETTO:+0100
TZNAME:CET
DTSTART:20241027T010000
END:STANDARD
BEGIN:DAYLIGHT
TZOFFSETFROM:+0100
TZOFFSETTO:+0200
TZNAME:CEST
DTSTART:20250330T010000
END:DAYLIGHT
BEGIN:STANDARD
TZOFFSETFROM:+0200
TZOFFSETTO:+0100
TZNAME:CET
DTSTART:20251026T010000
END:STANDARD
BEGIN:DAYLIGHT
TZOFFSETFROM:+0100
TZOFFSETTO:+0200
TZNAME:CEST
DTSTART:20260329T010000
END:DAYLIGHT
BEGIN:STANDARD
TZOFFSETFROM:+0200
TZOFFSETTO:+0100
TZNAME:CET
DTSTART:20261025T010000
END:STANDARD
END:VTIMEZONE
BEGIN:VEVENT
DTSTART;TZID=Europe/Berlin:20250506T150000
DTEND;TZID=Europe/Berlin:20250506T170000
DTSTAMP:20260420T183938
CREATED:20250407T110438Z
LAST-MODIFIED:20250703T121730Z
UID:1232-1746543600-1746550800@bibisbo.de
SUMMARY:Aulendorfer Karrieretag 2025: Deine Chance für die berufliche Zukunft
DESCRIPTION:Der Aulendorfer Karrieretag am 06. Mai 2025 in der Stadthalle bietet eine hervorragende Gelegenheit\, Kontakte zu knüpfen und mehr über Karrieremöglichkeiten zu erfahren. Ab 15:00 Uhr präsentieren sich Unternehmen und Institutionen aus der Region und informieren über Jobangebote\, Ausbildungsmöglichkeiten und Karrierewege. Eine ideale Veranstaltung für Berufseinsteiger\, Young Professionals und alle\, die sich beruflich neu orientieren möchten.
URL:https://bibisbo.de/event/aulendorfer-karrieretag-2025/
LOCATION:Aulendorf Innenstadt\, Schloss Aulendorf\, Aulendorf\, 88326
CATEGORIES:Aulendorf,Landkreis Ravensburg
END:VEVENT
END:VCALENDAR