BEGIN:VCALENDAR
VERSION:2.0
PRODID:-//BiBisBo - Veranstaltungen von Biberach bis Bodensee - ECPv6.15.20//NONSGML v1.0//EN
CALSCALE:GREGORIAN
METHOD:PUBLISH
X-WR-CALNAME:BiBisBo - Veranstaltungen von Biberach bis Bodensee
X-ORIGINAL-URL:https://bibisbo.de
X-WR-CALDESC:Veranstaltungen für BiBisBo - Veranstaltungen von Biberach bis Bodensee
REFRESH-INTERVAL;VALUE=DURATION:PT1H
X-Robots-Tag:noindex
X-PUBLISHED-TTL:PT1H
BEGIN:VTIMEZONE
TZID:Europe/Berlin
BEGIN:DAYLIGHT
TZOFFSETFROM:+0100
TZOFFSETTO:+0200
TZNAME:CEST
DTSTART:20240331T010000
END:DAYLIGHT
BEGIN:STANDARD
TZOFFSETFROM:+0200
TZOFFSETTO:+0100
TZNAME:CET
DTSTART:20241027T010000
END:STANDARD
BEGIN:DAYLIGHT
TZOFFSETFROM:+0100
TZOFFSETTO:+0200
TZNAME:CEST
DTSTART:20250330T010000
END:DAYLIGHT
BEGIN:STANDARD
TZOFFSETFROM:+0200
TZOFFSETTO:+0100
TZNAME:CET
DTSTART:20251026T010000
END:STANDARD
BEGIN:DAYLIGHT
TZOFFSETFROM:+0100
TZOFFSETTO:+0200
TZNAME:CEST
DTSTART:20260329T010000
END:DAYLIGHT
BEGIN:STANDARD
TZOFFSETFROM:+0200
TZOFFSETTO:+0100
TZNAME:CET
DTSTART:20261025T010000
END:STANDARD
END:VTIMEZONE
BEGIN:VEVENT
DTSTART;TZID=Europe/Berlin:20250626T200000
DTEND;TZID=Europe/Berlin:20250626T230000
DTSTAMP:20260422T130517
CREATED:20250402T191218Z
LAST-MODIFIED:20250703T121333Z
UID:461-1750968000-1750978800@bibisbo.de
SUMMARY:Fury In The Slaughterhouse rockt das Meersburg Open Air 2025
DESCRIPTION:Am Donnerstag\, den 26. Juni 2025 um 20:00 Uhr\, bringen Fury In The Slaughterhouse ihre energiegeladene „FURY LIVE TWENTY FIVE“ Sommer-Tour zum Meersburg Open Air. Nach dem sensationellen #1 Album „HOPE“ und zahlreichen ausverkauften Konzerten im Vorjahr\, kehrt die Kultband zurück\, um mit ihren unvergesslichen Hits wie „Time To Wonder“ und „Radio Orchid“ den Schlossplatz in Meersburg zum Beben zu bringen. Freuen Sie sich auf eine unvergessliche Rocknacht mit grandiosen Lyrics\, melodischen Gitarrenriffs und jeder Menge guter Stimmung.\nSichern Sie sich jetzt Ihre Tickets ab 74\,90 € und seien Sie dabei\, wenn Fury In The Slaughterhouse ein weiteres Kapitel ihrer beeindruckenden Bandgeschichte schreibt! \nFury In The Slaughterhouse Konzert – Ein Muss für echte Rockfans\nFury In The Slaughterhouse gehört zu den erfolgreichsten Rockbands Deutschlands. Seit ihrer Gründung 1987 in Hannover begeistert die Band mit eingängigen Melodien\, kraftvollen Gitarrenriffs und einer unverwechselbaren Stimme – Markenzeichen von Sänger Kai Wingenfelder. Hits wie „Time to Wonder“\, „Every Generation Got Its Own Disease“ oder „Radio Orchid“ machten sie nicht nur national\, sondern auch international bekannt. \nWas Fury besonders auszeichnet\, ist ihre beeindruckende Bühnenpräsenz. Ein Livekonzert der Band ist weit mehr als nur Musik – es ist pure Energie\, Emotion und eine mitreißende Reise durch über drei Jahrzehnte Rockgeschichte. Die Musiker schaffen es\, eine intime Verbindung zum Publikum aufzubauen\, ganz gleich ob auf großen Festivalbühnen oder in kleineren Hallen. \nWer echten\, ehrlichen Rock erleben will\, sollte sich ein Konzert von Fury In The Slaughterhouse nicht entgehen lassen – Gänsehaut-Momente garantiert!
URL:https://bibisbo.de/event/fury-in-the-slaughterhouse-rockt-das-meersburg-open-air-2025/
LOCATION:Meersburg Innenstadt\, Schlossplatz\, Meersburg\, 88709\, Germany
CATEGORIES:Bodenseekreis,Meersburg
END:VEVENT
BEGIN:VEVENT
DTSTART;TZID=Europe/Berlin:20250626T200000
DTEND;TZID=Europe/Berlin:20250626T233000
DTSTAMP:20260422T130517
CREATED:20250330T204022Z
LAST-MODIFIED:20250703T121332Z
UID:123-1750968000-1750980600@bibisbo.de
SUMMARY:Santiano live in Ehingen: Das Open Air Highlight 2025 auf dem Marktplatz
DESCRIPTION:Erleben Sie Santiano\, die stürmische Kultband des maritimen Schlagers\, live und open air auf dem historischen Marktplatz in Ehingen (Donau)! Im Rahmen ihrer großen „Doogerland“-Tournee 2025 macht die norddeutsche Formation am Donnerstag\, den 26. Juni 2025\, Halt in Schwaben\, um ihre zahlreichen Fans mit einer unvergesslichen Show zu begeistern. \nSantiano: Energiegeladene Live-Performance unter freiem Himmel\nBekannt für ihre mitreißenden Konzerte\, die eine einzigartige Mischung aus Seemannsliedern\, Irish Folk\, Schlager und Rock präsentieren\, verspricht Santiano ein unvergessliches Open-Air-Erlebnis. Die Band um Frontmann Andreas Fahnert wird das Publikum mit ihren bekannten Hits und neuen Songs in ihren Bann ziehen. Die besondere Atmosphäre des Ehinger Marktplatzes bietet dabei die perfekte Kulisse für einen stimmungsvollen Sommerabend voller Musik und guter Laune. \nSichern Sie sich jetzt Ihre Tickets für Santiano in Ehingen\nDer Vorverkauf für dieses musikalische Highlight hat bereits begonnen. Tickets sind bequem über verschiedene Wege erhältlich: \n\nOnline: Über die Ticketportale Reservix und Eventim sowie direkt auf den Webseiten von www.allgaeu-concerts.de und www.donau3fm.de.\nVorverkaufsstellen: An allen bekannten Vorverkaufsstellen in Ihrer Nähe.\nTourist-Info Rathaus Ehingen: Persönlich erhalten Sie Tickets auch in der Tourist-Information im Rathaus Ehingen zu folgenden Zeiten:\n\nMontag bis Freitag: 8:00 Uhr bis 12:00 Uhr\nDienstag: 14:00 Uhr bis 16:00 Uhr\nDonnerstag: 14:00 Uhr bis 18:00 Uhr\n\n\n\nVerpassen Sie nicht die Gelegenheit\, Santiano live auf dem Ehinger Marktplatz zu erleben. Sichern Sie sich Ihre Tickets rechtzeitig und freuen Sie sich auf einen unvergesslichen Konzertabend am 26. Juni 2025 um 20:00 Uhr in 89584 Ehingen (Donau)! \nSantiano – Seemannsromantik trifft Rockpower\nSantiano ist eine norddeutsche Band\, die seit 2011 die deutsche Musikszene im Sturm erobert hat. Mit einer einzigartigen Mischung aus Shanty\, Folk\, Rock und Pop begeistern sie ein breites Publikum. Ihre Songs handeln von Freiheit\, Fernweh und der Kraft des Meeres – Themen\, die generationsübergreifend berühren. Die markanten Stimmen der Bandmitglieder und ihre eingängigen Melodien sorgen für Gänsehautmomente\, die lange im Ohr bleiben. \nEin Livekonzert von Santiano ist weit mehr als nur ein musikalisches Erlebnis – es ist ein mitreißendes Spektakel voller Emotion\, Energie und Gemeinschaftsgefühl. Die fünf Musiker schaffen es\, das Publikum vom ersten Ton an mit auf große Fahrt zu nehmen. Mit ihrer authentischen Bühnenpräsenz\, der leidenschaftlichen Performance und einer eindrucksvollen Licht- und Tonkulisse wird jedes Konzert zu einem unvergesslichen Erlebnis. Wer echte Livemusik liebt\, sollte sich Santiano auf keinen Fall entgehen lassen!
URL:https://bibisbo.de/event/santiano-live-in-ehingen-das-open-air-highlight-2025-auf-dem-marktplatz/
LOCATION:Ehingen Innenstadt\, Marktplatz\, Ehingen (Donau)\, 89584\, Germany
CATEGORIES:Alb-Donau-Kreis,Ehingen (Donau)
END:VEVENT
BEGIN:VEVENT
DTSTART;TZID=Europe/Berlin:20250628T200000
DTEND;TZID=Europe/Berlin:20250628T233000
DTSTAMP:20260422T130517
CREATED:20250330T203640Z
LAST-MODIFIED:20250703T121325Z
UID:121-1751140800-1751153400@bibisbo.de
SUMMARY:Ehinger Marktplatz Open Air 2025: Gotthard & Krokus – Die Rock-Nacht des Jahres!
DESCRIPTION:Erleben Sie am Samstag\, den 28. Juni 2025\, ein Rock-Spektakel der Extraklasse beim Ehinger Marktplatz Open Air! Mit den legendären Bands Gotthard und Krokus als Double-Headliner erwartet Sie ein unvergesslicher Abend voller energiegeladener Live-Musik. Ab 20:00 Uhr verwandelt sich der Ehinger Marktplatz in eine pulsierende Rock-Arena\, in der zwei der erfolgreichsten und einflussreichsten Rockbands der Schweiz die Bühne rocken werden. \nGotthard: Schweizer Rocklegenden live in Ehingen\nGotthard\, die unbestrittene Nummer Eins der Schweizer Rockszene\, werden das Publikum mit ihren unzähligen Hits und ihrer beeindruckenden Bühnenpräsenz in ihren Bann ziehen. Die Band steht für melodischen Hard Rock mit Ohrwurm-Garantie und hat sich über Jahrzehnte eine treue Fangemeinde erspielt. Freuen Sie sich auf eine mitreißende Show voller Leidenschaft und musikalischer Virtuosität. \nKrokus: Ungefilterter Rock direkt auf die Ohren\nAls zweiter Headliner des Abends wird die Band Krokus dem Publikum zeigen\, was ehrlicher\, handgemachter und ungeschliffener Rock bedeutet. Mit ihrer kraftvollen Musik und energiegeladenen Performance haben sich Krokus international einen Namen gemacht und stehen für pure Rock’n’Roll-Attitüde. Machen Sie sich bereit für eine explosive Show\, die keine Wünsche offenlässt. \nSichern Sie sich jetzt Ihre Tickets!\nVerpassen Sie dieses einmalige Rock-Event in Ehingen nicht! Der Ticketvorverkauf für das Ehinger Marktplatz Open Air mit Gotthard und Krokus hat bereits begonnen. Sichern Sie sich Ihre Eintrittskarten bequem über Reservix\, Eventim und allen bekannten Vorverkaufsstellen. Seien Sie dabei\, wenn diese beiden Rock-Giganten gemeinsam den Ehinger Marktplatz zum Beben bringen!
URL:https://bibisbo.de/event/ehinger-marktplatz-open-air-2025-gotthard-krokus-die-rock-nacht-des-jahres/
LOCATION:Ehingen Innenstadt\, Marktplatz\, Ehingen (Donau)\, 89584\, Germany
CATEGORIES:Alb-Donau-Kreis,Ehingen (Donau)
END:VEVENT
BEGIN:VEVENT
DTSTART;TZID=Europe/Berlin:20250629T200000
DTEND;TZID=Europe/Berlin:20250629T230000
DTSTAMP:20260422T130517
CREATED:20250402T172835Z
LAST-MODIFIED:20250703T121323Z
UID:454-1751227200-1751238000@bibisbo.de
SUMMARY:Beth Hart live beim Meersburg Open Air 2025 erleben
DESCRIPTION:Erleben Sie die US-amerikanische Ausnahmekünstlerin Beth Hart live beim Meersburg Open Air am Sonntag\, den 29. Juni 2025 um 20:00 Uhr! Bekannt für ihre authentischen Songs und ihre gewaltige Stimme\, nimmt Beth Hart ihr Publikum mit auf eine emotionale Achterbahnfahrt. Ihre Live-Auftritte sind ein brodelnder Vulkan aus Freude\, Schmerz und Leidenschaft. Verpassen Sie nicht die Gelegenheit\, diese musikalische Urgewalt mit ihrer Band in der einzigartigen Atmosphäre des Meersburg Open Airs zu erleben. \nBeth Hart – Die Stimme\, die unter die Haut geht\nBeth Hart ist eine Ausnahmekünstlerin – kraftvoll\, ehrlich und emotional. Die US-amerikanische Sängerin begeistert mit ihrer einzigartigen Mischung aus Blues\, Rock\, Soul und Jazz. Ihre rauchige Stimme\, die tief unter die Haut geht\, erinnert an große Ikonen wie Janis Joplin\, dabei bleibt sie stets authentisch und unverkennbar sie selbst. \nBegleitet wird sie von einer hochkarätigen Band\, die ihre musikalische Leidenschaft perfekt unterstützt: mitreißende Gitarrenriffs\, treibende Drums und gefühlvolle Pianoklänge verleihen jedem Song eine intensive Tiefe. Gemeinsam erschaffen sie ein Live-Erlebnis\, das lange nachhallt. \nEin Konzert von Beth Hart ist mehr als nur Musik – es ist pure Emotion. Zwischen roher Energie und zerbrechlicher Verletzlichkeit nimmt sie ihr Publikum mit auf eine Reise durch ihr bewegtes Leben. Wer einmal dabei war\, vergisst diesen Abend nie. Für Musikliebhaber ein absolutes Muss – denn Beth Hart live zu erleben\, bedeutet Gänsehaut von der ersten bis zur letzten Note.
URL:https://bibisbo.de/event/beth-hart-meersburg-open-air-2025/
LOCATION:Meersburg Innenstadt\, Schlossplatz\, Meersburg\, 88709\, Germany
CATEGORIES:Bodenseekreis,Meersburg
END:VEVENT
END:VCALENDAR