BEGIN:VCALENDAR
VERSION:2.0
PRODID:-//BiBisBo - Veranstaltungen von Biberach bis Bodensee - ECPv6.15.20//NONSGML v1.0//EN
CALSCALE:GREGORIAN
METHOD:PUBLISH
X-WR-CALNAME:BiBisBo - Veranstaltungen von Biberach bis Bodensee
X-ORIGINAL-URL:https://bibisbo.de
X-WR-CALDESC:Veranstaltungen für BiBisBo - Veranstaltungen von Biberach bis Bodensee
REFRESH-INTERVAL;VALUE=DURATION:PT1H
X-Robots-Tag:noindex
X-PUBLISHED-TTL:PT1H
BEGIN:VTIMEZONE
TZID:Europe/Berlin
BEGIN:DAYLIGHT
TZOFFSETFROM:+0100
TZOFFSETTO:+0200
TZNAME:CEST
DTSTART:20240331T010000
END:DAYLIGHT
BEGIN:STANDARD
TZOFFSETFROM:+0200
TZOFFSETTO:+0100
TZNAME:CET
DTSTART:20241027T010000
END:STANDARD
BEGIN:DAYLIGHT
TZOFFSETFROM:+0100
TZOFFSETTO:+0200
TZNAME:CEST
DTSTART:20250330T010000
END:DAYLIGHT
BEGIN:STANDARD
TZOFFSETFROM:+0200
TZOFFSETTO:+0100
TZNAME:CET
DTSTART:20251026T010000
END:STANDARD
BEGIN:DAYLIGHT
TZOFFSETFROM:+0100
TZOFFSETTO:+0200
TZNAME:CEST
DTSTART:20260329T010000
END:DAYLIGHT
BEGIN:STANDARD
TZOFFSETFROM:+0200
TZOFFSETTO:+0100
TZNAME:CET
DTSTART:20261025T010000
END:STANDARD
END:VTIMEZONE
BEGIN:VEVENT
DTSTART;TZID=Europe/Berlin:20250801T170000
DTEND;TZID=Europe/Berlin:20250801T183000
DTSTAMP:20260423T005329
CREATED:20250403T172426Z
LAST-MODIFIED:20251007T070552Z
UID:715-1754067600-1754073000@bibisbo.de
SUMMARY:Markdorfer Rebrundgang: Wein\, Aussicht und Genuss am 1. August 2025
DESCRIPTION:Erleben Sie die malerischen Markdorfer Weinlagen bei einem geführten Rebrundgang am 1. August von 17:00 bis 18:30 Uhr. Unter der fachkundigen Leitung von Rebmeister H. Gutemann entdecken Sie die Steillagen und genießen atemberaubende Aussichtspunkte. \nWeinprobe und Panoramablick \nDie Tour beinhaltet die Verkostung von drei erlesenen Weinen\, darunter ein Rosé\, der in zwei Gläsern vor der Kulisse grüner Reben und dem Markdorfer Kirchturm serviert wird. Ein unvergessliches Erlebnis für Weinliebhaber und Naturfreunde. \nWichtige Hinweise \nGutes Lauf- und Stehvermögen sind erforderlich. Bei Regen behält sich der Veranstalter Änderungen der Tour vor. Der Eintritt beträgt 15 €\, mit EBC-Karte 13 €. Treffpunkt ist das Rebhaus Markdorf\, Obere Wangerhalde 3\, 88677 Markdorf
URL:https://bibisbo.de/event/markdorfer-rebrundgang-wein-aussicht-und-genuss-am-1-august-2025/
LOCATION:Markdorf Rebhaus\, Obere Wangerhalde 3\, Markdorf\, 88677\, Germany
CATEGORIES:Bodenseekreis,Markdorf
END:VEVENT
END:VCALENDAR