BEGIN:VCALENDAR
VERSION:2.0
PRODID:-//BiBisBo - Veranstaltungen von Biberach bis Bodensee - ECPv6.15.20//NONSGML v1.0//EN
CALSCALE:GREGORIAN
METHOD:PUBLISH
X-WR-CALNAME:BiBisBo - Veranstaltungen von Biberach bis Bodensee
X-ORIGINAL-URL:https://bibisbo.de
X-WR-CALDESC:Veranstaltungen für BiBisBo - Veranstaltungen von Biberach bis Bodensee
REFRESH-INTERVAL;VALUE=DURATION:PT1H
X-Robots-Tag:noindex
X-PUBLISHED-TTL:PT1H
BEGIN:VTIMEZONE
TZID:Europe/Berlin
BEGIN:DAYLIGHT
TZOFFSETFROM:+0100
TZOFFSETTO:+0200
TZNAME:CEST
DTSTART:20240331T010000
END:DAYLIGHT
BEGIN:STANDARD
TZOFFSETFROM:+0200
TZOFFSETTO:+0100
TZNAME:CET
DTSTART:20241027T010000
END:STANDARD
BEGIN:DAYLIGHT
TZOFFSETFROM:+0100
TZOFFSETTO:+0200
TZNAME:CEST
DTSTART:20250330T010000
END:DAYLIGHT
BEGIN:STANDARD
TZOFFSETFROM:+0200
TZOFFSETTO:+0100
TZNAME:CET
DTSTART:20251026T010000
END:STANDARD
BEGIN:DAYLIGHT
TZOFFSETFROM:+0100
TZOFFSETTO:+0200
TZNAME:CEST
DTSTART:20260329T010000
END:DAYLIGHT
BEGIN:STANDARD
TZOFFSETFROM:+0200
TZOFFSETTO:+0100
TZNAME:CET
DTSTART:20261025T010000
END:STANDARD
END:VTIMEZONE
BEGIN:VEVENT
DTSTART;TZID=Europe/Berlin:20250426T173000
DTEND;TZID=Europe/Berlin:20250426T213000
DTSTAMP:20260425T164430
CREATED:20250402T141314Z
LAST-MODIFIED:20250703T093540Z
UID:409-1745688600-1745703000@bibisbo.de
SUMMARY:Grill & Chill in der autobau erlebniswelt: Genussvoller Abend nach dem Roll out
DESCRIPTION:Gemütlicher Ausklang in der Paddock Lounge\nErleben Sie am Samstag\, den 26. April 2025\, einen entspannten Abend bei „Grill & Chill“ in der einzigartigen Atmosphäre der autobau erlebniswelt in Romanshorn. Nach dem „Roll out“ von 16:00 bis 17:30 Uhr\, zu dem Sie mit einem regulären Ticket die faszinierende Welt der Oldtimer und Sportwagen erkunden können\, lädt die gemütliche Paddock Lounge ab 17:30 Uhr zum Verweilen ein. \nKulinarische Köstlichkeiten vom Grill\nGeniessen Sie ein köstliches Menü mit saftigem Rindstagliata (ca. 250g) vom Grill\, serviert auf frischem Rucola und mit feinen Parmesanspänen. Ein reichhaltiges Salatbuffet mit italienischem und französischem Dressing sowie frisches Brot runden das Angebot ab. Als süssen Abschluss können Sie optional ein Tomela Glacé Kübeli aus der Region erwerben. \nInformationen und Preise\nDie Teilnahme am „Grill & Chill“ ab 17:30 Uhr kostet CHF 45.00 pro Person (exkl. Getränke und Dessert). Selbstverständlich sind auch Gäste herzlich willkommen\, die nicht am vorherigen „Roll out“ teilnehmen möchten. Verbringen Sie einen schönen Abend in bester Gesellschaft und lassen Sie den Tag stilvoll ausklingen.
URL:https://bibisbo.de/event/grill-chill-in-der-autobau-erlebniswelt-genussvoller-abend-nach-dem-roll-out/
LOCATION:Romanshorn autobau erlebniswelt\, Egnacherweg 7\, Romanshorn\, Thurgau\, 8590\, Switzerland
CATEGORIES:Kanton Thurgau,Romanshorn
END:VEVENT
END:VCALENDAR