BEGIN:VCALENDAR
VERSION:2.0
PRODID:-//BiBisBo - Veranstaltungen von Biberach bis Bodensee - ECPv6.15.20//NONSGML v1.0//EN
CALSCALE:GREGORIAN
METHOD:PUBLISH
X-WR-CALNAME:BiBisBo - Veranstaltungen von Biberach bis Bodensee
X-ORIGINAL-URL:https://bibisbo.de
X-WR-CALDESC:Veranstaltungen für BiBisBo - Veranstaltungen von Biberach bis Bodensee
REFRESH-INTERVAL;VALUE=DURATION:PT1H
X-Robots-Tag:noindex
X-PUBLISHED-TTL:PT1H
BEGIN:VTIMEZONE
TZID:Europe/Berlin
BEGIN:DAYLIGHT
TZOFFSETFROM:+0100
TZOFFSETTO:+0200
TZNAME:CEST
DTSTART:20240331T010000
END:DAYLIGHT
BEGIN:STANDARD
TZOFFSETFROM:+0200
TZOFFSETTO:+0100
TZNAME:CET
DTSTART:20241027T010000
END:STANDARD
BEGIN:DAYLIGHT
TZOFFSETFROM:+0100
TZOFFSETTO:+0200
TZNAME:CEST
DTSTART:20250330T010000
END:DAYLIGHT
BEGIN:STANDARD
TZOFFSETFROM:+0200
TZOFFSETTO:+0100
TZNAME:CET
DTSTART:20251026T010000
END:STANDARD
BEGIN:DAYLIGHT
TZOFFSETFROM:+0100
TZOFFSETTO:+0200
TZNAME:CEST
DTSTART:20260329T010000
END:DAYLIGHT
BEGIN:STANDARD
TZOFFSETFROM:+0200
TZOFFSETTO:+0100
TZNAME:CET
DTSTART:20261025T010000
END:STANDARD
END:VTIMEZONE
BEGIN:VEVENT
DTSTART;TZID=Europe/Berlin:20250813T173000
DTEND;TZID=Europe/Berlin:20250813T213000
DTSTAMP:20260422T105803
CREATED:20250402T142405Z
LAST-MODIFIED:20251007T070545Z
UID:414-1755106200-1755120600@bibisbo.de
SUMMARY:Grill & Chill in der autobau erlebniswelt: Genussvoller Abend nach dem Roll out am 13. August 2025
DESCRIPTION:Verbringen Sie einen entspannten Abend mit Grill & Chill in der einzigartigen Atmosphäre der autobau erlebniswelt. Nach dem spannenden Roll out (16:00 – 17:30 Uhr\, Teilnahme mit regulärem Ticket möglich) lädt die gemütliche Paddock Lounge ab 17:30 Uhr zum geselligen Beisammensein ein. Genießen Sie ein feines Stück Fleisch vom Grill und lassen Sie den Tag in bester Gesellschaft ausklingen. Selbstverständlich sind auch Gäste herzlich willkommen\, die ausschließlich am Grillabend teilnehmen möchten. \nKulinarische Highlights am Grillabend\nFreuen Sie sich auf eine köstliche Rindstagliata am Stück gebraten (ca. 250g)\, serviert auf frischem Rucola und feinen Parmesanspänen. Das reichhaltige Salatbuffet bietet eine Auswahl an fünf verschiedenen saisonalen Salaten mit italienischem und französischem Dressing sowie knusprigen Brotcroûtons\, einem Kernen- und Nuss-Mix. Dazu wird ein Brotkorb mit frischen Brötchen und Butter gereicht. Zum süßen Abschluss können Sie optional ein Tomela Glacé Kübeli aus der Region genießen. \nPreis: CHF 45.00 pro Person (exkl. Getränke und Dessert)
URL:https://bibisbo.de/event/grill-chill-autobau-erlebniswelt-genussvoller-abend-august-2025/
LOCATION:Romanshorn autobau erlebniswelt\, Egnacherweg 7\, Romanshorn\, Thurgau\, 8590\, Switzerland
CATEGORIES:Kanton Thurgau,Romanshorn
END:VEVENT
END:VCALENDAR