BEGIN:VCALENDAR
VERSION:2.0
PRODID:-//BiBisBo - Veranstaltungen von Biberach bis Bodensee - ECPv6.15.20//NONSGML v1.0//EN
CALSCALE:GREGORIAN
METHOD:PUBLISH
X-ORIGINAL-URL:https://bibisbo.de
X-WR-CALDESC:Veranstaltungen für BiBisBo - Veranstaltungen von Biberach bis Bodensee
REFRESH-INTERVAL;VALUE=DURATION:PT1H
X-Robots-Tag:noindex
X-PUBLISHED-TTL:PT1H
BEGIN:VTIMEZONE
TZID:Europe/Berlin
BEGIN:DAYLIGHT
TZOFFSETFROM:+0100
TZOFFSETTO:+0200
TZNAME:CEST
DTSTART:20240331T010000
END:DAYLIGHT
BEGIN:STANDARD
TZOFFSETFROM:+0200
TZOFFSETTO:+0100
TZNAME:CET
DTSTART:20241027T010000
END:STANDARD
BEGIN:DAYLIGHT
TZOFFSETFROM:+0100
TZOFFSETTO:+0200
TZNAME:CEST
DTSTART:20250330T010000
END:DAYLIGHT
BEGIN:STANDARD
TZOFFSETFROM:+0200
TZOFFSETTO:+0100
TZNAME:CET
DTSTART:20251026T010000
END:STANDARD
BEGIN:DAYLIGHT
TZOFFSETFROM:+0100
TZOFFSETTO:+0200
TZNAME:CEST
DTSTART:20260329T010000
END:DAYLIGHT
BEGIN:STANDARD
TZOFFSETFROM:+0200
TZOFFSETTO:+0100
TZNAME:CET
DTSTART:20261025T010000
END:STANDARD
END:VTIMEZONE
BEGIN:VEVENT
DTSTART;TZID=Europe/Berlin:20250627T193000
DTEND;TZID=Europe/Berlin:20250627T230000
DTSTAMP:20260422T014251
CREATED:20250404T105354Z
LAST-MODIFIED:20250703T121329Z
UID:826-1751052600-1751065200@bibisbo.de
SUMMARY:Summer Pride Boat ab Romanshorn 2025
DESCRIPTION:Pride Party auf dem Bodensee\nAm Freitag\, den 27. Juni 2025\, sticht das Summer Pride Boat in Romanshorn in See. Abfahrt ist um 19:30 Uhr. Genießen Sie eine unvergessliche Fahrt auf dem Bodensee bis zur Ankunft um 23:00 Uhr. Tickets für Erwachsene sind für 48 CHF erhältlich. Feiern Sie die Vielfalt und den Pride auf dem Wasser!
URL:https://bibisbo.de/event/summer-pride-boat-romanshorn-2025/
LOCATION:Romanshorn Innenstadt\, Romanshorn\, Switzerland
CATEGORIES:Kanton Thurgau,Romanshorn
END:VEVENT
BEGIN:VEVENT
DTSTART;TZID=Europe/Berlin:20250628T200000
DTEND;TZID=Europe/Berlin:20250628T233000
DTSTAMP:20260422T014251
CREATED:20250330T203640Z
LAST-MODIFIED:20250703T121325Z
UID:121-1751140800-1751153400@bibisbo.de
SUMMARY:Ehinger Marktplatz Open Air 2025: Gotthard & Krokus – Die Rock-Nacht des Jahres!
DESCRIPTION:Erleben Sie am Samstag\, den 28. Juni 2025\, ein Rock-Spektakel der Extraklasse beim Ehinger Marktplatz Open Air! Mit den legendären Bands Gotthard und Krokus als Double-Headliner erwartet Sie ein unvergesslicher Abend voller energiegeladener Live-Musik. Ab 20:00 Uhr verwandelt sich der Ehinger Marktplatz in eine pulsierende Rock-Arena\, in der zwei der erfolgreichsten und einflussreichsten Rockbands der Schweiz die Bühne rocken werden. \nGotthard: Schweizer Rocklegenden live in Ehingen\nGotthard\, die unbestrittene Nummer Eins der Schweizer Rockszene\, werden das Publikum mit ihren unzähligen Hits und ihrer beeindruckenden Bühnenpräsenz in ihren Bann ziehen. Die Band steht für melodischen Hard Rock mit Ohrwurm-Garantie und hat sich über Jahrzehnte eine treue Fangemeinde erspielt. Freuen Sie sich auf eine mitreißende Show voller Leidenschaft und musikalischer Virtuosität. \nKrokus: Ungefilterter Rock direkt auf die Ohren\nAls zweiter Headliner des Abends wird die Band Krokus dem Publikum zeigen\, was ehrlicher\, handgemachter und ungeschliffener Rock bedeutet. Mit ihrer kraftvollen Musik und energiegeladenen Performance haben sich Krokus international einen Namen gemacht und stehen für pure Rock’n’Roll-Attitüde. Machen Sie sich bereit für eine explosive Show\, die keine Wünsche offenlässt. \nSichern Sie sich jetzt Ihre Tickets!\nVerpassen Sie dieses einmalige Rock-Event in Ehingen nicht! Der Ticketvorverkauf für das Ehinger Marktplatz Open Air mit Gotthard und Krokus hat bereits begonnen. Sichern Sie sich Ihre Eintrittskarten bequem über Reservix\, Eventim und allen bekannten Vorverkaufsstellen. Seien Sie dabei\, wenn diese beiden Rock-Giganten gemeinsam den Ehinger Marktplatz zum Beben bringen!
URL:https://bibisbo.de/event/ehinger-marktplatz-open-air-2025-gotthard-krokus-die-rock-nacht-des-jahres/
LOCATION:Ehingen Innenstadt\, Marktplatz\, Ehingen (Donau)\, 89584\, Germany
CATEGORIES:Alb-Donau-Kreis,Ehingen (Donau)
END:VEVENT
END:VCALENDAR