BEGIN:VCALENDAR
VERSION:2.0
PRODID:-//BiBisBo - Veranstaltungen von Biberach bis Bodensee - ECPv6.15.20//NONSGML v1.0//EN
CALSCALE:GREGORIAN
METHOD:PUBLISH
X-WR-CALNAME:BiBisBo - Veranstaltungen von Biberach bis Bodensee
X-ORIGINAL-URL:https://bibisbo.de
X-WR-CALDESC:Veranstaltungen für BiBisBo - Veranstaltungen von Biberach bis Bodensee
REFRESH-INTERVAL;VALUE=DURATION:PT1H
X-Robots-Tag:noindex
X-PUBLISHED-TTL:PT1H
BEGIN:VTIMEZONE
TZID:Europe/Berlin
BEGIN:DAYLIGHT
TZOFFSETFROM:+0100
TZOFFSETTO:+0200
TZNAME:CEST
DTSTART:20250330T010000
END:DAYLIGHT
BEGIN:STANDARD
TZOFFSETFROM:+0200
TZOFFSETTO:+0100
TZNAME:CET
DTSTART:20251026T010000
END:STANDARD
BEGIN:DAYLIGHT
TZOFFSETFROM:+0100
TZOFFSETTO:+0200
TZNAME:CEST
DTSTART:20260329T010000
END:DAYLIGHT
BEGIN:STANDARD
TZOFFSETFROM:+0200
TZOFFSETTO:+0100
TZNAME:CET
DTSTART:20261025T010000
END:STANDARD
BEGIN:DAYLIGHT
TZOFFSETFROM:+0100
TZOFFSETTO:+0200
TZNAME:CEST
DTSTART:20270328T010000
END:DAYLIGHT
BEGIN:STANDARD
TZOFFSETFROM:+0200
TZOFFSETTO:+0100
TZNAME:CET
DTSTART:20271031T010000
END:STANDARD
END:VTIMEZONE
BEGIN:VEVENT
DTSTART;TZID=Europe/Berlin:20260220T000000
DTEND;TZID=Europe/Berlin:20260222T235959
DTSTAMP:20260420T001928
CREATED:20250404T174740Z
LAST-MODIFIED:20251029T150025Z
UID:909-1771545600-1771804799@bibisbo.de
SUMMARY:Immozionale Thurgau 2026: Die Immobilien- und Baumesse in Kreuzlingen
DESCRIPTION:Die Immozionale Thurgau in Kreuzlingen ist die etablierte Immobilien- und Baumesse in der Region. Vom 20. bis 22. Februar 2026 präsentiert die Messe im Dreispitz Sport- und Kulturzentrum in Kreuzlingen die neuesten Trends und Innovationen rund um Immobilien\, Bauen und Wohnen. \nInformationen für Besucher\nZahlreiche Aussteller informieren umfassend über Verkauf\, Vermietung und Kauf von Immobilien. Besucher erhalten von Spezialisten wertvolle Informationen und Beratung zu den Themen Bauen\, Renovieren und Umbauen. Finanzierungsexperten geben Einblicke in wichtige Aspekte beim Immobilienkauf und erstellen bei Bedarf individuelle Finanzierungsrechnungen. Das Angebot wird durch eine Vielzahl aktueller Miet- und Kaufobjekteabgerundet. Die Immozionale Thurgau\, deren Erstveranstaltung 2012 stattfand\, zog zuletzt 2.500 Besucher und 42 Aussteller auf einer Fläche von 1.000 m² an.
URL:https://bibisbo.de/event/immozionale-thurgau-2026-immobilien-baumesse-kreuzlingen/
LOCATION:Kreuzlingen Dreispitz Sport- und Kulturzentrum\, Pestalozzistrasse 17\, Kreuzungen\, 8280\, Switzerland
CATEGORIES:Kanton Thurgau,Kreuzlingen
END:VEVENT
END:VCALENDAR