BEGIN:VCALENDAR
VERSION:2.0
PRODID:-//BiBisBo - Veranstaltungen von Biberach bis Bodensee - ECPv6.15.20//NONSGML v1.0//EN
CALSCALE:GREGORIAN
METHOD:PUBLISH
X-WR-CALNAME:BiBisBo - Veranstaltungen von Biberach bis Bodensee
X-ORIGINAL-URL:https://bibisbo.de
X-WR-CALDESC:Veranstaltungen für BiBisBo - Veranstaltungen von Biberach bis Bodensee
REFRESH-INTERVAL;VALUE=DURATION:PT1H
X-Robots-Tag:noindex
X-PUBLISHED-TTL:PT1H
BEGIN:VTIMEZONE
TZID:Europe/Berlin
BEGIN:DAYLIGHT
TZOFFSETFROM:+0100
TZOFFSETTO:+0200
TZNAME:CEST
DTSTART:20240331T010000
END:DAYLIGHT
BEGIN:STANDARD
TZOFFSETFROM:+0200
TZOFFSETTO:+0100
TZNAME:CET
DTSTART:20241027T010000
END:STANDARD
BEGIN:DAYLIGHT
TZOFFSETFROM:+0100
TZOFFSETTO:+0200
TZNAME:CEST
DTSTART:20250330T010000
END:DAYLIGHT
BEGIN:STANDARD
TZOFFSETFROM:+0200
TZOFFSETTO:+0100
TZNAME:CET
DTSTART:20251026T010000
END:STANDARD
BEGIN:DAYLIGHT
TZOFFSETFROM:+0100
TZOFFSETTO:+0200
TZNAME:CEST
DTSTART:20260329T010000
END:DAYLIGHT
BEGIN:STANDARD
TZOFFSETFROM:+0200
TZOFFSETTO:+0100
TZNAME:CET
DTSTART:20261025T010000
END:STANDARD
END:VTIMEZONE
BEGIN:VEVENT
DTSTART;TZID=Europe/Berlin:20250920T090000
DTEND;TZID=Europe/Berlin:20250920T170000
DTSTAMP:20260424T053042
CREATED:20250406T205628Z
LAST-MODIFIED:20251007T070521Z
UID:1176-1758358800-1758387600@bibisbo.de
SUMMARY:World Cleanup Day Aulendorf 2025: Gemeinsam für eine saubere Stadt
DESCRIPTION:Am Samstag\, den 20. September 2025\, findet in Aulendorf der World Cleanup Day statt. Unter dem Motto „Stadtputzede“ ruft die Stadtverwaltung gemeinsam mit dem BUND e.V. alle Bürgerinnen und Bürger\, Kindergärten\, Schulen und Vereine zur aktiven Teilnahme auf. Ziel der Aktion ist es\, die Stadt gemeinsam von Müll und Unrat zu befreien und so ein Zeichen für eine saubere Umwelt zu setzen. \nAblauf und Treffpunkt\nDer Startschuss für die städtische Müllsammelaktion fällt um 9:00 Uhr am Städtischen Betriebshof\, Auf der Steige 62\, 88326 Aulendorf. Dort erfolgt die Ausgabe von Müllsäcken und Greifzangen sowie die Einteilung der Sammelgebiete. Wer ein bestimmtes Gebiet säubern möchte\, kann dies vor Ort mit dem Organisationsteam besprechen. Die Rückgabe der gefüllten Müllsäcke und der Greifzangen erfolgt bis 17:00 Uhr ebenfalls am Betriebshof. \nAm Samstag\, den 20. September 2025\, findet in Aulendorf der World Cleanup Day statt. Unter dem Motto „Stadtputzede“ ruft die Stadtverwaltung gemeinsam mit dem BUND e.V. alle Bürgerinnen und Bürger\, Kindergärten\, Schulen und Vereine zur aktiven Teilnahme auf. Ziel der Aktion ist es\, die Stadt gemeinsam von Müll und Unrat zu befreien und so ein Zeichen für eine saubere Umwelt zu setzen. \nAblauf und Treffpunkt\nDer Startschuss für die städtische Müllsammelaktion fällt um 9:00 Uhr am Städtischen Betriebshof\, Auf der Steige 62\, 88326 Aulendorf. Dort erfolgt die Ausgabe von Müllsäcken und Greifzangen sowie die Einteilung der Sammelgebiete. Wer ein bestimmtes Gebiet säubern möchte\, kann dies vor Ort mit dem Organisationsteam besprechen. Die Rückgabe der gefüllten Müllsäcke und der Greifzangen erfolgt bis 17:00 Uhr ebenfalls am Betriebshof. \nSonderaktion für Schulen und Kindergärten\nKindergärten und Schulen sind herzlich eingeladen\, sich in der Zeit vom 18. bis 22. September 2025 an der Aktion zu beteiligen. Die Schüler der 7. Klasse der Schule am Schlosspark haben bereits erfolgreich eine Putzede durchgeführt und damit einen tollen Beitrag geleistet. \nKontakt und weitere Informationen\nFür Rückfragen und weitere Informationen steht der BUND-Aulendorf unter der Mobilnummer 01736454673 oder per E-Mail unter bruno.sing(@)bund.net zur Verfügung. Die Stadtverwaltung und der BUND e.V. freuen sich auf eine rege Beteiligung und die Unterstützung zahlreicher Helferinnen und Helfer für ein sauberes Aulendorf.
URL:https://bibisbo.de/event/world-cleanup-day-aulendorf-2025/
LOCATION:Aulendorf Innenstadt\, Schloss Aulendorf\, Aulendorf\, 88326
CATEGORIES:Aulendorf,Landkreis Ravensburg
END:VEVENT
END:VCALENDAR