BEGIN:VCALENDAR
VERSION:2.0
PRODID:-//BiBisBo - Veranstaltungen von Biberach bis Bodensee - ECPv6.15.20//NONSGML v1.0//EN
CALSCALE:GREGORIAN
METHOD:PUBLISH
X-ORIGINAL-URL:https://bibisbo.de
X-WR-CALDESC:Veranstaltungen für BiBisBo - Veranstaltungen von Biberach bis Bodensee
REFRESH-INTERVAL;VALUE=DURATION:PT1H
X-Robots-Tag:noindex
X-PUBLISHED-TTL:PT1H
BEGIN:VTIMEZONE
TZID:Europe/Berlin
BEGIN:DAYLIGHT
TZOFFSETFROM:+0100
TZOFFSETTO:+0200
TZNAME:CEST
DTSTART:20240331T010000
END:DAYLIGHT
BEGIN:STANDARD
TZOFFSETFROM:+0200
TZOFFSETTO:+0100
TZNAME:CET
DTSTART:20241027T010000
END:STANDARD
BEGIN:DAYLIGHT
TZOFFSETFROM:+0100
TZOFFSETTO:+0200
TZNAME:CEST
DTSTART:20250330T010000
END:DAYLIGHT
BEGIN:STANDARD
TZOFFSETFROM:+0200
TZOFFSETTO:+0100
TZNAME:CET
DTSTART:20251026T010000
END:STANDARD
BEGIN:DAYLIGHT
TZOFFSETFROM:+0100
TZOFFSETTO:+0200
TZNAME:CEST
DTSTART:20260329T010000
END:DAYLIGHT
BEGIN:STANDARD
TZOFFSETFROM:+0200
TZOFFSETTO:+0100
TZNAME:CET
DTSTART:20261025T010000
END:STANDARD
END:VTIMEZONE
BEGIN:VEVENT
DTSTART;TZID=Europe/Berlin:20250912T000000
DTEND;TZID=Europe/Berlin:20250914T235959
DTSTAMP:20260426T005234
CREATED:20250401T143933Z
LAST-MODIFIED:20251007T070526Z
UID:336-1757635200-1757894399@bibisbo.de
SUMMARY:49. Bodensee-Weinfest Meersburg: Weingenuss am malerischen Schlossplatz (12.-14. September 2025)
DESCRIPTION:Erleben Sie die Vielfalt der Bodenseeweine beim traditionellen Weinfest in Meersburg! \nSeit fast einem halben Jahrhundert zieht das Bodensee-Weinfest in Meersburg Weinfreunde aus der Region und darüber hinaus an. Vom 12. bis 14. September 2025 verwandelt sich der historische Meersburger Schlossplatz erneut in ein Paradies für Genießer. Bei der 49. Ausgabe dieses beliebten Weinfestes haben Besucher die einzigartige Gelegenheit\, die erlesenen Weine vom Bodensee direkt von zahlreichen Weingütern zu probieren. \nWeinprobe und regionale Spezialitäten: \nDas Bodensee-Weinfest bietet eine hervorragende Plattform\, um die Vielfalt der Bodenseeweinkultur kennenzulernen. Neben den renommierten Meersburger Weingütern präsentieren auch Winzer aus den umliegenden Ortschaften ihre besten Tropfen. Nutzen Sie die drei Festtage\, von Freitag bis Sonntag\, um sich durch das breite Angebot an Bodenseewein zu kosten und neue Lieblingsweine zu entdecken. \nKulinarisch werden Sie auf dem Weinfest ebenfalls verwöhnt. Die Meersburger Bäcker\, Metzger und Fischer bieten köstliche Spezialitäten an\, die perfekt zu den regionalen Weinen passen. Freuen Sie sich unter anderem auf frischen Bodenseefisch und andere Leckereien. \nMusikalisches Rahmenprogramm für Jung und Alt: \nEin weiteres Highlight des Bodensee-Weinfestes ist das abwechslungsreiche musikalische Programm. Auf zwei Bühnen sorgen verschiedene Blaskapellen und Musikgruppen für beste Unterhaltung. Von traditioneller Blasmusik bis hin zu modernen Klängen ist für jeden Geschmack etwas dabei. Das bunte Programm begleitet die Besucher durch die Festtage und schafft eine gesellige Atmosphäre. \nTraditionelle Eröffnung und Frühschoppen: \nFeste Bestandteile des Weinfestes sind die traditionelle Eröffnung am Freitag um 16:45 Uhr\, die mit dem Einzug der Weinhoheiten\, Trachtengruppen\, dem Fanfarenzug und der Stadtkapelle Meersburg feierlich umrahmt wird. Am Sonntagvormittag lädt der traditionelle Weinfestfrühschoppen mit der Knabenmusik Meersburg zum gemütlichen Beisammensein ein. \nSpaß für die ganze Familie: \nAuch an die jüngsten Besucher des Bodensee-Weinfestes ist gedacht. Am Sonntag erwartet die Kinder bei den Kinderspielen ein buntes und abwechslungsreiches Programm\, sodass die ganze Familie einen schönen Tag auf dem Fest verbringen kann. \nSeien Sie dabei beim 49. Bodensee-Weinfest in Meersburg und genießen Sie Wein\, Kulinarik und Musik in einzigartiger Atmosphäre! \nProgramm-Highlights: \n\nFreitag: Eröffnung mit Weinhoheiten und musikalischer Begleitung\, Live-Musik mit der Stadtkapelle Meersburg und musikexpress.\nSamstag: Frühschoppen und musikalische Unterhaltung über den ganzen Tag verteilt mit verschiedenen Kapellen und Bands wie MV Lyra Unterstadion\, MV Navis\, Blaskapelle Seerausch und Zeebrass.\nSonntag: Traditioneller Weinfestfrühschoppen mit der Knabenmusik Meersburg\, musikalische Darbietungen des Bodensee Akkordeon-Orchesters Fiorini\, MV Daisendorf-Stetten und der Trachtenkapelle Oberuhldingen sowie Kinderspiele.\n\nProgramm des Bodensee-Weinfest in Meersburg am Bodensee 2025\nFreitag\, 12.09.2025 \nSchlossplatz\n16:45 – Eröffnung mit Einzug der Weinhoheiten\, Trachtengruppen\, Fanfarenzug\, Knabenmusik\n17:30-19:30 – Stadtkapelle Meersburg\n20:00-23:00 – musikexpress \nVorburggasse\n18:30-23:00 – Mucke Band \nSamstag\, 13.09.2025 \nSchlossplatz\n11:30-13:30 – MV Lyra Unterstadion\n14:00-16:00 – MV Navis\n16:30-18:30 – Blaskapelle Seerausch\n19:00-23:00 – Zeebrass \nVorburggasse\n13:00-15:30 – Bichelerkanten\n16:00-18:00 – Guut drauf! Musik\n18:30-23:00 – Schubänx \nSonntag\, 14.09.2025 \nSchlossplatz\n11:00-13:00 – Traditioneller Weinfestfrühschoppen mit der Knabenmusik Meersburg & Moderation von Reiner Jäckle\n13:30-15:30 – Bodensee Akkordeon-Orchester Fiorini\n16:00-18:00 – MV Daisendorf-Stetten\n18:30-21:30 – Trachtenkapelle Oberuhldingen \nVorburggasse\n14:30-17:30 – Lake Music\n18:00-22:00 – Partyduo Popcorn \n  \nHinweis: Änderungen im Programm sind vorbehalten.
URL:https://bibisbo.de/event/49-bodensee-weinfest-meersburg-weingenuss-am-malerischen-schlossplatz-12-14-september-2025/
LOCATION:Meersburg Innenstadt\, Schlossplatz\, Meersburg\, 88709\, Germany
CATEGORIES:Bodenseekreis,Meersburg
END:VEVENT
END:VCALENDAR