BEGIN:VCALENDAR
VERSION:2.0
PRODID:-//BiBisBo - Veranstaltungen von Biberach bis Bodensee - ECPv6.15.20//NONSGML v1.0//EN
CALSCALE:GREGORIAN
METHOD:PUBLISH
X-WR-CALNAME:BiBisBo - Veranstaltungen von Biberach bis Bodensee
X-ORIGINAL-URL:https://bibisbo.de
X-WR-CALDESC:Veranstaltungen für BiBisBo - Veranstaltungen von Biberach bis Bodensee
REFRESH-INTERVAL;VALUE=DURATION:PT1H
X-Robots-Tag:noindex
X-PUBLISHED-TTL:PT1H
BEGIN:VTIMEZONE
TZID:Europe/Berlin
BEGIN:DAYLIGHT
TZOFFSETFROM:+0100
TZOFFSETTO:+0200
TZNAME:CEST
DTSTART:20240331T010000
END:DAYLIGHT
BEGIN:STANDARD
TZOFFSETFROM:+0200
TZOFFSETTO:+0100
TZNAME:CET
DTSTART:20241027T010000
END:STANDARD
BEGIN:DAYLIGHT
TZOFFSETFROM:+0100
TZOFFSETTO:+0200
TZNAME:CEST
DTSTART:20250330T010000
END:DAYLIGHT
BEGIN:STANDARD
TZOFFSETFROM:+0200
TZOFFSETTO:+0100
TZNAME:CET
DTSTART:20251026T010000
END:STANDARD
BEGIN:DAYLIGHT
TZOFFSETFROM:+0100
TZOFFSETTO:+0200
TZNAME:CEST
DTSTART:20260329T010000
END:DAYLIGHT
BEGIN:STANDARD
TZOFFSETFROM:+0200
TZOFFSETTO:+0100
TZNAME:CET
DTSTART:20261025T010000
END:STANDARD
END:VTIMEZONE
BEGIN:VEVENT
DTSTART;TZID=Europe/Berlin:20250816T110000
DTEND;TZID=Europe/Berlin:20250817T230000
DTSTAMP:20260422T000120
CREATED:20250331T183751Z
LAST-MODIFIED:20251007T070540Z
UID:199-1755342000-1755471600@bibisbo.de
SUMMARY:Schloss- und Kinderfest Aulendorf: Ein Fest für die ganze Familie am 16. & 17. August 2025 mit Flohmarkt
DESCRIPTION:Das traditionelle Schloss- und Kinderfest in Aulendorf öffnet am Wochenende des 16. und 17. August seine Tore und lädt Groß und Klein zu einem unvergesslichen Erlebnis ein. Jeweils von 11:00 bis 23:00 Uhr verwandelt sich die Innenstadt rund um die Hauptstraße 35 (88326 Aulendorf) in eine lebendige Festmeile voller Attraktionen und Unterhaltung. \nEin Fest mit Geschichte und Tradition\nWas einst als kleines Kinderfest zur Unterstützung der Schlossrenovierung begann\, hat sich zu einem der beliebtesten Stadtfeste in der Region entwickelt. Das Schloss- und Kinderfest Aulendorf blickt auf eine lange Tradition zurück und zieht jedes Jahr zahlreiche Besucher an. Auch in diesem Jahr\, am dritten Augustwochenende\, verspricht das zweitägige Fest ein abwechslungsreiches Programm für die ganze Familie. \nVielfältiges Programm für Jung und Alt\nDas Schloss- und Kinderfest bietet eine bunte Mischung aus Unterhaltung und Aktivitäten. Kinder dürfen sich auf einen bunten Vergnügungspark mit zahlreichen Fahrgeschäften und Spielmöglichkeiten freuen. Ein besonderes Augenmerk liegt auf dem abwechslungsreichen Kinderprogramm\, das für strahlende Gesichter sorgt. \nEin Highlight des Festes sind die zahlreichen Bewirtungsstände der Aulendorfer Vereine. Entlang des Schlossplatzes und der Hauptstraße laden sie zum Verweilen ein und bieten eine vielfältige Auswahl an regionalen und internationalen Spezialitäten sowie erfrischenden Getränken. Oftmals wird die gemütliche Atmosphäre durch musikalische Darbietungen untermalt. \nDer beliebte Flohmarkt in der Innenstadt\nEin fester Bestandteil des Schloss- und Kinderfestes ist der weitläufige Flohmarkt\, der sich durch die gesamte Innenstadt von Aulendorf schlängelt. Entlang der Hauptstraße\, Bachstraße und Kolpingstraße bieten zahlreiche Händler ihre Waren an. Hier können Besucher nach Herzenslust stöbern\, feilschen und einzigartige Schätze entdecken. Ein speziell reservierter Bereich des Flohmarkts ist ausschließlich Kindern vorbehalten. \nLive-Musik und geselliges Beisammensein\nNeben den zahlreichen Attraktionen und kulinarischen Genüssen sorgt ein abwechslungsreiches Live-Musik Programm für beste Unterhaltung am Abend. Auf verschiedenen Bühnen treten Bands und Künstler auf und laden zum Tanzen und Feiern ein. Das Schloss- und Kinderfest Aulendorf ist somit der ideale Ort\, um ein geselliges Wochenende mit Freunden und Familie zu verbringen. \nVerpassen Sie nicht das Schloss- und Kinderfest am 16. und 17. August in Aulendorf – ein Fest für alle Generationen!
URL:https://bibisbo.de/event/schloss-und-kinderfest-aulendorf-ein-fest-fuer-die-ganze-familie-am-16-17-august-2025-mit-flohmarkt/
LOCATION:Aulendorf Innenstadt\, Schloss Aulendorf\, Aulendorf\, 88326
CATEGORIES:Aulendorf
END:VEVENT
END:VCALENDAR