BEGIN:VCALENDAR
VERSION:2.0
PRODID:-//BiBisBo - Veranstaltungen von Biberach bis Bodensee - ECPv6.15.20//NONSGML v1.0//EN
CALSCALE:GREGORIAN
METHOD:PUBLISH
X-ORIGINAL-URL:https://bibisbo.de
X-WR-CALDESC:Veranstaltungen für BiBisBo - Veranstaltungen von Biberach bis Bodensee
REFRESH-INTERVAL;VALUE=DURATION:PT1H
X-Robots-Tag:noindex
X-PUBLISHED-TTL:PT1H
BEGIN:VTIMEZONE
TZID:Europe/Berlin
BEGIN:DAYLIGHT
TZOFFSETFROM:+0100
TZOFFSETTO:+0200
TZNAME:CEST
DTSTART:20240331T010000
END:DAYLIGHT
BEGIN:STANDARD
TZOFFSETFROM:+0200
TZOFFSETTO:+0100
TZNAME:CET
DTSTART:20241027T010000
END:STANDARD
BEGIN:DAYLIGHT
TZOFFSETFROM:+0100
TZOFFSETTO:+0200
TZNAME:CEST
DTSTART:20250330T010000
END:DAYLIGHT
BEGIN:STANDARD
TZOFFSETFROM:+0200
TZOFFSETTO:+0100
TZNAME:CET
DTSTART:20251026T010000
END:STANDARD
BEGIN:DAYLIGHT
TZOFFSETFROM:+0100
TZOFFSETTO:+0200
TZNAME:CEST
DTSTART:20260329T010000
END:DAYLIGHT
BEGIN:STANDARD
TZOFFSETFROM:+0200
TZOFFSETTO:+0100
TZNAME:CET
DTSTART:20261025T010000
END:STANDARD
END:VTIMEZONE
BEGIN:VEVENT
DTSTART;TZID=Europe/Berlin:20251213T160000
DTEND;TZID=Europe/Berlin:20251213T210000
DTSTAMP:20260421T001548
CREATED:20251006T121156Z
LAST-MODIFIED:20251029T150042Z
UID:2595-1765641600-1765659600@bibisbo.de
SUMMARY:Weihnachtsmarkt Ertingen-Erisdorf 2025
DESCRIPTION:Am Samstag\, den 13. Dezember 2025\, lädt die Dorfgemeinschaft zum charmanten Weihnachtsmarkt Erisdorf ein. Organisiert von den Erisdorfer Vereinen\, findet der Markt in der Ortsmitte Erisdorf (Hauptstraße Ertingen) statt und verspricht eine gemütliche\, familiäre Atmosphäre. Besucher können sich auf liebevoll dekorierte Stände\, handgefertigte Geschenke und festliche Leckereien freuen. Erleben Sie die vorweihnachtliche Stimmung und unterstützen Sie die lokalen Vereine. Ein idealer Ausflug\, um die Adventszeit zu genießen. Entdecken Sie weitere Termine für Weihnachtsmärkte in der Region. \nVeranstaltungsdetails \nDatum: 13. Dezember 2025 \nOrt: Ortsmitte Erisdorf\, Hauptstraße Ertingen \nVeranstalter: Erisdorfer Vereine
URL:https://bibisbo.de/event/weihnachtsmarkt-ertingen-erisdorf-2025/
LOCATION:Erisdorf\, Hauptstraße\, Ertingen\, 88521
CATEGORIES:Ertingen,Landkreis Biberach
END:VEVENT
END:VCALENDAR